BEGIN:VCALENDAR
VERSION:2.0
PRODID:-//Knowle West Community - ECPv6.15.17//NONSGML v1.0//EN
CALSCALE:GREGORIAN
METHOD:PUBLISH
X-ORIGINAL-URL:https://www.knowlewest.co.uk
X-WR-CALDESC:Events for Knowle West Community
REFRESH-INTERVAL;VALUE=DURATION:PT1H
X-Robots-Tag:noindex
X-PUBLISHED-TTL:PT1H
BEGIN:VTIMEZONE
TZID:Europe/London
BEGIN:DAYLIGHT
TZOFFSETFROM:+0000
TZOFFSETTO:+0100
TZNAME:BST
DTSTART:20240331T010000
END:DAYLIGHT
BEGIN:STANDARD
TZOFFSETFROM:+0100
TZOFFSETTO:+0000
TZNAME:GMT
DTSTART:20241027T010000
END:STANDARD
BEGIN:DAYLIGHT
TZOFFSETFROM:+0000
TZOFFSETTO:+0100
TZNAME:BST
DTSTART:20250330T010000
END:DAYLIGHT
BEGIN:STANDARD
TZOFFSETFROM:+0100
TZOFFSETTO:+0000
TZNAME:GMT
DTSTART:20251026T010000
END:STANDARD
BEGIN:DAYLIGHT
TZOFFSETFROM:+0000
TZOFFSETTO:+0100
TZNAME:BST
DTSTART:20260329T010000
END:DAYLIGHT
BEGIN:STANDARD
TZOFFSETFROM:+0100
TZOFFSETTO:+0000
TZNAME:GMT
DTSTART:20261025T010000
END:STANDARD
BEGIN:DAYLIGHT
TZOFFSETFROM:+0000
TZOFFSETTO:+0100
TZNAME:BST
DTSTART:20270328T010000
END:DAYLIGHT
BEGIN:STANDARD
TZOFFSETFROM:+0100
TZOFFSETTO:+0000
TZNAME:GMT
DTSTART:20271031T010000
END:STANDARD
END:VTIMEZONE
BEGIN:VEVENT
DTSTART;TZID=Europe/London:20250424T123000
DTEND;TZID=Europe/London:20260304T133000
DTSTAMP:20260420T181046
CREATED:20230720T173927Z
LAST-MODIFIED:20251023T155007Z
UID:10004540-1745497800-1772631000@www.knowlewest.co.uk
SUMMARY:Food Club
DESCRIPTION:Family Action has launched Food On Our Doorstep (FOOD) clubs in Bristol and the SW to provide families with good-quality food at a low cost\, while also reducing food waste.\nIt costs just £1 a year for your family to become a member. Once you’ve joined\, you can purchase a bag of tasty food items for just £3.50 every week (worth approximately £15).\nTo become a member you must live or work within 15 minutes of the club. \nInns Court Community Centre\, Marshall Walk\, Knowle\, BS4 1TR\nFriday 1.30-3pm \nTo find out more\, please email\nbr**************@***************rg.uk
URL:https://www.knowlewest.co.uk/whats-on/food-club-2/2025-04-24/
CATEGORIES:Families,Social Action,Wellbeing
ATTACH;FMTTYPE=:
END:VEVENT
BEGIN:VEVENT
DTSTART;TZID=Europe/London:20250501T123000
DTEND;TZID=Europe/London:20260311T133000
DTSTAMP:20260420T181046
CREATED:20230720T173927Z
LAST-MODIFIED:20251023T155007Z
UID:10004541-1746102600-1773235800@www.knowlewest.co.uk
SUMMARY:Food Club
DESCRIPTION:Family Action has launched Food On Our Doorstep (FOOD) clubs in Bristol and the SW to provide families with good-quality food at a low cost\, while also reducing food waste.\nIt costs just £1 a year for your family to become a member. Once you’ve joined\, you can purchase a bag of tasty food items for just £3.50 every week (worth approximately £15).\nTo become a member you must live or work within 15 minutes of the club. \nInns Court Community Centre\, Marshall Walk\, Knowle\, BS4 1TR\nFriday 1.30-3pm \nTo find out more\, please email\nbr**************@***************rg.uk
URL:https://www.knowlewest.co.uk/whats-on/food-club-2/2025-05-01/
CATEGORIES:Families,Social Action,Wellbeing
ATTACH;FMTTYPE=:
END:VEVENT
BEGIN:VEVENT
DTSTART;TZID=Europe/London:20250508T123000
DTEND;TZID=Europe/London:20260318T133000
DTSTAMP:20260420T181046
CREATED:20230720T173927Z
LAST-MODIFIED:20251023T155007Z
UID:10004542-1746707400-1773840600@www.knowlewest.co.uk
SUMMARY:Food Club
DESCRIPTION:Family Action has launched Food On Our Doorstep (FOOD) clubs in Bristol and the SW to provide families with good-quality food at a low cost\, while also reducing food waste.\nIt costs just £1 a year for your family to become a member. Once you’ve joined\, you can purchase a bag of tasty food items for just £3.50 every week (worth approximately £15).\nTo become a member you must live or work within 15 minutes of the club. \nInns Court Community Centre\, Marshall Walk\, Knowle\, BS4 1TR\nFriday 1.30-3pm \nTo find out more\, please email\nbr**************@***************rg.uk
URL:https://www.knowlewest.co.uk/whats-on/food-club-2/2025-05-08/
CATEGORIES:Families,Social Action,Wellbeing
ATTACH;FMTTYPE=:
END:VEVENT
BEGIN:VEVENT
DTSTART;TZID=Europe/London:20250515T123000
DTEND;TZID=Europe/London:20260325T133000
DTSTAMP:20260420T181046
CREATED:20230720T173927Z
LAST-MODIFIED:20251023T155007Z
UID:10004543-1747312200-1774445400@www.knowlewest.co.uk
SUMMARY:Food Club
DESCRIPTION:Family Action has launched Food On Our Doorstep (FOOD) clubs in Bristol and the SW to provide families with good-quality food at a low cost\, while also reducing food waste.\nIt costs just £1 a year for your family to become a member. Once you’ve joined\, you can purchase a bag of tasty food items for just £3.50 every week (worth approximately £15).\nTo become a member you must live or work within 15 minutes of the club. \nInns Court Community Centre\, Marshall Walk\, Knowle\, BS4 1TR\nFriday 1.30-3pm \nTo find out more\, please email\nbr**************@***************rg.uk
URL:https://www.knowlewest.co.uk/whats-on/food-club-2/2025-05-15/
CATEGORIES:Families,Social Action,Wellbeing
ATTACH;FMTTYPE=:
END:VEVENT
BEGIN:VEVENT
DTSTART;TZID=Europe/London:20250523T123000
DTEND;TZID=Europe/London:20260402T143000
DTSTAMP:20260420T181046
CREATED:20251023T155121Z
LAST-MODIFIED:20251023T155121Z
UID:10004544-1748003400-1775140200@www.knowlewest.co.uk
SUMMARY:Food Club
DESCRIPTION:Family Action has launched Food On Our Doorstep (FOOD) clubs in Bristol and the SW to provide families with good-quality food at a low cost\, while also reducing food waste.\nIt costs just £1 a year for your family to become a member. Once you’ve joined\, you can purchase a bag of tasty food items for just £3.50 every week (worth approximately £15).\nTo become a member you must live or work within 15 minutes of the club. \nInns Court Community Centre\, Marshall Walk\, Knowle\, BS4 1TR\nFriday 1.30-3pm \nTo find out more\, please email\nbr**************@***************rg.uk
URL:https://www.knowlewest.co.uk/whats-on/food-club-2-2/
CATEGORIES:Families,Social Action,Wellbeing
ATTACH;FMTTYPE=:
END:VEVENT
BEGIN:VEVENT
DTSTART;TZID=Europe/London:20260310T110000
DTEND;TZID=Europe/London:20260310T120000
DTSTAMP:20260420T181046
CREATED:20241106T112246Z
LAST-MODIFIED:20241106T112247Z
UID:10008920-1773140400-1773144000@www.knowlewest.co.uk
SUMMARY:Goldies Sing & Smile UK
DESCRIPTION:A good old singalong\, we are not a choir. £3 donation. 2nd Tuesday each month 11am-12pm with Emma Smallwood at Inns Court Community & Family Centre\, free parking available.  \nNeed help to get there\, call Sprint Community Transport 01179 048215. \nwww.golden-oldies.org.uk\, 01761 470 006 \nPatron: Sir Cliff Richard
URL:https://www.knowlewest.co.uk/whats-on/goldies-sing-smile-uk-2/2026-03-10/
CATEGORIES:All Ages,Everyone is welcome,Music,Wellbeing
ATTACH;FMTTYPE=image/jpeg:https://www.knowlewest.co.uk/wp-content/uploads/2023/08/Golden-Oldies.jpg
END:VEVENT
END:VCALENDAR