BEGIN:VCALENDAR
VERSION:2.0
PRODID:-//Knowle West Community - ECPv6.15.17//NONSGML v1.0//EN
CALSCALE:GREGORIAN
METHOD:PUBLISH
X-WR-CALNAME:Knowle West Community
X-ORIGINAL-URL:https://www.knowlewest.co.uk
X-WR-CALDESC:Events for Knowle West Community
REFRESH-INTERVAL;VALUE=DURATION:PT1H
X-Robots-Tag:noindex
X-PUBLISHED-TTL:PT1H
BEGIN:VTIMEZONE
TZID:Europe/London
BEGIN:DAYLIGHT
TZOFFSETFROM:+0000
TZOFFSETTO:+0100
TZNAME:BST
DTSTART:20240331T010000
END:DAYLIGHT
BEGIN:STANDARD
TZOFFSETFROM:+0100
TZOFFSETTO:+0000
TZNAME:GMT
DTSTART:20241027T010000
END:STANDARD
BEGIN:DAYLIGHT
TZOFFSETFROM:+0000
TZOFFSETTO:+0100
TZNAME:BST
DTSTART:20250330T010000
END:DAYLIGHT
BEGIN:STANDARD
TZOFFSETFROM:+0100
TZOFFSETTO:+0000
TZNAME:GMT
DTSTART:20251026T010000
END:STANDARD
BEGIN:DAYLIGHT
TZOFFSETFROM:+0000
TZOFFSETTO:+0100
TZNAME:BST
DTSTART:20260329T010000
END:DAYLIGHT
BEGIN:STANDARD
TZOFFSETFROM:+0100
TZOFFSETTO:+0000
TZNAME:GMT
DTSTART:20261025T010000
END:STANDARD
END:VTIMEZONE
BEGIN:VEVENT
DTSTART;TZID=Europe/London:20250520T090000
DTEND;TZID=Europe/London:20250520T160000
DTSTAMP:20260425T104353
CREATED:20230823T121143Z
LAST-MODIFIED:20230823T121257Z
UID:10003028-1747731600-1747756800@www.knowlewest.co.uk
SUMMARY:Boing! 0-5yrs Soft Play
DESCRIPTION:Term Time Only. \nMonday – Friday 9am-4pm\, Saturday 9am-6.15pm \nStandard 2 hour session\, £3 online reservation fee; plus £1 per adult/child upon entry (under 6 months free).\nFor full details and to book go to www.iccfc.co.uk/boinginnscourt \nStandard session:\nA relaxed\, unstructured session for parents/carers of 0-5 year olds. Our softplay will provide a fun space for the children\, whilst parents/carers can have some respite\, play with your children and/or meet others over a hot drink\, snack or meal from our affordable cafe. Each booking is for a maximum of 4 people including children (but not including children under 6 months of age). \nWe also run optional organised activities as well as sessions specifically aimed at child minders\, young parents\, foster carers and adoptive parents and their children. \nSchool Meet Ups. Each year we run a programme for each local school. A relaxed\, unstructured session for parents/carers of Reception Starters\, providing a fun space for the children to meet and play together\, whilst parents/carers can have some respite\, talk about the upcoming change and share information. \nCelebrate and have extra fun on particular days\, watch this space and or our Facebook and Instagram pages for further details. \nBoing! Inns Court Party  A full description of our Boing! Inns Court Parties service appears on our website. \n  \n                    \n 
URL:https://www.knowlewest.co.uk/whats-on/boing-0-5yrs-soft-play/2025-05-20/
CATEGORIES:Carers,Children,Day Time,Families,Food,Mums and Babies,Mums and toddlers,Parent and baby,Parent and toddler,Parents,South Bristol parents
ATTACH;FMTTYPE=:
END:VEVENT
END:VCALENDAR