BEGIN:VCALENDAR
VERSION:2.0
PRODID:-//Knowle West Community - ECPv6.15.17//NONSGML v1.0//EN
CALSCALE:GREGORIAN
METHOD:PUBLISH
X-WR-CALNAME:Knowle West Community
X-ORIGINAL-URL:https://www.knowlewest.co.uk
X-WR-CALDESC:Events for Knowle West Community
REFRESH-INTERVAL;VALUE=DURATION:PT1H
X-Robots-Tag:noindex
X-PUBLISHED-TTL:PT1H
BEGIN:VTIMEZONE
TZID:UTC
BEGIN:STANDARD
TZOFFSETFROM:+0000
TZOFFSETTO:+0000
TZNAME:UTC
DTSTART:20250101T000000
END:STANDARD
END:VTIMEZONE
BEGIN:VEVENT
DTSTART;TZID=UTC:20260331T133000
DTEND;TZID=UTC:20260331T153000
DTSTAMP:20260424T144113
CREATED:20260105T151614Z
LAST-MODIFIED:20260105T151614Z
UID:10015375-1774963800-1774971000@www.knowlewest.co.uk
SUMMARY:Circus Skills Classes
DESCRIPTION:Come and have fun learning some new skills\, get some gentle exercise and meet some new friends! Our top teachers from Circomedia will guide you through the world of juggling\, hula hooping\, diablo and more. Suitable for all abilities.
URL:https://www.knowlewest.co.uk/whats-on/circus-skills-classes/2026-03-31/
LOCATION:Knowle West Healthy Living Centre\, Downton Road\, Bristol\, BS4 1WH\, United Kingdom
CATEGORIES:Active,Adults,Day Time,Learning,Over 50s
ATTACH;FMTTYPE=image/png:https://www.knowlewest.co.uk/wp-content/uploads/2026/01/Circus-Skills-Jan-2026-flier.png
END:VEVENT
END:VCALENDAR