BEGIN:VCALENDAR
VERSION:2.0
PRODID:-//Knowle West Community - ECPv6.15.17//NONSGML v1.0//EN
CALSCALE:GREGORIAN
METHOD:PUBLISH
X-ORIGINAL-URL:https://www.knowlewest.co.uk
X-WR-CALDESC:Events for Knowle West Community
REFRESH-INTERVAL;VALUE=DURATION:PT1H
X-Robots-Tag:noindex
X-PUBLISHED-TTL:PT1H
BEGIN:VTIMEZONE
TZID:UTC
BEGIN:STANDARD
TZOFFSETFROM:+0000
TZOFFSETTO:+0000
TZNAME:UTC
DTSTART:20250101T000000
END:STANDARD
END:VTIMEZONE
BEGIN:VEVENT
DTSTART;TZID=UTC:20260324T133000
DTEND;TZID=UTC:20260324T153000
DTSTAMP:20260424T160635
CREATED:20250107T113213Z
LAST-MODIFIED:20250107T113213Z
UID:10009844-1774359000-1774366200@www.knowlewest.co.uk
SUMMARY:Circus Skills
DESCRIPTION:Circus Skills classes are back! We have three 8 week course booked in for 2025\, the first one starts on 4th February and will run for 8 weeks from then. 1.30-3.30pm here at the Knowle West Healthy Living Centre. People do need to book their place\, each session is £5 and although it’s aimed at over 50s we won’t turn people away if they’re younger!!!
URL:https://www.knowlewest.co.uk/whats-on/circus-skills/2026-03-24/
LOCATION:Knowle West Healthy Living Centre\, Downton Road\, Bristol\, BS4 1WH\, United Kingdom
CATEGORIES:Adults,Community,Day Time,Free Activity,Over 50s,Recurring event
ATTACH;FMTTYPE=image/png:https://www.knowlewest.co.uk/wp-content/uploads/2025/01/Circus-Skills-Flyer-2025.png
END:VEVENT
BEGIN:VEVENT
DTSTART;TZID=UTC:20260324T133000
DTEND;TZID=UTC:20260324T153000
DTSTAMP:20260424T160635
CREATED:20260105T151614Z
LAST-MODIFIED:20260105T151614Z
UID:10015374-1774359000-1774366200@www.knowlewest.co.uk
SUMMARY:Circus Skills Classes
DESCRIPTION:Come and have fun learning some new skills\, get some gentle exercise and meet some new friends! Our top teachers from Circomedia will guide you through the world of juggling\, hula hooping\, diablo and more. Suitable for all abilities.
URL:https://www.knowlewest.co.uk/whats-on/circus-skills-classes/2026-03-24/
LOCATION:Knowle West Healthy Living Centre\, Downton Road\, Bristol\, BS4 1WH\, United Kingdom
CATEGORIES:Active,Adults,Day Time,Learning,Over 50s
ATTACH;FMTTYPE=image/png:https://www.knowlewest.co.uk/wp-content/uploads/2026/01/Circus-Skills-Jan-2026-flier.png
END:VEVENT
END:VCALENDAR