BEGIN:VCALENDAR
VERSION:2.0
PRODID:-//Knowle West Community - ECPv6.15.17//NONSGML v1.0//EN
CALSCALE:GREGORIAN
METHOD:PUBLISH
X-WR-CALNAME:Knowle West Community
X-ORIGINAL-URL:https://www.knowlewest.co.uk
X-WR-CALDESC:Events for Knowle West Community
REFRESH-INTERVAL;VALUE=DURATION:PT1H
X-Robots-Tag:noindex
X-PUBLISHED-TTL:PT1H
BEGIN:VTIMEZONE
TZID:Europe/London
BEGIN:DAYLIGHT
TZOFFSETFROM:+0000
TZOFFSETTO:+0100
TZNAME:BST
DTSTART:20240331T010000
END:DAYLIGHT
BEGIN:STANDARD
TZOFFSETFROM:+0100
TZOFFSETTO:+0000
TZNAME:GMT
DTSTART:20241027T010000
END:STANDARD
BEGIN:DAYLIGHT
TZOFFSETFROM:+0000
TZOFFSETTO:+0100
TZNAME:BST
DTSTART:20250330T010000
END:DAYLIGHT
BEGIN:STANDARD
TZOFFSETFROM:+0100
TZOFFSETTO:+0000
TZNAME:GMT
DTSTART:20251026T010000
END:STANDARD
BEGIN:DAYLIGHT
TZOFFSETFROM:+0000
TZOFFSETTO:+0100
TZNAME:BST
DTSTART:20260329T010000
END:DAYLIGHT
BEGIN:STANDARD
TZOFFSETFROM:+0100
TZOFFSETTO:+0000
TZNAME:GMT
DTSTART:20261025T010000
END:STANDARD
END:VTIMEZONE
BEGIN:VTIMEZONE
TZID:UTC
BEGIN:STANDARD
TZOFFSETFROM:+0000
TZOFFSETTO:+0000
TZNAME:UTC
DTSTART:20240101T000000
END:STANDARD
END:VTIMEZONE
BEGIN:VEVENT
DTSTART;TZID=Europe/London:20251209T110000
DTEND;TZID=Europe/London:20251209T120000
DTSTAMP:20260425T031052
CREATED:20241106T112246Z
LAST-MODIFIED:20241106T112247Z
UID:10008917-1765278000-1765281600@www.knowlewest.co.uk
SUMMARY:Goldies Sing & Smile UK
DESCRIPTION:A good old singalong\, we are not a choir. £3 donation. 2nd Tuesday each month 11am-12pm with Emma Smallwood at Inns Court Community & Family Centre\, free parking available.  \nNeed help to get there\, call Sprint Community Transport 01179 048215. \nwww.golden-oldies.org.uk\, 01761 470 006 \nPatron: Sir Cliff Richard
URL:https://www.knowlewest.co.uk/whats-on/goldies-sing-smile-uk-2/2025-12-09/
CATEGORIES:All Ages,Everyone is welcome,Music,Wellbeing
ATTACH;FMTTYPE=image/jpeg:https://www.knowlewest.co.uk/wp-content/uploads/2023/08/Golden-Oldies.jpg
END:VEVENT
BEGIN:VEVENT
DTSTART;TZID=UTC:20251209T133000
DTEND;TZID=UTC:20251209T153000
DTSTAMP:20260425T031052
CREATED:20250107T113213Z
LAST-MODIFIED:20250107T113213Z
UID:10009829-1765287000-1765294200@www.knowlewest.co.uk
SUMMARY:Circus Skills
DESCRIPTION:Circus Skills classes are back! We have three 8 week course booked in for 2025\, the first one starts on 4th February and will run for 8 weeks from then. 1.30-3.30pm here at the Knowle West Healthy Living Centre. People do need to book their place\, each session is £5 and although it’s aimed at over 50s we won’t turn people away if they’re younger!!!
URL:https://www.knowlewest.co.uk/whats-on/circus-skills/2025-12-09/
LOCATION:Knowle West Healthy Living Centre\, Downton Road\, Bristol\, BS4 1WH\, United Kingdom
CATEGORIES:Adults,Community,Day Time,Free Activity,Over 50s,Recurring event
ATTACH;FMTTYPE=image/png:https://www.knowlewest.co.uk/wp-content/uploads/2025/01/Circus-Skills-Flyer-2025.png
END:VEVENT
END:VCALENDAR