BEGIN:VCALENDAR
VERSION:2.0
PRODID:-//Knowle West Community - ECPv6.15.17//NONSGML v1.0//EN
CALSCALE:GREGORIAN
METHOD:PUBLISH
X-WR-CALNAME:Knowle West Community
X-ORIGINAL-URL:https://www.knowlewest.co.uk
X-WR-CALDESC:Events for Knowle West Community
REFRESH-INTERVAL;VALUE=DURATION:PT1H
X-Robots-Tag:noindex
X-PUBLISHED-TTL:PT1H
BEGIN:VTIMEZONE
TZID:UTC
BEGIN:STANDARD
TZOFFSETFROM:+0000
TZOFFSETTO:+0000
TZNAME:UTC
DTSTART:20240101T000000
END:STANDARD
END:VTIMEZONE
BEGIN:VTIMEZONE
TZID:Europe/London
BEGIN:DAYLIGHT
TZOFFSETFROM:+0000
TZOFFSETTO:+0100
TZNAME:BST
DTSTART:20240331T010000
END:DAYLIGHT
BEGIN:STANDARD
TZOFFSETFROM:+0100
TZOFFSETTO:+0000
TZNAME:GMT
DTSTART:20241027T010000
END:STANDARD
BEGIN:DAYLIGHT
TZOFFSETFROM:+0000
TZOFFSETTO:+0100
TZNAME:BST
DTSTART:20250330T010000
END:DAYLIGHT
BEGIN:STANDARD
TZOFFSETFROM:+0100
TZOFFSETTO:+0000
TZNAME:GMT
DTSTART:20251026T010000
END:STANDARD
BEGIN:DAYLIGHT
TZOFFSETFROM:+0000
TZOFFSETTO:+0100
TZNAME:BST
DTSTART:20260329T010000
END:DAYLIGHT
BEGIN:STANDARD
TZOFFSETFROM:+0100
TZOFFSETTO:+0000
TZNAME:GMT
DTSTART:20261025T010000
END:STANDARD
END:VTIMEZONE
BEGIN:VEVENT
DTSTART;TZID=UTC:20251104T133000
DTEND;TZID=UTC:20251104T153000
DTSTAMP:20260425T030925
CREATED:20250107T113213Z
LAST-MODIFIED:20250107T113213Z
UID:10009824-1762263000-1762270200@www.knowlewest.co.uk
SUMMARY:Circus Skills
DESCRIPTION:Circus Skills classes are back! We have three 8 week course booked in for 2025\, the first one starts on 4th February and will run for 8 weeks from then. 1.30-3.30pm here at the Knowle West Healthy Living Centre. People do need to book their place\, each session is £5 and although it’s aimed at over 50s we won’t turn people away if they’re younger!!!
URL:https://www.knowlewest.co.uk/whats-on/circus-skills/2025-11-04/
LOCATION:Knowle West Healthy Living Centre\, Downton Road\, Bristol\, BS4 1WH\, United Kingdom
CATEGORIES:Adults,Community,Day Time,Free Activity,Over 50s,Recurring event
ATTACH;FMTTYPE=image/png:https://www.knowlewest.co.uk/wp-content/uploads/2025/01/Circus-Skills-Flyer-2025.png
END:VEVENT
BEGIN:VEVENT
DTSTART;TZID=Europe/London:20251111T110000
DTEND;TZID=Europe/London:20251111T120000
DTSTAMP:20260425T030925
CREATED:20241106T112246Z
LAST-MODIFIED:20241106T112247Z
UID:10008916-1762858800-1762862400@www.knowlewest.co.uk
SUMMARY:Goldies Sing & Smile UK
DESCRIPTION:A good old singalong\, we are not a choir. £3 donation. 2nd Tuesday each month 11am-12pm with Emma Smallwood at Inns Court Community & Family Centre\, free parking available.  \nNeed help to get there\, call Sprint Community Transport 01179 048215. \nwww.golden-oldies.org.uk\, 01761 470 006 \nPatron: Sir Cliff Richard
URL:https://www.knowlewest.co.uk/whats-on/goldies-sing-smile-uk-2/2025-11-11/
CATEGORIES:All Ages,Everyone is welcome,Music,Wellbeing
ATTACH;FMTTYPE=image/jpeg:https://www.knowlewest.co.uk/wp-content/uploads/2023/08/Golden-Oldies.jpg
END:VEVENT
BEGIN:VEVENT
DTSTART;TZID=UTC:20251111T133000
DTEND;TZID=UTC:20251111T153000
DTSTAMP:20260425T030925
CREATED:20250107T113213Z
LAST-MODIFIED:20250107T113213Z
UID:10009825-1762867800-1762875000@www.knowlewest.co.uk
SUMMARY:Circus Skills
DESCRIPTION:Circus Skills classes are back! We have three 8 week course booked in for 2025\, the first one starts on 4th February and will run for 8 weeks from then. 1.30-3.30pm here at the Knowle West Healthy Living Centre. People do need to book their place\, each session is £5 and although it’s aimed at over 50s we won’t turn people away if they’re younger!!!
URL:https://www.knowlewest.co.uk/whats-on/circus-skills/2025-11-11/
LOCATION:Knowle West Healthy Living Centre\, Downton Road\, Bristol\, BS4 1WH\, United Kingdom
CATEGORIES:Adults,Community,Day Time,Free Activity,Over 50s,Recurring event
ATTACH;FMTTYPE=image/png:https://www.knowlewest.co.uk/wp-content/uploads/2025/01/Circus-Skills-Flyer-2025.png
END:VEVENT
BEGIN:VEVENT
DTSTART;TZID=UTC:20251111T140000
DTEND;TZID=UTC:20251111T160000
DTSTAMP:20260425T030925
CREATED:20251103T154005Z
LAST-MODIFIED:20251103T154005Z
UID:10015067-1762869600-1762876800@www.knowlewest.co.uk
SUMMARY:Daytime Boogie
DESCRIPTION:Come and join our daytime disco! Our local DJ Dan will be playing tunes from the 50s-80s and there will be refreshments provided. If you don’t want to dance you can just soak up the fun atmosphere. Entry is £3 on the door and includes refreshments
URL:https://www.knowlewest.co.uk/whats-on/daytime-boogie/
LOCATION:Knowle West Healthy Living Centre\, Downton Road\, Bristol\, BS4 1WH\, United Kingdom
CATEGORIES:Adults,Community,Day Time,Music,Over 50s,Social
ATTACH;FMTTYPE=image/png:https://www.knowlewest.co.uk/wp-content/uploads/2025/11/Disco-poster-Nov-2025.png
END:VEVENT
BEGIN:VEVENT
DTSTART;TZID=UTC:20251118T133000
DTEND;TZID=UTC:20251118T153000
DTSTAMP:20260425T030925
CREATED:20250107T113213Z
LAST-MODIFIED:20250107T113213Z
UID:10009826-1763472600-1763479800@www.knowlewest.co.uk
SUMMARY:Circus Skills
DESCRIPTION:Circus Skills classes are back! We have three 8 week course booked in for 2025\, the first one starts on 4th February and will run for 8 weeks from then. 1.30-3.30pm here at the Knowle West Healthy Living Centre. People do need to book their place\, each session is £5 and although it’s aimed at over 50s we won’t turn people away if they’re younger!!!
URL:https://www.knowlewest.co.uk/whats-on/circus-skills/2025-11-18/
LOCATION:Knowle West Healthy Living Centre\, Downton Road\, Bristol\, BS4 1WH\, United Kingdom
CATEGORIES:Adults,Community,Day Time,Free Activity,Over 50s,Recurring event
ATTACH;FMTTYPE=image/png:https://www.knowlewest.co.uk/wp-content/uploads/2025/01/Circus-Skills-Flyer-2025.png
END:VEVENT
BEGIN:VEVENT
DTSTART;TZID=UTC:20251119T093000
DTEND;TZID=UTC:20251119T123000
DTSTAMP:20260425T030926
CREATED:20251105T115304Z
LAST-MODIFIED:20251105T115304Z
UID:10015071-1763544600-1763555400@www.knowlewest.co.uk
SUMMARY:Beginners Knit & Crochet Social
DESCRIPTION:Learn how to knit or crochet a simple square that can be repeated to make blanket or scarf. Learn something new in a friendly relaxed environment. All welcome. Needles\, hooks and yarn will be provided as well as tea\, coffee and homemade cake!
URL:https://www.knowlewest.co.uk/whats-on/beginners-knit-crochet-social/
LOCATION:Knowle West Healthy Living Centre\, Downton Road\, Bristol\, BS4 1WH\, United Kingdom
CATEGORIES:Adults,Day Time,Everyone is welcome,Free Activity,Learning
END:VEVENT
BEGIN:VEVENT
DTSTART;TZID=UTC:20251125T133000
DTEND;TZID=UTC:20251125T153000
DTSTAMP:20260425T030926
CREATED:20250107T113213Z
LAST-MODIFIED:20250107T113213Z
UID:10009827-1764077400-1764084600@www.knowlewest.co.uk
SUMMARY:Circus Skills
DESCRIPTION:Circus Skills classes are back! We have three 8 week course booked in for 2025\, the first one starts on 4th February and will run for 8 weeks from then. 1.30-3.30pm here at the Knowle West Healthy Living Centre. People do need to book their place\, each session is £5 and although it’s aimed at over 50s we won’t turn people away if they’re younger!!!
URL:https://www.knowlewest.co.uk/whats-on/circus-skills/2025-11-25/
LOCATION:Knowle West Healthy Living Centre\, Downton Road\, Bristol\, BS4 1WH\, United Kingdom
CATEGORIES:Adults,Community,Day Time,Free Activity,Over 50s,Recurring event
ATTACH;FMTTYPE=image/png:https://www.knowlewest.co.uk/wp-content/uploads/2025/01/Circus-Skills-Flyer-2025.png
END:VEVENT
END:VCALENDAR