BEGIN:VCALENDAR
VERSION:2.0
PRODID:-//Knowle West Community - ECPv6.15.17//NONSGML v1.0//EN
CALSCALE:GREGORIAN
METHOD:PUBLISH
X-WR-CALNAME:Knowle West Community
X-ORIGINAL-URL:https://www.knowlewest.co.uk
X-WR-CALDESC:Events for Knowle West Community
REFRESH-INTERVAL;VALUE=DURATION:PT1H
X-Robots-Tag:noindex
X-PUBLISHED-TTL:PT1H
BEGIN:VTIMEZONE
TZID:Europe/London
BEGIN:DAYLIGHT
TZOFFSETFROM:+0000
TZOFFSETTO:+0100
TZNAME:BST
DTSTART:20240331T010000
END:DAYLIGHT
BEGIN:STANDARD
TZOFFSETFROM:+0100
TZOFFSETTO:+0000
TZNAME:GMT
DTSTART:20241027T010000
END:STANDARD
BEGIN:DAYLIGHT
TZOFFSETFROM:+0000
TZOFFSETTO:+0100
TZNAME:BST
DTSTART:20250330T010000
END:DAYLIGHT
BEGIN:STANDARD
TZOFFSETFROM:+0100
TZOFFSETTO:+0000
TZNAME:GMT
DTSTART:20251026T010000
END:STANDARD
BEGIN:DAYLIGHT
TZOFFSETFROM:+0000
TZOFFSETTO:+0100
TZNAME:BST
DTSTART:20260329T010000
END:DAYLIGHT
BEGIN:STANDARD
TZOFFSETFROM:+0100
TZOFFSETTO:+0000
TZNAME:GMT
DTSTART:20261025T010000
END:STANDARD
BEGIN:DAYLIGHT
TZOFFSETFROM:+0000
TZOFFSETTO:+0100
TZNAME:BST
DTSTART:20270328T010000
END:DAYLIGHT
BEGIN:STANDARD
TZOFFSETFROM:+0100
TZOFFSETTO:+0000
TZNAME:GMT
DTSTART:20271031T010000
END:STANDARD
BEGIN:DAYLIGHT
TZOFFSETFROM:+0000
TZOFFSETTO:+0100
TZNAME:BST
DTSTART:20280326T010000
END:DAYLIGHT
BEGIN:STANDARD
TZOFFSETFROM:+0100
TZOFFSETTO:+0000
TZNAME:GMT
DTSTART:20281029T010000
END:STANDARD
END:VTIMEZONE
BEGIN:VTIMEZONE
TZID:UTC
BEGIN:STANDARD
TZOFFSETFROM:+0000
TZOFFSETTO:+0000
TZNAME:UTC
DTSTART:20240101T000000
END:STANDARD
END:VTIMEZONE
BEGIN:VEVENT
DTSTART;TZID=Europe/London:20250821T190000
DTEND;TZID=Europe/London:20270822T200000
DTSTAMP:20260421T070056
CREATED:20240525T135704Z
LAST-MODIFIED:20251023T160439Z
UID:10014692-1755802800-1818964800@www.knowlewest.co.uk
SUMMARY:Knowle Boxing Club
DESCRIPTION:About this event: Knowle Boxing Club is for male and females\, adults and children from 9 years + \nWhen: Mondays 7pm – 8.30pm and Thursdays 7-8pm. \nWhere: Sports Hall\, Filwood Community Centre\, Barnstaple Road\, Knowle West\, Bristol\, BS4 1JP \nPrice: Ask for details \nMore information: Call: Bobby 0777 577 3686
URL:https://www.knowlewest.co.uk/whats-on/boxing-club-2/2025-08-21/
CATEGORIES:All Ages,Everyone is welcome,Wellbeing
ATTACH;FMTTYPE=:
END:VEVENT
BEGIN:VEVENT
DTSTART;TZID=Europe/London:20250828T190000
DTEND;TZID=Europe/London:20270829T200000
DTSTAMP:20260421T070056
CREATED:20240525T135704Z
LAST-MODIFIED:20251023T160439Z
UID:10014693-1756407600-1819569600@www.knowlewest.co.uk
SUMMARY:Knowle Boxing Club
DESCRIPTION:About this event: Knowle Boxing Club is for male and females\, adults and children from 9 years + \nWhen: Mondays 7pm – 8.30pm and Thursdays 7-8pm. \nWhere: Sports Hall\, Filwood Community Centre\, Barnstaple Road\, Knowle West\, Bristol\, BS4 1JP \nPrice: Ask for details \nMore information: Call: Bobby 0777 577 3686
URL:https://www.knowlewest.co.uk/whats-on/boxing-club-2/2025-08-28/
CATEGORIES:All Ages,Everyone is welcome,Wellbeing
ATTACH;FMTTYPE=:
END:VEVENT
BEGIN:VEVENT
DTSTART;TZID=Europe/London:20250904T190000
DTEND;TZID=Europe/London:20270905T200000
DTSTAMP:20260421T070056
CREATED:20240525T135704Z
LAST-MODIFIED:20251023T160439Z
UID:10014694-1757012400-1820174400@www.knowlewest.co.uk
SUMMARY:Knowle Boxing Club
DESCRIPTION:About this event: Knowle Boxing Club is for male and females\, adults and children from 9 years + \nWhen: Mondays 7pm – 8.30pm and Thursdays 7-8pm. \nWhere: Sports Hall\, Filwood Community Centre\, Barnstaple Road\, Knowle West\, Bristol\, BS4 1JP \nPrice: Ask for details \nMore information: Call: Bobby 0777 577 3686
URL:https://www.knowlewest.co.uk/whats-on/boxing-club-2/2025-09-04/
CATEGORIES:All Ages,Everyone is welcome,Wellbeing
ATTACH;FMTTYPE=:
END:VEVENT
BEGIN:VEVENT
DTSTART;TZID=UTC:20250910T100000
DTEND;TZID=UTC:20260422T120000
DTSTAMP:20260421T070056
CREATED:20220810T144257Z
LAST-MODIFIED:20251023T154136Z
UID:10014380-1757498400-1776859200@www.knowlewest.co.uk
SUMMARY:ESOL / English language for everyday course
DESCRIPTION:Free\, weekly course to help you practice your English skills in reading\, writing and speaking. Learn with other adults in a friendly group.\nContact Lucy Fieldhouse on (m) 07788 353 446
URL:https://www.knowlewest.co.uk/whats-on/esol-english-language-for-everyday-course/2025-09-10/
ATTACH;FMTTYPE=:
END:VEVENT
BEGIN:VEVENT
DTSTART;TZID=Europe/London:20250911T190000
DTEND;TZID=Europe/London:20270912T200000
DTSTAMP:20260421T070056
CREATED:20240525T135704Z
LAST-MODIFIED:20251023T160439Z
UID:10014695-1757617200-1820779200@www.knowlewest.co.uk
SUMMARY:Knowle Boxing Club
DESCRIPTION:About this event: Knowle Boxing Club is for male and females\, adults and children from 9 years + \nWhen: Mondays 7pm – 8.30pm and Thursdays 7-8pm. \nWhere: Sports Hall\, Filwood Community Centre\, Barnstaple Road\, Knowle West\, Bristol\, BS4 1JP \nPrice: Ask for details \nMore information: Call: Bobby 0777 577 3686
URL:https://www.knowlewest.co.uk/whats-on/boxing-club-2/2025-09-11/
CATEGORIES:All Ages,Everyone is welcome,Wellbeing
ATTACH;FMTTYPE=:
END:VEVENT
BEGIN:VEVENT
DTSTART;TZID=UTC:20250917T100000
DTEND;TZID=UTC:20260429T120000
DTSTAMP:20260421T070056
CREATED:20220810T144257Z
LAST-MODIFIED:20251023T154136Z
UID:10014381-1758103200-1777464000@www.knowlewest.co.uk
SUMMARY:ESOL / English language for everyday course
DESCRIPTION:Free\, weekly course to help you practice your English skills in reading\, writing and speaking. Learn with other adults in a friendly group.\nContact Lucy Fieldhouse on (m) 07788 353 446
URL:https://www.knowlewest.co.uk/whats-on/esol-english-language-for-everyday-course/2025-09-17/
ATTACH;FMTTYPE=:
END:VEVENT
BEGIN:VEVENT
DTSTART;TZID=Europe/London:20250918T190000
DTEND;TZID=Europe/London:20270919T200000
DTSTAMP:20260421T070056
CREATED:20240525T135704Z
LAST-MODIFIED:20251023T160439Z
UID:10014696-1758222000-1821384000@www.knowlewest.co.uk
SUMMARY:Knowle Boxing Club
DESCRIPTION:About this event: Knowle Boxing Club is for male and females\, adults and children from 9 years + \nWhen: Mondays 7pm – 8.30pm and Thursdays 7-8pm. \nWhere: Sports Hall\, Filwood Community Centre\, Barnstaple Road\, Knowle West\, Bristol\, BS4 1JP \nPrice: Ask for details \nMore information: Call: Bobby 0777 577 3686
URL:https://www.knowlewest.co.uk/whats-on/boxing-club-2/2025-09-18/
CATEGORIES:All Ages,Everyone is welcome,Wellbeing
ATTACH;FMTTYPE=:
END:VEVENT
BEGIN:VEVENT
DTSTART;TZID=UTC:20250924T100000
DTEND;TZID=UTC:20260506T120000
DTSTAMP:20260421T070056
CREATED:20220810T144257Z
LAST-MODIFIED:20251023T154136Z
UID:10014382-1758708000-1778068800@www.knowlewest.co.uk
SUMMARY:ESOL / English language for everyday course
DESCRIPTION:Free\, weekly course to help you practice your English skills in reading\, writing and speaking. Learn with other adults in a friendly group.\nContact Lucy Fieldhouse on (m) 07788 353 446
URL:https://www.knowlewest.co.uk/whats-on/esol-english-language-for-everyday-course/2025-09-24/
ATTACH;FMTTYPE=:
END:VEVENT
BEGIN:VEVENT
DTSTART;TZID=Europe/London:20250925T190000
DTEND;TZID=Europe/London:20270926T200000
DTSTAMP:20260421T070056
CREATED:20240525T135704Z
LAST-MODIFIED:20251023T160439Z
UID:10014697-1758826800-1821988800@www.knowlewest.co.uk
SUMMARY:Knowle Boxing Club
DESCRIPTION:About this event: Knowle Boxing Club is for male and females\, adults and children from 9 years + \nWhen: Mondays 7pm – 8.30pm and Thursdays 7-8pm. \nWhere: Sports Hall\, Filwood Community Centre\, Barnstaple Road\, Knowle West\, Bristol\, BS4 1JP \nPrice: Ask for details \nMore information: Call: Bobby 0777 577 3686
URL:https://www.knowlewest.co.uk/whats-on/boxing-club-2/2025-09-25/
CATEGORIES:All Ages,Everyone is welcome,Wellbeing
ATTACH;FMTTYPE=:
END:VEVENT
BEGIN:VEVENT
DTSTART;TZID=UTC:20251001T100000
DTEND;TZID=UTC:20260513T120000
DTSTAMP:20260421T070056
CREATED:20220810T144257Z
LAST-MODIFIED:20251023T154136Z
UID:10014383-1759312800-1778673600@www.knowlewest.co.uk
SUMMARY:ESOL / English language for everyday course
DESCRIPTION:Free\, weekly course to help you practice your English skills in reading\, writing and speaking. Learn with other adults in a friendly group.\nContact Lucy Fieldhouse on (m) 07788 353 446
URL:https://www.knowlewest.co.uk/whats-on/esol-english-language-for-everyday-course/2025-10-01/
ATTACH;FMTTYPE=:
END:VEVENT
BEGIN:VEVENT
DTSTART;TZID=Europe/London:20251002T190000
DTEND;TZID=Europe/London:20271003T200000
DTSTAMP:20260421T070057
CREATED:20240525T135704Z
LAST-MODIFIED:20251023T160439Z
UID:10014698-1759431600-1822593600@www.knowlewest.co.uk
SUMMARY:Knowle Boxing Club
DESCRIPTION:About this event: Knowle Boxing Club is for male and females\, adults and children from 9 years + \nWhen: Mondays 7pm – 8.30pm and Thursdays 7-8pm. \nWhere: Sports Hall\, Filwood Community Centre\, Barnstaple Road\, Knowle West\, Bristol\, BS4 1JP \nPrice: Ask for details \nMore information: Call: Bobby 0777 577 3686
URL:https://www.knowlewest.co.uk/whats-on/boxing-club-2/2025-10-02/
CATEGORIES:All Ages,Everyone is welcome,Wellbeing
ATTACH;FMTTYPE=:
END:VEVENT
BEGIN:VEVENT
DTSTART;TZID=UTC:20251008T100000
DTEND;TZID=UTC:20260520T120000
DTSTAMP:20260421T070057
CREATED:20220810T144257Z
LAST-MODIFIED:20251023T154136Z
UID:10014384-1759917600-1779278400@www.knowlewest.co.uk
SUMMARY:ESOL / English language for everyday course
DESCRIPTION:Free\, weekly course to help you practice your English skills in reading\, writing and speaking. Learn with other adults in a friendly group.\nContact Lucy Fieldhouse on (m) 07788 353 446
URL:https://www.knowlewest.co.uk/whats-on/esol-english-language-for-everyday-course/2025-10-08/
ATTACH;FMTTYPE=:
END:VEVENT
BEGIN:VEVENT
DTSTART;TZID=Europe/London:20251009T190000
DTEND;TZID=Europe/London:20271010T200000
DTSTAMP:20260421T070057
CREATED:20240525T135704Z
LAST-MODIFIED:20251023T160439Z
UID:10014699-1760036400-1823198400@www.knowlewest.co.uk
SUMMARY:Knowle Boxing Club
DESCRIPTION:About this event: Knowle Boxing Club is for male and females\, adults and children from 9 years + \nWhen: Mondays 7pm – 8.30pm and Thursdays 7-8pm. \nWhere: Sports Hall\, Filwood Community Centre\, Barnstaple Road\, Knowle West\, Bristol\, BS4 1JP \nPrice: Ask for details \nMore information: Call: Bobby 0777 577 3686
URL:https://www.knowlewest.co.uk/whats-on/boxing-club-2/2025-10-09/
CATEGORIES:All Ages,Everyone is welcome,Wellbeing
ATTACH;FMTTYPE=:
END:VEVENT
BEGIN:VEVENT
DTSTART;TZID=UTC:20251015T100000
DTEND;TZID=UTC:20260527T120000
DTSTAMP:20260421T070057
CREATED:20220810T144257Z
LAST-MODIFIED:20251023T154136Z
UID:10014385-1760522400-1779883200@www.knowlewest.co.uk
SUMMARY:ESOL / English language for everyday course
DESCRIPTION:Free\, weekly course to help you practice your English skills in reading\, writing and speaking. Learn with other adults in a friendly group.\nContact Lucy Fieldhouse on (m) 07788 353 446
URL:https://www.knowlewest.co.uk/whats-on/esol-english-language-for-everyday-course/2025-10-15/
ATTACH;FMTTYPE=:
END:VEVENT
BEGIN:VEVENT
DTSTART;TZID=Europe/London:20251016T190000
DTEND;TZID=Europe/London:20271017T200000
DTSTAMP:20260421T070057
CREATED:20240525T135704Z
LAST-MODIFIED:20251023T160439Z
UID:10014700-1760641200-1823803200@www.knowlewest.co.uk
SUMMARY:Knowle Boxing Club
DESCRIPTION:About this event: Knowle Boxing Club is for male and females\, adults and children from 9 years + \nWhen: Mondays 7pm – 8.30pm and Thursdays 7-8pm. \nWhere: Sports Hall\, Filwood Community Centre\, Barnstaple Road\, Knowle West\, Bristol\, BS4 1JP \nPrice: Ask for details \nMore information: Call: Bobby 0777 577 3686
URL:https://www.knowlewest.co.uk/whats-on/boxing-club-2/2025-10-16/
CATEGORIES:All Ages,Everyone is welcome,Wellbeing
ATTACH;FMTTYPE=:
END:VEVENT
BEGIN:VEVENT
DTSTART;TZID=UTC:20251018T000000
DTEND;TZID=UTC:20291231T235959
DTSTAMP:20260421T070057
CREATED:20251015T215645Z
LAST-MODIFIED:20251023T091543Z
UID:10007268-1760745600-1893455999@www.knowlewest.co.uk
SUMMARY:Redcatch Community Garden
DESCRIPTION:Selling a range of vegetables\, plants and eggs as well as compost cards\, and flowers. \nOpen Daily 9.30am – 4pm (Winter) or until 4:30pm (Summer) \nPlease check our socials for daily changes – https://www.facebook.com/redcatchcommunitygarden/ \nre*********************@*****ok.com \nBringing local people together to learn\, socialise\, share skills and support physical and mental health and wellbeing.Join us for. . .\n\n\n\n\nLocal\, delicious coffee from Extract Coffee Roasters\n\n\n​Sustainably sourced and homegrown produce\n\n\nPlant shop\n\n\nPop-up food events\n\n\nAll ages workshops\n\n\nVolunteering opportunities\n\n\nArt therapy and wellbeing sessions\n\n\nEvent space hire (weddings\, parties)\n\n\n\n\n  \n 
URL:https://www.knowlewest.co.uk/whats-on/redcatch-community-garden-2-2/2025-10-18/
CATEGORIES:Adults,Families
ATTACH;FMTTYPE=application/pdf:https://www.knowlewest.co.uk/wp-content/uploads/2020/10/rcg-1.pdf
END:VEVENT
BEGIN:VEVENT
DTSTART;TZID=UTC:20251022T100000
DTEND;TZID=UTC:20260603T120000
DTSTAMP:20260421T070057
CREATED:20220810T144257Z
LAST-MODIFIED:20251023T154136Z
UID:10014386-1761127200-1780488000@www.knowlewest.co.uk
SUMMARY:ESOL / English language for everyday course
DESCRIPTION:Free\, weekly course to help you practice your English skills in reading\, writing and speaking. Learn with other adults in a friendly group.\nContact Lucy Fieldhouse on (m) 07788 353 446
URL:https://www.knowlewest.co.uk/whats-on/esol-english-language-for-everyday-course/2025-10-22/
ATTACH;FMTTYPE=:
END:VEVENT
BEGIN:VEVENT
DTSTART;TZID=UTC:20251022T130000
DTEND;TZID=UTC:20291231T160000
DTSTAMP:20260421T070057
CREATED:20251015T220331Z
LAST-MODIFIED:20251015T220331Z
UID:10013883-1761138000-1893427200@www.knowlewest.co.uk
SUMMARY:Filwood Chase History Society
DESCRIPTION:We have rooms full of maps\,books\,models of Knowle West and Bristol buildings\,photos\,old Bristol Post newspapers\, and much much more.Only open Wed\, from 1 pm 4pm upper floor of Filwood Library.
URL:https://www.knowlewest.co.uk/whats-on/filwood-chase-history-society-2/2025-10-22/
LOCATION:Filwood Library\, Filwood Broadway\, Bristol
CATEGORIES:All Ages,Arts & Culture,Community,Education,Everyone is welcome,Free Activity
ATTACH;FMTTYPE=image/jpeg:https://www.knowlewest.co.uk/wp-content/uploads/2025/10/481776309_1167568398705501_5909634068162759101_n-scaled.jpg
END:VEVENT
BEGIN:VEVENT
DTSTART;TZID=Europe/London:20251023T190000
DTEND;TZID=Europe/London:20271024T200000
DTSTAMP:20260421T070057
CREATED:20240525T135704Z
LAST-MODIFIED:20251023T160439Z
UID:10014701-1761246000-1824408000@www.knowlewest.co.uk
SUMMARY:Knowle Boxing Club
DESCRIPTION:About this event: Knowle Boxing Club is for male and females\, adults and children from 9 years + \nWhen: Mondays 7pm – 8.30pm and Thursdays 7-8pm. \nWhere: Sports Hall\, Filwood Community Centre\, Barnstaple Road\, Knowle West\, Bristol\, BS4 1JP \nPrice: Ask for details \nMore information: Call: Bobby 0777 577 3686
URL:https://www.knowlewest.co.uk/whats-on/boxing-club-2/2025-10-23/
CATEGORIES:All Ages,Everyone is welcome,Wellbeing
ATTACH;FMTTYPE=:
END:VEVENT
BEGIN:VEVENT
DTSTART;TZID=UTC:20251025T000000
DTEND;TZID=UTC:20300107T235959
DTSTAMP:20260421T070057
CREATED:20251015T215645Z
LAST-MODIFIED:20251023T091543Z
UID:10010531-1761350400-1894060799@www.knowlewest.co.uk
SUMMARY:Redcatch Community Garden
DESCRIPTION:Selling a range of vegetables\, plants and eggs as well as compost cards\, and flowers. \nOpen Daily 9.30am – 4pm (Winter) or until 4:30pm (Summer) \nPlease check our socials for daily changes – https://www.facebook.com/redcatchcommunitygarden/ \nre*********************@*****ok.com \nBringing local people together to learn\, socialise\, share skills and support physical and mental health and wellbeing.Join us for. . .\n\n\n\n\nLocal\, delicious coffee from Extract Coffee Roasters\n\n\n​Sustainably sourced and homegrown produce\n\n\nPlant shop\n\n\nPop-up food events\n\n\nAll ages workshops\n\n\nVolunteering opportunities\n\n\nArt therapy and wellbeing sessions\n\n\nEvent space hire (weddings\, parties)\n\n\n\n\n  \n 
URL:https://www.knowlewest.co.uk/whats-on/redcatch-community-garden-2-2/2025-10-25/
CATEGORIES:Adults,Families
ATTACH;FMTTYPE=application/pdf:https://www.knowlewest.co.uk/wp-content/uploads/2020/10/rcg-1.pdf
END:VEVENT
BEGIN:VEVENT
DTSTART;TZID=UTC:20251029T100000
DTEND;TZID=UTC:20260610T120000
DTSTAMP:20260421T070057
CREATED:20220810T144257Z
LAST-MODIFIED:20251023T154136Z
UID:10014387-1761732000-1781092800@www.knowlewest.co.uk
SUMMARY:ESOL / English language for everyday course
DESCRIPTION:Free\, weekly course to help you practice your English skills in reading\, writing and speaking. Learn with other adults in a friendly group.\nContact Lucy Fieldhouse on (m) 07788 353 446
URL:https://www.knowlewest.co.uk/whats-on/esol-english-language-for-everyday-course/2025-10-29/
ATTACH;FMTTYPE=:
END:VEVENT
BEGIN:VEVENT
DTSTART;TZID=UTC:20251029T130000
DTEND;TZID=UTC:20300107T160000
DTSTAMP:20260421T070057
CREATED:20251015T220331Z
LAST-MODIFIED:20251015T220331Z
UID:10013884-1761742800-1894032000@www.knowlewest.co.uk
SUMMARY:Filwood Chase History Society
DESCRIPTION:We have rooms full of maps\,books\,models of Knowle West and Bristol buildings\,photos\,old Bristol Post newspapers\, and much much more.Only open Wed\, from 1 pm 4pm upper floor of Filwood Library.
URL:https://www.knowlewest.co.uk/whats-on/filwood-chase-history-society-2/2025-10-29/
LOCATION:Filwood Library\, Filwood Broadway\, Bristol
CATEGORIES:All Ages,Arts & Culture,Community,Education,Everyone is welcome,Free Activity
ATTACH;FMTTYPE=image/jpeg:https://www.knowlewest.co.uk/wp-content/uploads/2025/10/481776309_1167568398705501_5909634068162759101_n-scaled.jpg
END:VEVENT
BEGIN:VEVENT
DTSTART;TZID=Europe/London:20251030T190000
DTEND;TZID=Europe/London:20271031T200000
DTSTAMP:20260421T070057
CREATED:20240525T135704Z
LAST-MODIFIED:20251023T160439Z
UID:10014702-1761850800-1825012800@www.knowlewest.co.uk
SUMMARY:Knowle Boxing Club
DESCRIPTION:About this event: Knowle Boxing Club is for male and females\, adults and children from 9 years + \nWhen: Mondays 7pm – 8.30pm and Thursdays 7-8pm. \nWhere: Sports Hall\, Filwood Community Centre\, Barnstaple Road\, Knowle West\, Bristol\, BS4 1JP \nPrice: Ask for details \nMore information: Call: Bobby 0777 577 3686
URL:https://www.knowlewest.co.uk/whats-on/boxing-club-2/2025-10-30/
CATEGORIES:All Ages,Everyone is welcome,Wellbeing
ATTACH;FMTTYPE=:
END:VEVENT
BEGIN:VEVENT
DTSTART;TZID=UTC:20251101T000000
DTEND;TZID=UTC:20300114T235959
DTSTAMP:20260421T070057
CREATED:20251015T215645Z
LAST-MODIFIED:20251023T091543Z
UID:10010538-1761955200-1894665599@www.knowlewest.co.uk
SUMMARY:Redcatch Community Garden
DESCRIPTION:Selling a range of vegetables\, plants and eggs as well as compost cards\, and flowers. \nOpen Daily 9.30am – 4pm (Winter) or until 4:30pm (Summer) \nPlease check our socials for daily changes – https://www.facebook.com/redcatchcommunitygarden/ \nre*********************@*****ok.com \nBringing local people together to learn\, socialise\, share skills and support physical and mental health and wellbeing.Join us for. . .\n\n\n\n\nLocal\, delicious coffee from Extract Coffee Roasters\n\n\n​Sustainably sourced and homegrown produce\n\n\nPlant shop\n\n\nPop-up food events\n\n\nAll ages workshops\n\n\nVolunteering opportunities\n\n\nArt therapy and wellbeing sessions\n\n\nEvent space hire (weddings\, parties)\n\n\n\n\n  \n 
URL:https://www.knowlewest.co.uk/whats-on/redcatch-community-garden-2-2/2025-11-01/
CATEGORIES:Adults,Families
ATTACH;FMTTYPE=application/pdf:https://www.knowlewest.co.uk/wp-content/uploads/2020/10/rcg-1.pdf
END:VEVENT
BEGIN:VEVENT
DTSTART;TZID=UTC:20251105T100000
DTEND;TZID=UTC:20260617T120000
DTSTAMP:20260421T070057
CREATED:20220810T144257Z
LAST-MODIFIED:20251023T154136Z
UID:10014388-1762336800-1781697600@www.knowlewest.co.uk
SUMMARY:ESOL / English language for everyday course
DESCRIPTION:Free\, weekly course to help you practice your English skills in reading\, writing and speaking. Learn with other adults in a friendly group.\nContact Lucy Fieldhouse on (m) 07788 353 446
URL:https://www.knowlewest.co.uk/whats-on/esol-english-language-for-everyday-course/2025-11-05/
ATTACH;FMTTYPE=:
END:VEVENT
BEGIN:VEVENT
DTSTART;TZID=UTC:20251105T130000
DTEND;TZID=UTC:20300114T160000
DTSTAMP:20260421T070057
CREATED:20251015T220331Z
LAST-MODIFIED:20251015T220331Z
UID:10013885-1762347600-1894636800@www.knowlewest.co.uk
SUMMARY:Filwood Chase History Society
DESCRIPTION:We have rooms full of maps\,books\,models of Knowle West and Bristol buildings\,photos\,old Bristol Post newspapers\, and much much more.Only open Wed\, from 1 pm 4pm upper floor of Filwood Library.
URL:https://www.knowlewest.co.uk/whats-on/filwood-chase-history-society-2/2025-11-05/
LOCATION:Filwood Library\, Filwood Broadway\, Bristol
CATEGORIES:All Ages,Arts & Culture,Community,Education,Everyone is welcome,Free Activity
ATTACH;FMTTYPE=image/jpeg:https://www.knowlewest.co.uk/wp-content/uploads/2025/10/481776309_1167568398705501_5909634068162759101_n-scaled.jpg
END:VEVENT
BEGIN:VEVENT
DTSTART;TZID=Europe/London:20251106T190000
DTEND;TZID=Europe/London:20271107T200000
DTSTAMP:20260421T070057
CREATED:20240525T135704Z
LAST-MODIFIED:20251023T160439Z
UID:10014703-1762455600-1825617600@www.knowlewest.co.uk
SUMMARY:Knowle Boxing Club
DESCRIPTION:About this event: Knowle Boxing Club is for male and females\, adults and children from 9 years + \nWhen: Mondays 7pm – 8.30pm and Thursdays 7-8pm. \nWhere: Sports Hall\, Filwood Community Centre\, Barnstaple Road\, Knowle West\, Bristol\, BS4 1JP \nPrice: Ask for details \nMore information: Call: Bobby 0777 577 3686
URL:https://www.knowlewest.co.uk/whats-on/boxing-club-2/2025-11-06/
CATEGORIES:All Ages,Everyone is welcome,Wellbeing
ATTACH;FMTTYPE=:
END:VEVENT
BEGIN:VEVENT
DTSTART;TZID=UTC:20251108T000000
DTEND;TZID=UTC:20300121T235959
DTSTAMP:20260421T070057
CREATED:20251015T215645Z
LAST-MODIFIED:20251023T091543Z
UID:10010545-1762560000-1895270399@www.knowlewest.co.uk
SUMMARY:Redcatch Community Garden
DESCRIPTION:Selling a range of vegetables\, plants and eggs as well as compost cards\, and flowers. \nOpen Daily 9.30am – 4pm (Winter) or until 4:30pm (Summer) \nPlease check our socials for daily changes – https://www.facebook.com/redcatchcommunitygarden/ \nre*********************@*****ok.com \nBringing local people together to learn\, socialise\, share skills and support physical and mental health and wellbeing.Join us for. . .\n\n\n\n\nLocal\, delicious coffee from Extract Coffee Roasters\n\n\n​Sustainably sourced and homegrown produce\n\n\nPlant shop\n\n\nPop-up food events\n\n\nAll ages workshops\n\n\nVolunteering opportunities\n\n\nArt therapy and wellbeing sessions\n\n\nEvent space hire (weddings\, parties)\n\n\n\n\n  \n 
URL:https://www.knowlewest.co.uk/whats-on/redcatch-community-garden-2-2/2025-11-08/
CATEGORIES:Adults,Families
ATTACH;FMTTYPE=application/pdf:https://www.knowlewest.co.uk/wp-content/uploads/2020/10/rcg-1.pdf
END:VEVENT
BEGIN:VEVENT
DTSTART;TZID=UTC:20251112T100000
DTEND;TZID=UTC:20260624T120000
DTSTAMP:20260421T070057
CREATED:20220810T144257Z
LAST-MODIFIED:20251023T154136Z
UID:10014389-1762941600-1782302400@www.knowlewest.co.uk
SUMMARY:ESOL / English language for everyday course
DESCRIPTION:Free\, weekly course to help you practice your English skills in reading\, writing and speaking. Learn with other adults in a friendly group.\nContact Lucy Fieldhouse on (m) 07788 353 446
URL:https://www.knowlewest.co.uk/whats-on/esol-english-language-for-everyday-course/2025-11-12/
ATTACH;FMTTYPE=:
END:VEVENT
BEGIN:VEVENT
DTSTART;TZID=UTC:20251112T130000
DTEND;TZID=UTC:20300121T160000
DTSTAMP:20260421T070057
CREATED:20251015T220331Z
LAST-MODIFIED:20251015T220331Z
UID:10013886-1762952400-1895241600@www.knowlewest.co.uk
SUMMARY:Filwood Chase History Society
DESCRIPTION:We have rooms full of maps\,books\,models of Knowle West and Bristol buildings\,photos\,old Bristol Post newspapers\, and much much more.Only open Wed\, from 1 pm 4pm upper floor of Filwood Library.
URL:https://www.knowlewest.co.uk/whats-on/filwood-chase-history-society-2/2025-11-12/
LOCATION:Filwood Library\, Filwood Broadway\, Bristol
CATEGORIES:All Ages,Arts & Culture,Community,Education,Everyone is welcome,Free Activity
ATTACH;FMTTYPE=image/jpeg:https://www.knowlewest.co.uk/wp-content/uploads/2025/10/481776309_1167568398705501_5909634068162759101_n-scaled.jpg
END:VEVENT
END:VCALENDAR