BEGIN:VCALENDAR
VERSION:2.0
PRODID:-//Knowle West Community - ECPv6.15.17//NONSGML v1.0//EN
CALSCALE:GREGORIAN
METHOD:PUBLISH
X-WR-CALNAME:Knowle West Community
X-ORIGINAL-URL:https://www.knowlewest.co.uk
X-WR-CALDESC:Events for Knowle West Community
REFRESH-INTERVAL;VALUE=DURATION:PT1H
X-Robots-Tag:noindex
X-PUBLISHED-TTL:PT1H
BEGIN:VTIMEZONE
TZID:Europe/London
BEGIN:DAYLIGHT
TZOFFSETFROM:+0000
TZOFFSETTO:+0100
TZNAME:BST
DTSTART:20240331T010000
END:DAYLIGHT
BEGIN:STANDARD
TZOFFSETFROM:+0100
TZOFFSETTO:+0000
TZNAME:GMT
DTSTART:20241027T010000
END:STANDARD
BEGIN:DAYLIGHT
TZOFFSETFROM:+0000
TZOFFSETTO:+0100
TZNAME:BST
DTSTART:20250330T010000
END:DAYLIGHT
BEGIN:STANDARD
TZOFFSETFROM:+0100
TZOFFSETTO:+0000
TZNAME:GMT
DTSTART:20251026T010000
END:STANDARD
BEGIN:DAYLIGHT
TZOFFSETFROM:+0000
TZOFFSETTO:+0100
TZNAME:BST
DTSTART:20260329T010000
END:DAYLIGHT
BEGIN:STANDARD
TZOFFSETFROM:+0100
TZOFFSETTO:+0000
TZNAME:GMT
DTSTART:20261025T010000
END:STANDARD
BEGIN:DAYLIGHT
TZOFFSETFROM:+0000
TZOFFSETTO:+0100
TZNAME:BST
DTSTART:20270328T010000
END:DAYLIGHT
BEGIN:STANDARD
TZOFFSETFROM:+0100
TZOFFSETTO:+0000
TZNAME:GMT
DTSTART:20271031T010000
END:STANDARD
BEGIN:DAYLIGHT
TZOFFSETFROM:+0000
TZOFFSETTO:+0100
TZNAME:BST
DTSTART:20280326T010000
END:DAYLIGHT
BEGIN:STANDARD
TZOFFSETFROM:+0100
TZOFFSETTO:+0000
TZNAME:GMT
DTSTART:20281029T010000
END:STANDARD
END:VTIMEZONE
BEGIN:VEVENT
DTSTART;TZID=Europe/London:20250102T190000
DTEND;TZID=Europe/London:20270103T200000
DTSTAMP:20260421T004927
CREATED:20240525T135704Z
LAST-MODIFIED:20251023T160439Z
UID:10006237-1735844400-1799006400@www.knowlewest.co.uk
SUMMARY:Knowle Boxing Club
DESCRIPTION:About this event: Knowle Boxing Club is for male and females\, adults and children from 9 years + \nWhen: Mondays 7pm – 8.30pm and Thursdays 7-8pm. \nWhere: Sports Hall\, Filwood Community Centre\, Barnstaple Road\, Knowle West\, Bristol\, BS4 1JP \nPrice: Ask for details \nMore information: Call: Bobby 0777 577 3686
URL:https://www.knowlewest.co.uk/whats-on/boxing-club-2/2025-01-02/
CATEGORIES:All Ages,Everyone is welcome,Wellbeing
ATTACH;FMTTYPE=:
END:VEVENT
BEGIN:VEVENT
DTSTART;TZID=Europe/London:20250109T190000
DTEND;TZID=Europe/London:20270110T200000
DTSTAMP:20260421T004927
CREATED:20240525T135704Z
LAST-MODIFIED:20251023T160439Z
UID:10006238-1736449200-1799611200@www.knowlewest.co.uk
SUMMARY:Knowle Boxing Club
DESCRIPTION:About this event: Knowle Boxing Club is for male and females\, adults and children from 9 years + \nWhen: Mondays 7pm – 8.30pm and Thursdays 7-8pm. \nWhere: Sports Hall\, Filwood Community Centre\, Barnstaple Road\, Knowle West\, Bristol\, BS4 1JP \nPrice: Ask for details \nMore information: Call: Bobby 0777 577 3686
URL:https://www.knowlewest.co.uk/whats-on/boxing-club-2/2025-01-09/
CATEGORIES:All Ages,Everyone is welcome,Wellbeing
ATTACH;FMTTYPE=:
END:VEVENT
BEGIN:VEVENT
DTSTART;TZID=Europe/London:20250116T190000
DTEND;TZID=Europe/London:20270117T200000
DTSTAMP:20260421T004927
CREATED:20240525T135704Z
LAST-MODIFIED:20251023T160439Z
UID:10006239-1737054000-1800216000@www.knowlewest.co.uk
SUMMARY:Knowle Boxing Club
DESCRIPTION:About this event: Knowle Boxing Club is for male and females\, adults and children from 9 years + \nWhen: Mondays 7pm – 8.30pm and Thursdays 7-8pm. \nWhere: Sports Hall\, Filwood Community Centre\, Barnstaple Road\, Knowle West\, Bristol\, BS4 1JP \nPrice: Ask for details \nMore information: Call: Bobby 0777 577 3686
URL:https://www.knowlewest.co.uk/whats-on/boxing-club-2/2025-01-16/
CATEGORIES:All Ages,Everyone is welcome,Wellbeing
ATTACH;FMTTYPE=:
END:VEVENT
BEGIN:VEVENT
DTSTART;TZID=Europe/London:20250123T190000
DTEND;TZID=Europe/London:20270124T200000
DTSTAMP:20260421T004927
CREATED:20240525T135704Z
LAST-MODIFIED:20251023T160439Z
UID:10006240-1737658800-1800820800@www.knowlewest.co.uk
SUMMARY:Knowle Boxing Club
DESCRIPTION:About this event: Knowle Boxing Club is for male and females\, adults and children from 9 years + \nWhen: Mondays 7pm – 8.30pm and Thursdays 7-8pm. \nWhere: Sports Hall\, Filwood Community Centre\, Barnstaple Road\, Knowle West\, Bristol\, BS4 1JP \nPrice: Ask for details \nMore information: Call: Bobby 0777 577 3686
URL:https://www.knowlewest.co.uk/whats-on/boxing-club-2/2025-01-23/
CATEGORIES:All Ages,Everyone is welcome,Wellbeing
ATTACH;FMTTYPE=:
END:VEVENT
BEGIN:VEVENT
DTSTART;TZID=Europe/London:20250130T190000
DTEND;TZID=Europe/London:20270131T200000
DTSTAMP:20260421T004927
CREATED:20240525T135704Z
LAST-MODIFIED:20251023T160439Z
UID:10006241-1738263600-1801425600@www.knowlewest.co.uk
SUMMARY:Knowle Boxing Club
DESCRIPTION:About this event: Knowle Boxing Club is for male and females\, adults and children from 9 years + \nWhen: Mondays 7pm – 8.30pm and Thursdays 7-8pm. \nWhere: Sports Hall\, Filwood Community Centre\, Barnstaple Road\, Knowle West\, Bristol\, BS4 1JP \nPrice: Ask for details \nMore information: Call: Bobby 0777 577 3686
URL:https://www.knowlewest.co.uk/whats-on/boxing-club-2/2025-01-30/
CATEGORIES:All Ages,Everyone is welcome,Wellbeing
ATTACH;FMTTYPE=:
END:VEVENT
BEGIN:VEVENT
DTSTART;TZID=Europe/London:20250206T190000
DTEND;TZID=Europe/London:20270207T200000
DTSTAMP:20260421T004927
CREATED:20240525T135704Z
LAST-MODIFIED:20251023T160439Z
UID:10006242-1738868400-1802030400@www.knowlewest.co.uk
SUMMARY:Knowle Boxing Club
DESCRIPTION:About this event: Knowle Boxing Club is for male and females\, adults and children from 9 years + \nWhen: Mondays 7pm – 8.30pm and Thursdays 7-8pm. \nWhere: Sports Hall\, Filwood Community Centre\, Barnstaple Road\, Knowle West\, Bristol\, BS4 1JP \nPrice: Ask for details \nMore information: Call: Bobby 0777 577 3686
URL:https://www.knowlewest.co.uk/whats-on/boxing-club-2/2025-02-06/
CATEGORIES:All Ages,Everyone is welcome,Wellbeing
ATTACH;FMTTYPE=:
END:VEVENT
BEGIN:VEVENT
DTSTART;TZID=Europe/London:20250213T190000
DTEND;TZID=Europe/London:20270214T200000
DTSTAMP:20260421T004927
CREATED:20240525T135704Z
LAST-MODIFIED:20251023T160439Z
UID:10006243-1739473200-1802635200@www.knowlewest.co.uk
SUMMARY:Knowle Boxing Club
DESCRIPTION:About this event: Knowle Boxing Club is for male and females\, adults and children from 9 years + \nWhen: Mondays 7pm – 8.30pm and Thursdays 7-8pm. \nWhere: Sports Hall\, Filwood Community Centre\, Barnstaple Road\, Knowle West\, Bristol\, BS4 1JP \nPrice: Ask for details \nMore information: Call: Bobby 0777 577 3686
URL:https://www.knowlewest.co.uk/whats-on/boxing-club-2/2025-02-13/
CATEGORIES:All Ages,Everyone is welcome,Wellbeing
ATTACH;FMTTYPE=:
END:VEVENT
BEGIN:VEVENT
DTSTART;TZID=Europe/London:20250220T190000
DTEND;TZID=Europe/London:20270221T200000
DTSTAMP:20260421T004927
CREATED:20240525T135704Z
LAST-MODIFIED:20251023T160439Z
UID:10006244-1740078000-1803240000@www.knowlewest.co.uk
SUMMARY:Knowle Boxing Club
DESCRIPTION:About this event: Knowle Boxing Club is for male and females\, adults and children from 9 years + \nWhen: Mondays 7pm – 8.30pm and Thursdays 7-8pm. \nWhere: Sports Hall\, Filwood Community Centre\, Barnstaple Road\, Knowle West\, Bristol\, BS4 1JP \nPrice: Ask for details \nMore information: Call: Bobby 0777 577 3686
URL:https://www.knowlewest.co.uk/whats-on/boxing-club-2/2025-02-20/
CATEGORIES:All Ages,Everyone is welcome,Wellbeing
ATTACH;FMTTYPE=:
END:VEVENT
BEGIN:VEVENT
DTSTART;TZID=Europe/London:20250227T190000
DTEND;TZID=Europe/London:20270228T200000
DTSTAMP:20260421T004927
CREATED:20240525T135704Z
LAST-MODIFIED:20251023T160439Z
UID:10006245-1740682800-1803844800@www.knowlewest.co.uk
SUMMARY:Knowle Boxing Club
DESCRIPTION:About this event: Knowle Boxing Club is for male and females\, adults and children from 9 years + \nWhen: Mondays 7pm – 8.30pm and Thursdays 7-8pm. \nWhere: Sports Hall\, Filwood Community Centre\, Barnstaple Road\, Knowle West\, Bristol\, BS4 1JP \nPrice: Ask for details \nMore information: Call: Bobby 0777 577 3686
URL:https://www.knowlewest.co.uk/whats-on/boxing-club-2/2025-02-27/
CATEGORIES:All Ages,Everyone is welcome,Wellbeing
ATTACH;FMTTYPE=:
END:VEVENT
BEGIN:VEVENT
DTSTART;TZID=Europe/London:20250306T190000
DTEND;TZID=Europe/London:20270307T200000
DTSTAMP:20260421T004927
CREATED:20240525T135704Z
LAST-MODIFIED:20251023T160439Z
UID:10006246-1741287600-1804449600@www.knowlewest.co.uk
SUMMARY:Knowle Boxing Club
DESCRIPTION:About this event: Knowle Boxing Club is for male and females\, adults and children from 9 years + \nWhen: Mondays 7pm – 8.30pm and Thursdays 7-8pm. \nWhere: Sports Hall\, Filwood Community Centre\, Barnstaple Road\, Knowle West\, Bristol\, BS4 1JP \nPrice: Ask for details \nMore information: Call: Bobby 0777 577 3686
URL:https://www.knowlewest.co.uk/whats-on/boxing-club-2/2025-03-06/
CATEGORIES:All Ages,Everyone is welcome,Wellbeing
ATTACH;FMTTYPE=:
END:VEVENT
BEGIN:VEVENT
DTSTART;TZID=Europe/London:20250313T190000
DTEND;TZID=Europe/London:20270314T200000
DTSTAMP:20260421T004927
CREATED:20240525T135704Z
LAST-MODIFIED:20251023T160439Z
UID:10006247-1741892400-1805054400@www.knowlewest.co.uk
SUMMARY:Knowle Boxing Club
DESCRIPTION:About this event: Knowle Boxing Club is for male and females\, adults and children from 9 years + \nWhen: Mondays 7pm – 8.30pm and Thursdays 7-8pm. \nWhere: Sports Hall\, Filwood Community Centre\, Barnstaple Road\, Knowle West\, Bristol\, BS4 1JP \nPrice: Ask for details \nMore information: Call: Bobby 0777 577 3686
URL:https://www.knowlewest.co.uk/whats-on/boxing-club-2/2025-03-13/
CATEGORIES:All Ages,Everyone is welcome,Wellbeing
ATTACH;FMTTYPE=:
END:VEVENT
BEGIN:VEVENT
DTSTART;TZID=Europe/London:20250320T190000
DTEND;TZID=Europe/London:20270321T200000
DTSTAMP:20260421T004927
CREATED:20240525T135704Z
LAST-MODIFIED:20251023T160439Z
UID:10006248-1742497200-1805659200@www.knowlewest.co.uk
SUMMARY:Knowle Boxing Club
DESCRIPTION:About this event: Knowle Boxing Club is for male and females\, adults and children from 9 years + \nWhen: Mondays 7pm – 8.30pm and Thursdays 7-8pm. \nWhere: Sports Hall\, Filwood Community Centre\, Barnstaple Road\, Knowle West\, Bristol\, BS4 1JP \nPrice: Ask for details \nMore information: Call: Bobby 0777 577 3686
URL:https://www.knowlewest.co.uk/whats-on/boxing-club-2/2025-03-20/
CATEGORIES:All Ages,Everyone is welcome,Wellbeing
ATTACH;FMTTYPE=:
END:VEVENT
BEGIN:VEVENT
DTSTART;TZID=Europe/London:20250327T190000
DTEND;TZID=Europe/London:20270328T200000
DTSTAMP:20260421T004927
CREATED:20240525T135704Z
LAST-MODIFIED:20251023T160439Z
UID:10006249-1743102000-1806264000@www.knowlewest.co.uk
SUMMARY:Knowle Boxing Club
DESCRIPTION:About this event: Knowle Boxing Club is for male and females\, adults and children from 9 years + \nWhen: Mondays 7pm – 8.30pm and Thursdays 7-8pm. \nWhere: Sports Hall\, Filwood Community Centre\, Barnstaple Road\, Knowle West\, Bristol\, BS4 1JP \nPrice: Ask for details \nMore information: Call: Bobby 0777 577 3686
URL:https://www.knowlewest.co.uk/whats-on/boxing-club-2/2025-03-27/
CATEGORIES:All Ages,Everyone is welcome,Wellbeing
ATTACH;FMTTYPE=:
END:VEVENT
BEGIN:VEVENT
DTSTART;TZID=Europe/London:20250403T190000
DTEND;TZID=Europe/London:20270404T200000
DTSTAMP:20260421T004927
CREATED:20240525T135704Z
LAST-MODIFIED:20251023T160439Z
UID:10006250-1743706800-1806868800@www.knowlewest.co.uk
SUMMARY:Knowle Boxing Club
DESCRIPTION:About this event: Knowle Boxing Club is for male and females\, adults and children from 9 years + \nWhen: Mondays 7pm – 8.30pm and Thursdays 7-8pm. \nWhere: Sports Hall\, Filwood Community Centre\, Barnstaple Road\, Knowle West\, Bristol\, BS4 1JP \nPrice: Ask for details \nMore information: Call: Bobby 0777 577 3686
URL:https://www.knowlewest.co.uk/whats-on/boxing-club-2/2025-04-03/
CATEGORIES:All Ages,Everyone is welcome,Wellbeing
ATTACH;FMTTYPE=:
END:VEVENT
BEGIN:VEVENT
DTSTART;TZID=Europe/London:20250410T190000
DTEND;TZID=Europe/London:20270411T200000
DTSTAMP:20260421T004927
CREATED:20240525T135704Z
LAST-MODIFIED:20251023T160439Z
UID:10006251-1744311600-1807473600@www.knowlewest.co.uk
SUMMARY:Knowle Boxing Club
DESCRIPTION:About this event: Knowle Boxing Club is for male and females\, adults and children from 9 years + \nWhen: Mondays 7pm – 8.30pm and Thursdays 7-8pm. \nWhere: Sports Hall\, Filwood Community Centre\, Barnstaple Road\, Knowle West\, Bristol\, BS4 1JP \nPrice: Ask for details \nMore information: Call: Bobby 0777 577 3686
URL:https://www.knowlewest.co.uk/whats-on/boxing-club-2/2025-04-10/
CATEGORIES:All Ages,Everyone is welcome,Wellbeing
ATTACH;FMTTYPE=:
END:VEVENT
BEGIN:VEVENT
DTSTART;TZID=Europe/London:20250417T190000
DTEND;TZID=Europe/London:20270418T200000
DTSTAMP:20260421T004927
CREATED:20240525T135704Z
LAST-MODIFIED:20251023T160439Z
UID:10006252-1744916400-1808078400@www.knowlewest.co.uk
SUMMARY:Knowle Boxing Club
DESCRIPTION:About this event: Knowle Boxing Club is for male and females\, adults and children from 9 years + \nWhen: Mondays 7pm – 8.30pm and Thursdays 7-8pm. \nWhere: Sports Hall\, Filwood Community Centre\, Barnstaple Road\, Knowle West\, Bristol\, BS4 1JP \nPrice: Ask for details \nMore information: Call: Bobby 0777 577 3686
URL:https://www.knowlewest.co.uk/whats-on/boxing-club-2/2025-04-17/
CATEGORIES:All Ages,Everyone is welcome,Wellbeing
ATTACH;FMTTYPE=:
END:VEVENT
BEGIN:VEVENT
DTSTART;TZID=Europe/London:20250421T170000
DTEND;TZID=Europe/London:20260422T180000
DTSTAMP:20260421T004927
CREATED:20240525T135703Z
LAST-MODIFIED:20251023T160251Z
UID:10006071-1745254800-1776880800@www.knowlewest.co.uk
SUMMARY:Slimming World
DESCRIPTION:About this event: Slimming World is a weight loss plan like no other. Millions have reached their dream weight with our generous no-hunger eating plan. Add an activity programme that starts when the time’s right for you\, plus unbeatable support\, and you’ll soon discover the Slimming World difference.\n\n\n\nWhen: Mondays 10am\, 5pm and 6.30pm \nWhere: Sports Hall\, Filwood Community Centre\, Knowle\, Bristol\, BS4 1JP \nPrice: Ask for details\, telephone Sarah 07879 443888
URL:https://www.knowlewest.co.uk/whats-on/slimming-world-2/2025-04-21/
CATEGORIES:All Ages,Everyone is welcome,Wellbeing
ATTACH;FMTTYPE=:
END:VEVENT
BEGIN:VEVENT
DTSTART;TZID=Europe/London:20250424T190000
DTEND;TZID=Europe/London:20270425T200000
DTSTAMP:20260421T004927
CREATED:20240525T135704Z
LAST-MODIFIED:20251023T160439Z
UID:10006253-1745521200-1808683200@www.knowlewest.co.uk
SUMMARY:Knowle Boxing Club
DESCRIPTION:About this event: Knowle Boxing Club is for male and females\, adults and children from 9 years + \nWhen: Mondays 7pm – 8.30pm and Thursdays 7-8pm. \nWhere: Sports Hall\, Filwood Community Centre\, Barnstaple Road\, Knowle West\, Bristol\, BS4 1JP \nPrice: Ask for details \nMore information: Call: Bobby 0777 577 3686
URL:https://www.knowlewest.co.uk/whats-on/boxing-club-2/2025-04-24/
CATEGORIES:All Ages,Everyone is welcome,Wellbeing
ATTACH;FMTTYPE=:
END:VEVENT
BEGIN:VEVENT
DTSTART;TZID=Europe/London:20250428T170000
DTEND;TZID=Europe/London:20260429T180000
DTSTAMP:20260421T004927
CREATED:20240525T135703Z
LAST-MODIFIED:20251023T160251Z
UID:10006072-1745859600-1777485600@www.knowlewest.co.uk
SUMMARY:Slimming World
DESCRIPTION:About this event: Slimming World is a weight loss plan like no other. Millions have reached their dream weight with our generous no-hunger eating plan. Add an activity programme that starts when the time’s right for you\, plus unbeatable support\, and you’ll soon discover the Slimming World difference.\n\n\n\nWhen: Mondays 10am\, 5pm and 6.30pm \nWhere: Sports Hall\, Filwood Community Centre\, Knowle\, Bristol\, BS4 1JP \nPrice: Ask for details\, telephone Sarah 07879 443888
URL:https://www.knowlewest.co.uk/whats-on/slimming-world-2/2025-04-28/
CATEGORIES:All Ages,Everyone is welcome,Wellbeing
ATTACH;FMTTYPE=:
END:VEVENT
BEGIN:VEVENT
DTSTART;TZID=Europe/London:20250501T190000
DTEND;TZID=Europe/London:20270502T200000
DTSTAMP:20260421T004927
CREATED:20240525T135704Z
LAST-MODIFIED:20251023T160439Z
UID:10006254-1746126000-1809288000@www.knowlewest.co.uk
SUMMARY:Knowle Boxing Club
DESCRIPTION:About this event: Knowle Boxing Club is for male and females\, adults and children from 9 years + \nWhen: Mondays 7pm – 8.30pm and Thursdays 7-8pm. \nWhere: Sports Hall\, Filwood Community Centre\, Barnstaple Road\, Knowle West\, Bristol\, BS4 1JP \nPrice: Ask for details \nMore information: Call: Bobby 0777 577 3686
URL:https://www.knowlewest.co.uk/whats-on/boxing-club-2/2025-05-01/
CATEGORIES:All Ages,Everyone is welcome,Wellbeing
ATTACH;FMTTYPE=:
END:VEVENT
BEGIN:VEVENT
DTSTART;TZID=Europe/London:20250505T170000
DTEND;TZID=Europe/London:20260506T180000
DTSTAMP:20260421T004927
CREATED:20240525T135703Z
LAST-MODIFIED:20251023T160251Z
UID:10006073-1746464400-1778090400@www.knowlewest.co.uk
SUMMARY:Slimming World
DESCRIPTION:About this event: Slimming World is a weight loss plan like no other. Millions have reached their dream weight with our generous no-hunger eating plan. Add an activity programme that starts when the time’s right for you\, plus unbeatable support\, and you’ll soon discover the Slimming World difference.\n\n\n\nWhen: Mondays 10am\, 5pm and 6.30pm \nWhere: Sports Hall\, Filwood Community Centre\, Knowle\, Bristol\, BS4 1JP \nPrice: Ask for details\, telephone Sarah 07879 443888
URL:https://www.knowlewest.co.uk/whats-on/slimming-world-2/2025-05-05/
CATEGORIES:All Ages,Everyone is welcome,Wellbeing
ATTACH;FMTTYPE=:
END:VEVENT
BEGIN:VEVENT
DTSTART;TZID=Europe/London:20250508T190000
DTEND;TZID=Europe/London:20270509T200000
DTSTAMP:20260421T004927
CREATED:20240525T135704Z
LAST-MODIFIED:20251023T160439Z
UID:10006255-1746730800-1809892800@www.knowlewest.co.uk
SUMMARY:Knowle Boxing Club
DESCRIPTION:About this event: Knowle Boxing Club is for male and females\, adults and children from 9 years + \nWhen: Mondays 7pm – 8.30pm and Thursdays 7-8pm. \nWhere: Sports Hall\, Filwood Community Centre\, Barnstaple Road\, Knowle West\, Bristol\, BS4 1JP \nPrice: Ask for details \nMore information: Call: Bobby 0777 577 3686
URL:https://www.knowlewest.co.uk/whats-on/boxing-club-2/2025-05-08/
CATEGORIES:All Ages,Everyone is welcome,Wellbeing
ATTACH;FMTTYPE=:
END:VEVENT
BEGIN:VEVENT
DTSTART;TZID=Europe/London:20250512T170000
DTEND;TZID=Europe/London:20260513T180000
DTSTAMP:20260421T004927
CREATED:20240525T135703Z
LAST-MODIFIED:20251023T160251Z
UID:10006074-1747069200-1778695200@www.knowlewest.co.uk
SUMMARY:Slimming World
DESCRIPTION:About this event: Slimming World is a weight loss plan like no other. Millions have reached their dream weight with our generous no-hunger eating plan. Add an activity programme that starts when the time’s right for you\, plus unbeatable support\, and you’ll soon discover the Slimming World difference.\n\n\n\nWhen: Mondays 10am\, 5pm and 6.30pm \nWhere: Sports Hall\, Filwood Community Centre\, Knowle\, Bristol\, BS4 1JP \nPrice: Ask for details\, telephone Sarah 07879 443888
URL:https://www.knowlewest.co.uk/whats-on/slimming-world-2/2025-05-12/
CATEGORIES:All Ages,Everyone is welcome,Wellbeing
ATTACH;FMTTYPE=:
END:VEVENT
BEGIN:VEVENT
DTSTART;TZID=Europe/London:20250515T190000
DTEND;TZID=Europe/London:20270516T200000
DTSTAMP:20260421T004927
CREATED:20240525T135704Z
LAST-MODIFIED:20251023T160439Z
UID:10006256-1747335600-1810497600@www.knowlewest.co.uk
SUMMARY:Knowle Boxing Club
DESCRIPTION:About this event: Knowle Boxing Club is for male and females\, adults and children from 9 years + \nWhen: Mondays 7pm – 8.30pm and Thursdays 7-8pm. \nWhere: Sports Hall\, Filwood Community Centre\, Barnstaple Road\, Knowle West\, Bristol\, BS4 1JP \nPrice: Ask for details \nMore information: Call: Bobby 0777 577 3686
URL:https://www.knowlewest.co.uk/whats-on/boxing-club-2/2025-05-15/
CATEGORIES:All Ages,Everyone is welcome,Wellbeing
ATTACH;FMTTYPE=:
END:VEVENT
BEGIN:VEVENT
DTSTART;TZID=Europe/London:20250519T170000
DTEND;TZID=Europe/London:20260520T180000
DTSTAMP:20260421T004927
CREATED:20240525T135703Z
LAST-MODIFIED:20251023T160251Z
UID:10006075-1747674000-1779300000@www.knowlewest.co.uk
SUMMARY:Slimming World
DESCRIPTION:About this event: Slimming World is a weight loss plan like no other. Millions have reached their dream weight with our generous no-hunger eating plan. Add an activity programme that starts when the time’s right for you\, plus unbeatable support\, and you’ll soon discover the Slimming World difference.\n\n\n\nWhen: Mondays 10am\, 5pm and 6.30pm \nWhere: Sports Hall\, Filwood Community Centre\, Knowle\, Bristol\, BS4 1JP \nPrice: Ask for details\, telephone Sarah 07879 443888
URL:https://www.knowlewest.co.uk/whats-on/slimming-world-2/2025-05-19/
CATEGORIES:All Ages,Everyone is welcome,Wellbeing
ATTACH;FMTTYPE=:
END:VEVENT
BEGIN:VEVENT
DTSTART;TZID=Europe/London:20250522T190000
DTEND;TZID=Europe/London:20270523T200000
DTSTAMP:20260421T004927
CREATED:20240525T135704Z
LAST-MODIFIED:20251023T160439Z
UID:10006257-1747940400-1811102400@www.knowlewest.co.uk
SUMMARY:Knowle Boxing Club
DESCRIPTION:About this event: Knowle Boxing Club is for male and females\, adults and children from 9 years + \nWhen: Mondays 7pm – 8.30pm and Thursdays 7-8pm. \nWhere: Sports Hall\, Filwood Community Centre\, Barnstaple Road\, Knowle West\, Bristol\, BS4 1JP \nPrice: Ask for details \nMore information: Call: Bobby 0777 577 3686
URL:https://www.knowlewest.co.uk/whats-on/boxing-club-2/2025-05-22/
CATEGORIES:All Ages,Everyone is welcome,Wellbeing
ATTACH;FMTTYPE=:
END:VEVENT
BEGIN:VEVENT
DTSTART;TZID=Europe/London:20250526T170000
DTEND;TZID=Europe/London:20260527T180000
DTSTAMP:20260421T004927
CREATED:20240525T135703Z
LAST-MODIFIED:20251023T160251Z
UID:10010510-1748278800-1779904800@www.knowlewest.co.uk
SUMMARY:Slimming World
DESCRIPTION:About this event: Slimming World is a weight loss plan like no other. Millions have reached their dream weight with our generous no-hunger eating plan. Add an activity programme that starts when the time’s right for you\, plus unbeatable support\, and you’ll soon discover the Slimming World difference.\n\n\n\nWhen: Mondays 10am\, 5pm and 6.30pm \nWhere: Sports Hall\, Filwood Community Centre\, Knowle\, Bristol\, BS4 1JP \nPrice: Ask for details\, telephone Sarah 07879 443888
URL:https://www.knowlewest.co.uk/whats-on/slimming-world-2/2025-05-26/
CATEGORIES:All Ages,Everyone is welcome,Wellbeing
ATTACH;FMTTYPE=:
END:VEVENT
BEGIN:VEVENT
DTSTART;TZID=Europe/London:20250529T190000
DTEND;TZID=Europe/London:20270530T200000
DTSTAMP:20260421T004927
CREATED:20240525T135704Z
LAST-MODIFIED:20251023T160439Z
UID:10014680-1748545200-1811707200@www.knowlewest.co.uk
SUMMARY:Knowle Boxing Club
DESCRIPTION:About this event: Knowle Boxing Club is for male and females\, adults and children from 9 years + \nWhen: Mondays 7pm – 8.30pm and Thursdays 7-8pm. \nWhere: Sports Hall\, Filwood Community Centre\, Barnstaple Road\, Knowle West\, Bristol\, BS4 1JP \nPrice: Ask for details \nMore information: Call: Bobby 0777 577 3686
URL:https://www.knowlewest.co.uk/whats-on/boxing-club-2/2025-05-29/
CATEGORIES:All Ages,Everyone is welcome,Wellbeing
ATTACH;FMTTYPE=:
END:VEVENT
BEGIN:VEVENT
DTSTART;TZID=Europe/London:20250602T170000
DTEND;TZID=Europe/London:20260603T180000
DTSTAMP:20260421T004927
CREATED:20240525T135703Z
LAST-MODIFIED:20251023T160251Z
UID:10010511-1748883600-1780509600@www.knowlewest.co.uk
SUMMARY:Slimming World
DESCRIPTION:About this event: Slimming World is a weight loss plan like no other. Millions have reached their dream weight with our generous no-hunger eating plan. Add an activity programme that starts when the time’s right for you\, plus unbeatable support\, and you’ll soon discover the Slimming World difference.\n\n\n\nWhen: Mondays 10am\, 5pm and 6.30pm \nWhere: Sports Hall\, Filwood Community Centre\, Knowle\, Bristol\, BS4 1JP \nPrice: Ask for details\, telephone Sarah 07879 443888
URL:https://www.knowlewest.co.uk/whats-on/slimming-world-2/2025-06-02/
CATEGORIES:All Ages,Everyone is welcome,Wellbeing
ATTACH;FMTTYPE=:
END:VEVENT
BEGIN:VEVENT
DTSTART;TZID=Europe/London:20250605T190000
DTEND;TZID=Europe/London:20270606T200000
DTSTAMP:20260421T004927
CREATED:20240525T135704Z
LAST-MODIFIED:20251023T160439Z
UID:10014681-1749150000-1812312000@www.knowlewest.co.uk
SUMMARY:Knowle Boxing Club
DESCRIPTION:About this event: Knowle Boxing Club is for male and females\, adults and children from 9 years + \nWhen: Mondays 7pm – 8.30pm and Thursdays 7-8pm. \nWhere: Sports Hall\, Filwood Community Centre\, Barnstaple Road\, Knowle West\, Bristol\, BS4 1JP \nPrice: Ask for details \nMore information: Call: Bobby 0777 577 3686
URL:https://www.knowlewest.co.uk/whats-on/boxing-club-2/2025-06-05/
CATEGORIES:All Ages,Everyone is welcome,Wellbeing
ATTACH;FMTTYPE=:
END:VEVENT
END:VCALENDAR