BEGIN:VCALENDAR
VERSION:2.0
PRODID:-//Knowle West Community - ECPv6.15.17//NONSGML v1.0//EN
CALSCALE:GREGORIAN
METHOD:PUBLISH
X-ORIGINAL-URL:https://www.knowlewest.co.uk
X-WR-CALDESC:Events for Knowle West Community
REFRESH-INTERVAL;VALUE=DURATION:PT1H
X-Robots-Tag:noindex
X-PUBLISHED-TTL:PT1H
BEGIN:VTIMEZONE
TZID:Europe/London
BEGIN:DAYLIGHT
TZOFFSETFROM:+0000
TZOFFSETTO:+0100
TZNAME:BST
DTSTART:20240331T010000
END:DAYLIGHT
BEGIN:STANDARD
TZOFFSETFROM:+0100
TZOFFSETTO:+0000
TZNAME:GMT
DTSTART:20241027T010000
END:STANDARD
BEGIN:DAYLIGHT
TZOFFSETFROM:+0000
TZOFFSETTO:+0100
TZNAME:BST
DTSTART:20250330T010000
END:DAYLIGHT
BEGIN:STANDARD
TZOFFSETFROM:+0100
TZOFFSETTO:+0000
TZNAME:GMT
DTSTART:20251026T010000
END:STANDARD
BEGIN:DAYLIGHT
TZOFFSETFROM:+0000
TZOFFSETTO:+0100
TZNAME:BST
DTSTART:20260329T010000
END:DAYLIGHT
BEGIN:STANDARD
TZOFFSETFROM:+0100
TZOFFSETTO:+0000
TZNAME:GMT
DTSTART:20261025T010000
END:STANDARD
BEGIN:DAYLIGHT
TZOFFSETFROM:+0000
TZOFFSETTO:+0100
TZNAME:BST
DTSTART:20270328T010000
END:DAYLIGHT
BEGIN:STANDARD
TZOFFSETFROM:+0100
TZOFFSETTO:+0000
TZNAME:GMT
DTSTART:20271031T010000
END:STANDARD
BEGIN:DAYLIGHT
TZOFFSETFROM:+0000
TZOFFSETTO:+0100
TZNAME:BST
DTSTART:20280326T010000
END:DAYLIGHT
BEGIN:STANDARD
TZOFFSETFROM:+0100
TZOFFSETTO:+0000
TZNAME:GMT
DTSTART:20281029T010000
END:STANDARD
END:VTIMEZONE
BEGIN:VTIMEZONE
TZID:UTC
BEGIN:STANDARD
TZOFFSETFROM:+0000
TZOFFSETTO:+0000
TZNAME:UTC
DTSTART:20240101T000000
END:STANDARD
END:VTIMEZONE
BEGIN:VEVENT
DTSTART;TZID=Europe/London:20250210T170000
DTEND;TZID=Europe/London:20260211T180000
DTSTAMP:20260426T022547
CREATED:20240525T135703Z
LAST-MODIFIED:20251023T160251Z
UID:10006061-1739206800-1770832800@www.knowlewest.co.uk
SUMMARY:Slimming World
DESCRIPTION:About this event: Slimming World is a weight loss plan like no other. Millions have reached their dream weight with our generous no-hunger eating plan. Add an activity programme that starts when the time’s right for you\, plus unbeatable support\, and you’ll soon discover the Slimming World difference.\n\n\n\nWhen: Mondays 10am\, 5pm and 6.30pm \nWhere: Sports Hall\, Filwood Community Centre\, Knowle\, Bristol\, BS4 1JP \nPrice: Ask for details\, telephone Sarah 07879 443888
URL:https://www.knowlewest.co.uk/whats-on/slimming-world-2/2025-02-10/
CATEGORIES:All Ages,Everyone is welcome,Wellbeing
ATTACH;FMTTYPE=:
END:VEVENT
BEGIN:VEVENT
DTSTART;TZID=Europe/London:20250213T123000
DTEND;TZID=Europe/London:20251224T143000
DTSTAMP:20260426T022547
CREATED:20230720T173927Z
LAST-MODIFIED:20251023T155007Z
UID:10004530-1739449800-1766586600@www.knowlewest.co.uk
SUMMARY:Food Club
DESCRIPTION:Family Action has launched Food On Our Doorstep (FOOD) clubs in Bristol and the SW to provide families with good-quality food at a low cost\, while also reducing food waste.\nIt costs just £1 a year for your family to become a member. Once you’ve joined\, you can purchase a bag of tasty food items for just £3.50 every week (worth approximately £15).\nTo become a member you must live or work within 15 minutes of the club. \nInns Court Community Centre\, Marshall Walk\, Knowle\, BS4 1TR\nFriday 1.30-3pm \nTo find out more\, please email\nbr**************@***************rg.uk
URL:https://www.knowlewest.co.uk/whats-on/food-club-2/2025-02-13/
CATEGORIES:Families,Social Action,Wellbeing
ATTACH;FMTTYPE=:
END:VEVENT
BEGIN:VEVENT
DTSTART;TZID=Europe/London:20250213T190000
DTEND;TZID=Europe/London:20270214T200000
DTSTAMP:20260426T022547
CREATED:20240525T135704Z
LAST-MODIFIED:20251023T160439Z
UID:10006243-1739473200-1802635200@www.knowlewest.co.uk
SUMMARY:Knowle Boxing Club
DESCRIPTION:About this event: Knowle Boxing Club is for male and females\, adults and children from 9 years + \nWhen: Mondays 7pm – 8.30pm and Thursdays 7-8pm. \nWhere: Sports Hall\, Filwood Community Centre\, Barnstaple Road\, Knowle West\, Bristol\, BS4 1JP \nPrice: Ask for details \nMore information: Call: Bobby 0777 577 3686
URL:https://www.knowlewest.co.uk/whats-on/boxing-club-2/2025-02-13/
CATEGORIES:All Ages,Everyone is welcome,Wellbeing
ATTACH;FMTTYPE=:
END:VEVENT
BEGIN:VEVENT
DTSTART;TZID=Europe/London:20250217T170000
DTEND;TZID=Europe/London:20260218T180000
DTSTAMP:20260426T022547
CREATED:20240525T135703Z
LAST-MODIFIED:20251023T160251Z
UID:10006062-1739811600-1771437600@www.knowlewest.co.uk
SUMMARY:Slimming World
DESCRIPTION:About this event: Slimming World is a weight loss plan like no other. Millions have reached their dream weight with our generous no-hunger eating plan. Add an activity programme that starts when the time’s right for you\, plus unbeatable support\, and you’ll soon discover the Slimming World difference.\n\n\n\nWhen: Mondays 10am\, 5pm and 6.30pm \nWhere: Sports Hall\, Filwood Community Centre\, Knowle\, Bristol\, BS4 1JP \nPrice: Ask for details\, telephone Sarah 07879 443888
URL:https://www.knowlewest.co.uk/whats-on/slimming-world-2/2025-02-17/
CATEGORIES:All Ages,Everyone is welcome,Wellbeing
ATTACH;FMTTYPE=:
END:VEVENT
BEGIN:VEVENT
DTSTART;TZID=Europe/London:20250220T123000
DTEND;TZID=Europe/London:20251231T143000
DTSTAMP:20260426T022547
CREATED:20230720T173927Z
LAST-MODIFIED:20251023T155007Z
UID:10004531-1740054600-1767191400@www.knowlewest.co.uk
SUMMARY:Food Club
DESCRIPTION:Family Action has launched Food On Our Doorstep (FOOD) clubs in Bristol and the SW to provide families with good-quality food at a low cost\, while also reducing food waste.\nIt costs just £1 a year for your family to become a member. Once you’ve joined\, you can purchase a bag of tasty food items for just £3.50 every week (worth approximately £15).\nTo become a member you must live or work within 15 minutes of the club. \nInns Court Community Centre\, Marshall Walk\, Knowle\, BS4 1TR\nFriday 1.30-3pm \nTo find out more\, please email\nbr**************@***************rg.uk
URL:https://www.knowlewest.co.uk/whats-on/food-club-2/2025-02-20/
CATEGORIES:Families,Social Action,Wellbeing
ATTACH;FMTTYPE=:
END:VEVENT
BEGIN:VEVENT
DTSTART;TZID=Europe/London:20250220T190000
DTEND;TZID=Europe/London:20270221T200000
DTSTAMP:20260426T022547
CREATED:20240525T135704Z
LAST-MODIFIED:20251023T160439Z
UID:10006244-1740078000-1803240000@www.knowlewest.co.uk
SUMMARY:Knowle Boxing Club
DESCRIPTION:About this event: Knowle Boxing Club is for male and females\, adults and children from 9 years + \nWhen: Mondays 7pm – 8.30pm and Thursdays 7-8pm. \nWhere: Sports Hall\, Filwood Community Centre\, Barnstaple Road\, Knowle West\, Bristol\, BS4 1JP \nPrice: Ask for details \nMore information: Call: Bobby 0777 577 3686
URL:https://www.knowlewest.co.uk/whats-on/boxing-club-2/2025-02-20/
CATEGORIES:All Ages,Everyone is welcome,Wellbeing
ATTACH;FMTTYPE=:
END:VEVENT
BEGIN:VEVENT
DTSTART;TZID=Europe/London:20250224T170000
DTEND;TZID=Europe/London:20260225T180000
DTSTAMP:20260426T022547
CREATED:20240525T135703Z
LAST-MODIFIED:20251023T160251Z
UID:10006063-1740416400-1772042400@www.knowlewest.co.uk
SUMMARY:Slimming World
DESCRIPTION:About this event: Slimming World is a weight loss plan like no other. Millions have reached their dream weight with our generous no-hunger eating plan. Add an activity programme that starts when the time’s right for you\, plus unbeatable support\, and you’ll soon discover the Slimming World difference.\n\n\n\nWhen: Mondays 10am\, 5pm and 6.30pm \nWhere: Sports Hall\, Filwood Community Centre\, Knowle\, Bristol\, BS4 1JP \nPrice: Ask for details\, telephone Sarah 07879 443888
URL:https://www.knowlewest.co.uk/whats-on/slimming-world-2/2025-02-24/
CATEGORIES:All Ages,Everyone is welcome,Wellbeing
ATTACH;FMTTYPE=:
END:VEVENT
BEGIN:VEVENT
DTSTART;TZID=Europe/London:20250227T123000
DTEND;TZID=Europe/London:20260107T143000
DTSTAMP:20260426T022547
CREATED:20230720T173927Z
LAST-MODIFIED:20251023T155007Z
UID:10004532-1740659400-1767796200@www.knowlewest.co.uk
SUMMARY:Food Club
DESCRIPTION:Family Action has launched Food On Our Doorstep (FOOD) clubs in Bristol and the SW to provide families with good-quality food at a low cost\, while also reducing food waste.\nIt costs just £1 a year for your family to become a member. Once you’ve joined\, you can purchase a bag of tasty food items for just £3.50 every week (worth approximately £15).\nTo become a member you must live or work within 15 minutes of the club. \nInns Court Community Centre\, Marshall Walk\, Knowle\, BS4 1TR\nFriday 1.30-3pm \nTo find out more\, please email\nbr**************@***************rg.uk
URL:https://www.knowlewest.co.uk/whats-on/food-club-2/2025-02-27/
CATEGORIES:Families,Social Action,Wellbeing
ATTACH;FMTTYPE=:
END:VEVENT
BEGIN:VEVENT
DTSTART;TZID=Europe/London:20250227T190000
DTEND;TZID=Europe/London:20270228T200000
DTSTAMP:20260426T022547
CREATED:20240525T135704Z
LAST-MODIFIED:20251023T160439Z
UID:10006245-1740682800-1803844800@www.knowlewest.co.uk
SUMMARY:Knowle Boxing Club
DESCRIPTION:About this event: Knowle Boxing Club is for male and females\, adults and children from 9 years + \nWhen: Mondays 7pm – 8.30pm and Thursdays 7-8pm. \nWhere: Sports Hall\, Filwood Community Centre\, Barnstaple Road\, Knowle West\, Bristol\, BS4 1JP \nPrice: Ask for details \nMore information: Call: Bobby 0777 577 3686
URL:https://www.knowlewest.co.uk/whats-on/boxing-club-2/2025-02-27/
CATEGORIES:All Ages,Everyone is welcome,Wellbeing
ATTACH;FMTTYPE=:
END:VEVENT
BEGIN:VEVENT
DTSTART;TZID=Europe/London:20250303T170000
DTEND;TZID=Europe/London:20260304T180000
DTSTAMP:20260426T022547
CREATED:20240525T135703Z
LAST-MODIFIED:20251023T160251Z
UID:10006064-1741021200-1772647200@www.knowlewest.co.uk
SUMMARY:Slimming World
DESCRIPTION:About this event: Slimming World is a weight loss plan like no other. Millions have reached their dream weight with our generous no-hunger eating plan. Add an activity programme that starts when the time’s right for you\, plus unbeatable support\, and you’ll soon discover the Slimming World difference.\n\n\n\nWhen: Mondays 10am\, 5pm and 6.30pm \nWhere: Sports Hall\, Filwood Community Centre\, Knowle\, Bristol\, BS4 1JP \nPrice: Ask for details\, telephone Sarah 07879 443888
URL:https://www.knowlewest.co.uk/whats-on/slimming-world-2/2025-03-03/
CATEGORIES:All Ages,Everyone is welcome,Wellbeing
ATTACH;FMTTYPE=:
END:VEVENT
BEGIN:VEVENT
DTSTART;TZID=Europe/London:20250306T123000
DTEND;TZID=Europe/London:20260114T143000
DTSTAMP:20260426T022547
CREATED:20230720T173927Z
LAST-MODIFIED:20251023T155007Z
UID:10004533-1741264200-1768401000@www.knowlewest.co.uk
SUMMARY:Food Club
DESCRIPTION:Family Action has launched Food On Our Doorstep (FOOD) clubs in Bristol and the SW to provide families with good-quality food at a low cost\, while also reducing food waste.\nIt costs just £1 a year for your family to become a member. Once you’ve joined\, you can purchase a bag of tasty food items for just £3.50 every week (worth approximately £15).\nTo become a member you must live or work within 15 minutes of the club. \nInns Court Community Centre\, Marshall Walk\, Knowle\, BS4 1TR\nFriday 1.30-3pm \nTo find out more\, please email\nbr**************@***************rg.uk
URL:https://www.knowlewest.co.uk/whats-on/food-club-2/2025-03-06/
CATEGORIES:Families,Social Action,Wellbeing
ATTACH;FMTTYPE=:
END:VEVENT
BEGIN:VEVENT
DTSTART;TZID=Europe/London:20250306T190000
DTEND;TZID=Europe/London:20270307T200000
DTSTAMP:20260426T022547
CREATED:20240525T135704Z
LAST-MODIFIED:20251023T160439Z
UID:10006246-1741287600-1804449600@www.knowlewest.co.uk
SUMMARY:Knowle Boxing Club
DESCRIPTION:About this event: Knowle Boxing Club is for male and females\, adults and children from 9 years + \nWhen: Mondays 7pm – 8.30pm and Thursdays 7-8pm. \nWhere: Sports Hall\, Filwood Community Centre\, Barnstaple Road\, Knowle West\, Bristol\, BS4 1JP \nPrice: Ask for details \nMore information: Call: Bobby 0777 577 3686
URL:https://www.knowlewest.co.uk/whats-on/boxing-club-2/2025-03-06/
CATEGORIES:All Ages,Everyone is welcome,Wellbeing
ATTACH;FMTTYPE=:
END:VEVENT
BEGIN:VEVENT
DTSTART;TZID=Europe/London:20250310T170000
DTEND;TZID=Europe/London:20260311T180000
DTSTAMP:20260426T022547
CREATED:20240525T135703Z
LAST-MODIFIED:20251023T160251Z
UID:10006065-1741626000-1773252000@www.knowlewest.co.uk
SUMMARY:Slimming World
DESCRIPTION:About this event: Slimming World is a weight loss plan like no other. Millions have reached their dream weight with our generous no-hunger eating plan. Add an activity programme that starts when the time’s right for you\, plus unbeatable support\, and you’ll soon discover the Slimming World difference.\n\n\n\nWhen: Mondays 10am\, 5pm and 6.30pm \nWhere: Sports Hall\, Filwood Community Centre\, Knowle\, Bristol\, BS4 1JP \nPrice: Ask for details\, telephone Sarah 07879 443888
URL:https://www.knowlewest.co.uk/whats-on/slimming-world-2/2025-03-10/
CATEGORIES:All Ages,Everyone is welcome,Wellbeing
ATTACH;FMTTYPE=:
END:VEVENT
BEGIN:VEVENT
DTSTART;TZID=Europe/London:20250313T123000
DTEND;TZID=Europe/London:20260121T143000
DTSTAMP:20260426T022547
CREATED:20230720T173927Z
LAST-MODIFIED:20251023T155007Z
UID:10004534-1741869000-1769005800@www.knowlewest.co.uk
SUMMARY:Food Club
DESCRIPTION:Family Action has launched Food On Our Doorstep (FOOD) clubs in Bristol and the SW to provide families with good-quality food at a low cost\, while also reducing food waste.\nIt costs just £1 a year for your family to become a member. Once you’ve joined\, you can purchase a bag of tasty food items for just £3.50 every week (worth approximately £15).\nTo become a member you must live or work within 15 minutes of the club. \nInns Court Community Centre\, Marshall Walk\, Knowle\, BS4 1TR\nFriday 1.30-3pm \nTo find out more\, please email\nbr**************@***************rg.uk
URL:https://www.knowlewest.co.uk/whats-on/food-club-2/2025-03-13/
CATEGORIES:Families,Social Action,Wellbeing
ATTACH;FMTTYPE=:
END:VEVENT
BEGIN:VEVENT
DTSTART;TZID=Europe/London:20250313T190000
DTEND;TZID=Europe/London:20270314T200000
DTSTAMP:20260426T022547
CREATED:20240525T135704Z
LAST-MODIFIED:20251023T160439Z
UID:10006247-1741892400-1805054400@www.knowlewest.co.uk
SUMMARY:Knowle Boxing Club
DESCRIPTION:About this event: Knowle Boxing Club is for male and females\, adults and children from 9 years + \nWhen: Mondays 7pm – 8.30pm and Thursdays 7-8pm. \nWhere: Sports Hall\, Filwood Community Centre\, Barnstaple Road\, Knowle West\, Bristol\, BS4 1JP \nPrice: Ask for details \nMore information: Call: Bobby 0777 577 3686
URL:https://www.knowlewest.co.uk/whats-on/boxing-club-2/2025-03-13/
CATEGORIES:All Ages,Everyone is welcome,Wellbeing
ATTACH;FMTTYPE=:
END:VEVENT
BEGIN:VEVENT
DTSTART;TZID=Europe/London:20250317T170000
DTEND;TZID=Europe/London:20260318T180000
DTSTAMP:20260426T022547
CREATED:20240525T135703Z
LAST-MODIFIED:20251023T160251Z
UID:10006066-1742230800-1773856800@www.knowlewest.co.uk
SUMMARY:Slimming World
DESCRIPTION:About this event: Slimming World is a weight loss plan like no other. Millions have reached their dream weight with our generous no-hunger eating plan. Add an activity programme that starts when the time’s right for you\, plus unbeatable support\, and you’ll soon discover the Slimming World difference.\n\n\n\nWhen: Mondays 10am\, 5pm and 6.30pm \nWhere: Sports Hall\, Filwood Community Centre\, Knowle\, Bristol\, BS4 1JP \nPrice: Ask for details\, telephone Sarah 07879 443888
URL:https://www.knowlewest.co.uk/whats-on/slimming-world-2/2025-03-17/
CATEGORIES:All Ages,Everyone is welcome,Wellbeing
ATTACH;FMTTYPE=:
END:VEVENT
BEGIN:VEVENT
DTSTART;TZID=Europe/London:20250320T123000
DTEND;TZID=Europe/London:20260128T143000
DTSTAMP:20260426T022547
CREATED:20230720T173927Z
LAST-MODIFIED:20251023T155007Z
UID:10004535-1742473800-1769610600@www.knowlewest.co.uk
SUMMARY:Food Club
DESCRIPTION:Family Action has launched Food On Our Doorstep (FOOD) clubs in Bristol and the SW to provide families with good-quality food at a low cost\, while also reducing food waste.\nIt costs just £1 a year for your family to become a member. Once you’ve joined\, you can purchase a bag of tasty food items for just £3.50 every week (worth approximately £15).\nTo become a member you must live or work within 15 minutes of the club. \nInns Court Community Centre\, Marshall Walk\, Knowle\, BS4 1TR\nFriday 1.30-3pm \nTo find out more\, please email\nbr**************@***************rg.uk
URL:https://www.knowlewest.co.uk/whats-on/food-club-2/2025-03-20/
CATEGORIES:Families,Social Action,Wellbeing
ATTACH;FMTTYPE=:
END:VEVENT
BEGIN:VEVENT
DTSTART;TZID=Europe/London:20250320T190000
DTEND;TZID=Europe/London:20270321T200000
DTSTAMP:20260426T022547
CREATED:20240525T135704Z
LAST-MODIFIED:20251023T160439Z
UID:10006248-1742497200-1805659200@www.knowlewest.co.uk
SUMMARY:Knowle Boxing Club
DESCRIPTION:About this event: Knowle Boxing Club is for male and females\, adults and children from 9 years + \nWhen: Mondays 7pm – 8.30pm and Thursdays 7-8pm. \nWhere: Sports Hall\, Filwood Community Centre\, Barnstaple Road\, Knowle West\, Bristol\, BS4 1JP \nPrice: Ask for details \nMore information: Call: Bobby 0777 577 3686
URL:https://www.knowlewest.co.uk/whats-on/boxing-club-2/2025-03-20/
CATEGORIES:All Ages,Everyone is welcome,Wellbeing
ATTACH;FMTTYPE=:
END:VEVENT
BEGIN:VEVENT
DTSTART;TZID=Europe/London:20250324T170000
DTEND;TZID=Europe/London:20260325T180000
DTSTAMP:20260426T022547
CREATED:20240525T135703Z
LAST-MODIFIED:20251023T160251Z
UID:10006067-1742835600-1774461600@www.knowlewest.co.uk
SUMMARY:Slimming World
DESCRIPTION:About this event: Slimming World is a weight loss plan like no other. Millions have reached their dream weight with our generous no-hunger eating plan. Add an activity programme that starts when the time’s right for you\, plus unbeatable support\, and you’ll soon discover the Slimming World difference.\n\n\n\nWhen: Mondays 10am\, 5pm and 6.30pm \nWhere: Sports Hall\, Filwood Community Centre\, Knowle\, Bristol\, BS4 1JP \nPrice: Ask for details\, telephone Sarah 07879 443888
URL:https://www.knowlewest.co.uk/whats-on/slimming-world-2/2025-03-24/
CATEGORIES:All Ages,Everyone is welcome,Wellbeing
ATTACH;FMTTYPE=:
END:VEVENT
BEGIN:VEVENT
DTSTART;TZID=Europe/London:20250327T123000
DTEND;TZID=Europe/London:20260204T143000
DTSTAMP:20260426T022547
CREATED:20230720T173927Z
LAST-MODIFIED:20251023T155007Z
UID:10004536-1743078600-1770215400@www.knowlewest.co.uk
SUMMARY:Food Club
DESCRIPTION:Family Action has launched Food On Our Doorstep (FOOD) clubs in Bristol and the SW to provide families with good-quality food at a low cost\, while also reducing food waste.\nIt costs just £1 a year for your family to become a member. Once you’ve joined\, you can purchase a bag of tasty food items for just £3.50 every week (worth approximately £15).\nTo become a member you must live or work within 15 minutes of the club. \nInns Court Community Centre\, Marshall Walk\, Knowle\, BS4 1TR\nFriday 1.30-3pm \nTo find out more\, please email\nbr**************@***************rg.uk
URL:https://www.knowlewest.co.uk/whats-on/food-club-2/2025-03-27/
CATEGORIES:Families,Social Action,Wellbeing
ATTACH;FMTTYPE=:
END:VEVENT
BEGIN:VEVENT
DTSTART;TZID=Europe/London:20250327T190000
DTEND;TZID=Europe/London:20270328T200000
DTSTAMP:20260426T022547
CREATED:20240525T135704Z
LAST-MODIFIED:20251023T160439Z
UID:10006249-1743102000-1806264000@www.knowlewest.co.uk
SUMMARY:Knowle Boxing Club
DESCRIPTION:About this event: Knowle Boxing Club is for male and females\, adults and children from 9 years + \nWhen: Mondays 7pm – 8.30pm and Thursdays 7-8pm. \nWhere: Sports Hall\, Filwood Community Centre\, Barnstaple Road\, Knowle West\, Bristol\, BS4 1JP \nPrice: Ask for details \nMore information: Call: Bobby 0777 577 3686
URL:https://www.knowlewest.co.uk/whats-on/boxing-club-2/2025-03-27/
CATEGORIES:All Ages,Everyone is welcome,Wellbeing
ATTACH;FMTTYPE=:
END:VEVENT
BEGIN:VEVENT
DTSTART;TZID=Europe/London:20250331T170000
DTEND;TZID=Europe/London:20260401T180000
DTSTAMP:20260426T022547
CREATED:20240525T135703Z
LAST-MODIFIED:20251023T160251Z
UID:10006068-1743440400-1775066400@www.knowlewest.co.uk
SUMMARY:Slimming World
DESCRIPTION:About this event: Slimming World is a weight loss plan like no other. Millions have reached their dream weight with our generous no-hunger eating plan. Add an activity programme that starts when the time’s right for you\, plus unbeatable support\, and you’ll soon discover the Slimming World difference.\n\n\n\nWhen: Mondays 10am\, 5pm and 6.30pm \nWhere: Sports Hall\, Filwood Community Centre\, Knowle\, Bristol\, BS4 1JP \nPrice: Ask for details\, telephone Sarah 07879 443888
URL:https://www.knowlewest.co.uk/whats-on/slimming-world-2/2025-03-31/
CATEGORIES:All Ages,Everyone is welcome,Wellbeing
ATTACH;FMTTYPE=:
END:VEVENT
BEGIN:VEVENT
DTSTART;TZID=Europe/London:20250403T123000
DTEND;TZID=Europe/London:20260211T133000
DTSTAMP:20260426T022547
CREATED:20230720T173927Z
LAST-MODIFIED:20251023T155007Z
UID:10004537-1743683400-1770816600@www.knowlewest.co.uk
SUMMARY:Food Club
DESCRIPTION:Family Action has launched Food On Our Doorstep (FOOD) clubs in Bristol and the SW to provide families with good-quality food at a low cost\, while also reducing food waste.\nIt costs just £1 a year for your family to become a member. Once you’ve joined\, you can purchase a bag of tasty food items for just £3.50 every week (worth approximately £15).\nTo become a member you must live or work within 15 minutes of the club. \nInns Court Community Centre\, Marshall Walk\, Knowle\, BS4 1TR\nFriday 1.30-3pm \nTo find out more\, please email\nbr**************@***************rg.uk
URL:https://www.knowlewest.co.uk/whats-on/food-club-2/2025-04-03/
CATEGORIES:Families,Social Action,Wellbeing
ATTACH;FMTTYPE=:
END:VEVENT
BEGIN:VEVENT
DTSTART;TZID=Europe/London:20250403T190000
DTEND;TZID=Europe/London:20270404T200000
DTSTAMP:20260426T022547
CREATED:20240525T135704Z
LAST-MODIFIED:20251023T160439Z
UID:10006250-1743706800-1806868800@www.knowlewest.co.uk
SUMMARY:Knowle Boxing Club
DESCRIPTION:About this event: Knowle Boxing Club is for male and females\, adults and children from 9 years + \nWhen: Mondays 7pm – 8.30pm and Thursdays 7-8pm. \nWhere: Sports Hall\, Filwood Community Centre\, Barnstaple Road\, Knowle West\, Bristol\, BS4 1JP \nPrice: Ask for details \nMore information: Call: Bobby 0777 577 3686
URL:https://www.knowlewest.co.uk/whats-on/boxing-club-2/2025-04-03/
CATEGORIES:All Ages,Everyone is welcome,Wellbeing
ATTACH;FMTTYPE=:
END:VEVENT
BEGIN:VEVENT
DTSTART;TZID=Europe/London:20250407T170000
DTEND;TZID=Europe/London:20260408T180000
DTSTAMP:20260426T022547
CREATED:20240525T135703Z
LAST-MODIFIED:20251023T160251Z
UID:10006069-1744045200-1775671200@www.knowlewest.co.uk
SUMMARY:Slimming World
DESCRIPTION:About this event: Slimming World is a weight loss plan like no other. Millions have reached their dream weight with our generous no-hunger eating plan. Add an activity programme that starts when the time’s right for you\, plus unbeatable support\, and you’ll soon discover the Slimming World difference.\n\n\n\nWhen: Mondays 10am\, 5pm and 6.30pm \nWhere: Sports Hall\, Filwood Community Centre\, Knowle\, Bristol\, BS4 1JP \nPrice: Ask for details\, telephone Sarah 07879 443888
URL:https://www.knowlewest.co.uk/whats-on/slimming-world-2/2025-04-07/
CATEGORIES:All Ages,Everyone is welcome,Wellbeing
ATTACH;FMTTYPE=:
END:VEVENT
BEGIN:VEVENT
DTSTART;TZID=Europe/London:20250410T123000
DTEND;TZID=Europe/London:20260218T133000
DTSTAMP:20260426T022547
CREATED:20230720T173927Z
LAST-MODIFIED:20251023T155007Z
UID:10004538-1744288200-1771421400@www.knowlewest.co.uk
SUMMARY:Food Club
DESCRIPTION:Family Action has launched Food On Our Doorstep (FOOD) clubs in Bristol and the SW to provide families with good-quality food at a low cost\, while also reducing food waste.\nIt costs just £1 a year for your family to become a member. Once you’ve joined\, you can purchase a bag of tasty food items for just £3.50 every week (worth approximately £15).\nTo become a member you must live or work within 15 minutes of the club. \nInns Court Community Centre\, Marshall Walk\, Knowle\, BS4 1TR\nFriday 1.30-3pm \nTo find out more\, please email\nbr**************@***************rg.uk
URL:https://www.knowlewest.co.uk/whats-on/food-club-2/2025-04-10/
CATEGORIES:Families,Social Action,Wellbeing
ATTACH;FMTTYPE=:
END:VEVENT
BEGIN:VEVENT
DTSTART;TZID=Europe/London:20250410T190000
DTEND;TZID=Europe/London:20270411T200000
DTSTAMP:20260426T022547
CREATED:20240525T135704Z
LAST-MODIFIED:20251023T160439Z
UID:10006251-1744311600-1807473600@www.knowlewest.co.uk
SUMMARY:Knowle Boxing Club
DESCRIPTION:About this event: Knowle Boxing Club is for male and females\, adults and children from 9 years + \nWhen: Mondays 7pm – 8.30pm and Thursdays 7-8pm. \nWhere: Sports Hall\, Filwood Community Centre\, Barnstaple Road\, Knowle West\, Bristol\, BS4 1JP \nPrice: Ask for details \nMore information: Call: Bobby 0777 577 3686
URL:https://www.knowlewest.co.uk/whats-on/boxing-club-2/2025-04-10/
CATEGORIES:All Ages,Everyone is welcome,Wellbeing
ATTACH;FMTTYPE=:
END:VEVENT
BEGIN:VEVENT
DTSTART;TZID=Europe/London:20250414T170000
DTEND;TZID=Europe/London:20260415T180000
DTSTAMP:20260426T022547
CREATED:20240525T135703Z
LAST-MODIFIED:20251023T160251Z
UID:10006070-1744650000-1776276000@www.knowlewest.co.uk
SUMMARY:Slimming World
DESCRIPTION:About this event: Slimming World is a weight loss plan like no other. Millions have reached their dream weight with our generous no-hunger eating plan. Add an activity programme that starts when the time’s right for you\, plus unbeatable support\, and you’ll soon discover the Slimming World difference.\n\n\n\nWhen: Mondays 10am\, 5pm and 6.30pm \nWhere: Sports Hall\, Filwood Community Centre\, Knowle\, Bristol\, BS4 1JP \nPrice: Ask for details\, telephone Sarah 07879 443888
URL:https://www.knowlewest.co.uk/whats-on/slimming-world-2/2025-04-14/
CATEGORIES:All Ages,Everyone is welcome,Wellbeing
ATTACH;FMTTYPE=:
END:VEVENT
BEGIN:VEVENT
DTSTART;TZID=UTC:20250416T100000
DTEND;TZID=UTC:20251126T120000
DTSTAMP:20260426T022547
CREATED:20220810T144257Z
LAST-MODIFIED:20251023T154136Z
UID:10000925-1744797600-1764158400@www.knowlewest.co.uk
SUMMARY:ESOL / English language for everyday course
DESCRIPTION:Free\, weekly course to help you practice your English skills in reading\, writing and speaking. Learn with other adults in a friendly group.\nContact Lucy Fieldhouse on (m) 07788 353 446
URL:https://www.knowlewest.co.uk/whats-on/esol-english-language-for-everyday-course/2025-04-16/
ATTACH;FMTTYPE=:
END:VEVENT
BEGIN:VEVENT
DTSTART;TZID=Europe/London:20250417T123000
DTEND;TZID=Europe/London:20260225T133000
DTSTAMP:20260426T022547
CREATED:20230720T173927Z
LAST-MODIFIED:20251023T155007Z
UID:10004539-1744893000-1772026200@www.knowlewest.co.uk
SUMMARY:Food Club
DESCRIPTION:Family Action has launched Food On Our Doorstep (FOOD) clubs in Bristol and the SW to provide families with good-quality food at a low cost\, while also reducing food waste.\nIt costs just £1 a year for your family to become a member. Once you’ve joined\, you can purchase a bag of tasty food items for just £3.50 every week (worth approximately £15).\nTo become a member you must live or work within 15 minutes of the club. \nInns Court Community Centre\, Marshall Walk\, Knowle\, BS4 1TR\nFriday 1.30-3pm \nTo find out more\, please email\nbr**************@***************rg.uk
URL:https://www.knowlewest.co.uk/whats-on/food-club-2/2025-04-17/
CATEGORIES:Families,Social Action,Wellbeing
ATTACH;FMTTYPE=:
END:VEVENT
END:VCALENDAR