BEGIN:VCALENDAR
VERSION:2.0
PRODID:-//Knowle West Community - ECPv6.15.17//NONSGML v1.0//EN
CALSCALE:GREGORIAN
METHOD:PUBLISH
X-ORIGINAL-URL:https://www.knowlewest.co.uk
X-WR-CALDESC:Events for Knowle West Community
REFRESH-INTERVAL;VALUE=DURATION:PT1H
X-Robots-Tag:noindex
X-PUBLISHED-TTL:PT1H
BEGIN:VTIMEZONE
TZID:Europe/London
BEGIN:DAYLIGHT
TZOFFSETFROM:+0000
TZOFFSETTO:+0100
TZNAME:BST
DTSTART:20230326T010000
END:DAYLIGHT
BEGIN:STANDARD
TZOFFSETFROM:+0100
TZOFFSETTO:+0000
TZNAME:GMT
DTSTART:20231029T010000
END:STANDARD
BEGIN:DAYLIGHT
TZOFFSETFROM:+0000
TZOFFSETTO:+0100
TZNAME:BST
DTSTART:20240331T010000
END:DAYLIGHT
BEGIN:STANDARD
TZOFFSETFROM:+0100
TZOFFSETTO:+0000
TZNAME:GMT
DTSTART:20241027T010000
END:STANDARD
BEGIN:DAYLIGHT
TZOFFSETFROM:+0000
TZOFFSETTO:+0100
TZNAME:BST
DTSTART:20250330T010000
END:DAYLIGHT
BEGIN:STANDARD
TZOFFSETFROM:+0100
TZOFFSETTO:+0000
TZNAME:GMT
DTSTART:20251026T010000
END:STANDARD
BEGIN:DAYLIGHT
TZOFFSETFROM:+0000
TZOFFSETTO:+0100
TZNAME:BST
DTSTART:20260329T010000
END:DAYLIGHT
BEGIN:STANDARD
TZOFFSETFROM:+0100
TZOFFSETTO:+0000
TZNAME:GMT
DTSTART:20261025T010000
END:STANDARD
BEGIN:DAYLIGHT
TZOFFSETFROM:+0000
TZOFFSETTO:+0100
TZNAME:BST
DTSTART:20270328T010000
END:DAYLIGHT
BEGIN:STANDARD
TZOFFSETFROM:+0100
TZOFFSETTO:+0000
TZNAME:GMT
DTSTART:20271031T010000
END:STANDARD
END:VTIMEZONE
BEGIN:VTIMEZONE
TZID:UTC
BEGIN:STANDARD
TZOFFSETFROM:+0000
TZOFFSETTO:+0000
TZNAME:UTC
DTSTART:20230101T000000
END:STANDARD
END:VTIMEZONE
BEGIN:VEVENT
DTSTART;TZID=Europe/London:20240916T170000
DTEND;TZID=Europe/London:20250917T180000
DTSTAMP:20260426T004909
CREATED:20240525T135703Z
LAST-MODIFIED:20251023T160251Z
UID:10006040-1726506000-1758132000@www.knowlewest.co.uk
SUMMARY:Slimming World
DESCRIPTION:About this event: Slimming World is a weight loss plan like no other. Millions have reached their dream weight with our generous no-hunger eating plan. Add an activity programme that starts when the time’s right for you\, plus unbeatable support\, and you’ll soon discover the Slimming World difference.\n\n\n\nWhen: Mondays 10am\, 5pm and 6.30pm \nWhere: Sports Hall\, Filwood Community Centre\, Knowle\, Bristol\, BS4 1JP \nPrice: Ask for details\, telephone Sarah 07879 443888
URL:https://www.knowlewest.co.uk/whats-on/slimming-world-2/2024-09-16/
CATEGORIES:All Ages,Everyone is welcome,Wellbeing
ATTACH;FMTTYPE=:
END:VEVENT
BEGIN:VEVENT
DTSTART;TZID=Europe/London:20240919T123000
DTEND;TZID=Europe/London:20250730T143000
DTSTAMP:20260426T004909
CREATED:20230720T173927Z
LAST-MODIFIED:20251023T155007Z
UID:10004509-1726749000-1753885800@www.knowlewest.co.uk
SUMMARY:Food Club
DESCRIPTION:Family Action has launched Food On Our Doorstep (FOOD) clubs in Bristol and the SW to provide families with good-quality food at a low cost\, while also reducing food waste.\nIt costs just £1 a year for your family to become a member. Once you’ve joined\, you can purchase a bag of tasty food items for just £3.50 every week (worth approximately £15).\nTo become a member you must live or work within 15 minutes of the club. \nInns Court Community Centre\, Marshall Walk\, Knowle\, BS4 1TR\nFriday 1.30-3pm \nTo find out more\, please email\nbr**************@***************rg.uk
URL:https://www.knowlewest.co.uk/whats-on/food-club-2/2024-09-19/
CATEGORIES:Families,Social Action,Wellbeing
ATTACH;FMTTYPE=:
END:VEVENT
BEGIN:VEVENT
DTSTART;TZID=Europe/London:20240919T190000
DTEND;TZID=Europe/London:20260920T200000
DTSTAMP:20260426T004909
CREATED:20240525T135704Z
LAST-MODIFIED:20251023T160439Z
UID:10006222-1726772400-1789934400@www.knowlewest.co.uk
SUMMARY:Knowle Boxing Club
DESCRIPTION:About this event: Knowle Boxing Club is for male and females\, adults and children from 9 years + \nWhen: Mondays 7pm – 8.30pm and Thursdays 7-8pm. \nWhere: Sports Hall\, Filwood Community Centre\, Barnstaple Road\, Knowle West\, Bristol\, BS4 1JP \nPrice: Ask for details \nMore information: Call: Bobby 0777 577 3686
URL:https://www.knowlewest.co.uk/whats-on/boxing-club-2/2024-09-19/
CATEGORIES:All Ages,Everyone is welcome,Wellbeing
ATTACH;FMTTYPE=:
END:VEVENT
BEGIN:VEVENT
DTSTART;TZID=Europe/London:20240923T170000
DTEND;TZID=Europe/London:20250924T180000
DTSTAMP:20260426T004909
CREATED:20240525T135703Z
LAST-MODIFIED:20251023T160251Z
UID:10006041-1727110800-1758736800@www.knowlewest.co.uk
SUMMARY:Slimming World
DESCRIPTION:About this event: Slimming World is a weight loss plan like no other. Millions have reached their dream weight with our generous no-hunger eating plan. Add an activity programme that starts when the time’s right for you\, plus unbeatable support\, and you’ll soon discover the Slimming World difference.\n\n\n\nWhen: Mondays 10am\, 5pm and 6.30pm \nWhere: Sports Hall\, Filwood Community Centre\, Knowle\, Bristol\, BS4 1JP \nPrice: Ask for details\, telephone Sarah 07879 443888
URL:https://www.knowlewest.co.uk/whats-on/slimming-world-2/2024-09-23/
CATEGORIES:All Ages,Everyone is welcome,Wellbeing
ATTACH;FMTTYPE=:
END:VEVENT
BEGIN:VEVENT
DTSTART;TZID=Europe/London:20240926T123000
DTEND;TZID=Europe/London:20250806T143000
DTSTAMP:20260426T004909
CREATED:20230720T173927Z
LAST-MODIFIED:20251023T155007Z
UID:10004510-1727353800-1754490600@www.knowlewest.co.uk
SUMMARY:Food Club
DESCRIPTION:Family Action has launched Food On Our Doorstep (FOOD) clubs in Bristol and the SW to provide families with good-quality food at a low cost\, while also reducing food waste.\nIt costs just £1 a year for your family to become a member. Once you’ve joined\, you can purchase a bag of tasty food items for just £3.50 every week (worth approximately £15).\nTo become a member you must live or work within 15 minutes of the club. \nInns Court Community Centre\, Marshall Walk\, Knowle\, BS4 1TR\nFriday 1.30-3pm \nTo find out more\, please email\nbr**************@***************rg.uk
URL:https://www.knowlewest.co.uk/whats-on/food-club-2/2024-09-26/
CATEGORIES:Families,Social Action,Wellbeing
ATTACH;FMTTYPE=:
END:VEVENT
BEGIN:VEVENT
DTSTART;TZID=Europe/London:20240926T190000
DTEND;TZID=Europe/London:20260927T200000
DTSTAMP:20260426T004909
CREATED:20240525T135704Z
LAST-MODIFIED:20251023T160439Z
UID:10006223-1727377200-1790539200@www.knowlewest.co.uk
SUMMARY:Knowle Boxing Club
DESCRIPTION:About this event: Knowle Boxing Club is for male and females\, adults and children from 9 years + \nWhen: Mondays 7pm – 8.30pm and Thursdays 7-8pm. \nWhere: Sports Hall\, Filwood Community Centre\, Barnstaple Road\, Knowle West\, Bristol\, BS4 1JP \nPrice: Ask for details \nMore information: Call: Bobby 0777 577 3686
URL:https://www.knowlewest.co.uk/whats-on/boxing-club-2/2024-09-26/
CATEGORIES:All Ages,Everyone is welcome,Wellbeing
ATTACH;FMTTYPE=:
END:VEVENT
BEGIN:VEVENT
DTSTART;TZID=Europe/London:20240930T170000
DTEND;TZID=Europe/London:20251001T180000
DTSTAMP:20260426T004909
CREATED:20240525T135703Z
LAST-MODIFIED:20251023T160251Z
UID:10006042-1727715600-1759341600@www.knowlewest.co.uk
SUMMARY:Slimming World
DESCRIPTION:About this event: Slimming World is a weight loss plan like no other. Millions have reached their dream weight with our generous no-hunger eating plan. Add an activity programme that starts when the time’s right for you\, plus unbeatable support\, and you’ll soon discover the Slimming World difference.\n\n\n\nWhen: Mondays 10am\, 5pm and 6.30pm \nWhere: Sports Hall\, Filwood Community Centre\, Knowle\, Bristol\, BS4 1JP \nPrice: Ask for details\, telephone Sarah 07879 443888
URL:https://www.knowlewest.co.uk/whats-on/slimming-world-2/2024-09-30/
CATEGORIES:All Ages,Everyone is welcome,Wellbeing
ATTACH;FMTTYPE=:
END:VEVENT
BEGIN:VEVENT
DTSTART;TZID=UTC:20241002T100000
DTEND;TZID=UTC:20250514T120000
DTSTAMP:20260426T004909
CREATED:20220810T144257Z
LAST-MODIFIED:20251023T154136Z
UID:10000909-1727863200-1747224000@www.knowlewest.co.uk
SUMMARY:ESOL / English language for everyday course
DESCRIPTION:Free\, weekly course to help you practice your English skills in reading\, writing and speaking. Learn with other adults in a friendly group.\nContact Lucy Fieldhouse on (m) 07788 353 446
URL:https://www.knowlewest.co.uk/whats-on/esol-english-language-for-everyday-course/2024-10-02/
ATTACH;FMTTYPE=:
END:VEVENT
BEGIN:VEVENT
DTSTART;TZID=Europe/London:20241003T123000
DTEND;TZID=Europe/London:20250813T143000
DTSTAMP:20260426T004909
CREATED:20230720T173927Z
LAST-MODIFIED:20251023T155007Z
UID:10004511-1727958600-1755095400@www.knowlewest.co.uk
SUMMARY:Food Club
DESCRIPTION:Family Action has launched Food On Our Doorstep (FOOD) clubs in Bristol and the SW to provide families with good-quality food at a low cost\, while also reducing food waste.\nIt costs just £1 a year for your family to become a member. Once you’ve joined\, you can purchase a bag of tasty food items for just £3.50 every week (worth approximately £15).\nTo become a member you must live or work within 15 minutes of the club. \nInns Court Community Centre\, Marshall Walk\, Knowle\, BS4 1TR\nFriday 1.30-3pm \nTo find out more\, please email\nbr**************@***************rg.uk
URL:https://www.knowlewest.co.uk/whats-on/food-club-2/2024-10-03/
CATEGORIES:Families,Social Action,Wellbeing
ATTACH;FMTTYPE=:
END:VEVENT
BEGIN:VEVENT
DTSTART;TZID=Europe/London:20241003T190000
DTEND;TZID=Europe/London:20261004T200000
DTSTAMP:20260426T004909
CREATED:20240525T135704Z
LAST-MODIFIED:20251023T160439Z
UID:10006224-1727982000-1791144000@www.knowlewest.co.uk
SUMMARY:Knowle Boxing Club
DESCRIPTION:About this event: Knowle Boxing Club is for male and females\, adults and children from 9 years + \nWhen: Mondays 7pm – 8.30pm and Thursdays 7-8pm. \nWhere: Sports Hall\, Filwood Community Centre\, Barnstaple Road\, Knowle West\, Bristol\, BS4 1JP \nPrice: Ask for details \nMore information: Call: Bobby 0777 577 3686
URL:https://www.knowlewest.co.uk/whats-on/boxing-club-2/2024-10-03/
CATEGORIES:All Ages,Everyone is welcome,Wellbeing
ATTACH;FMTTYPE=:
END:VEVENT
BEGIN:VEVENT
DTSTART;TZID=Europe/London:20241007T170000
DTEND;TZID=Europe/London:20251008T180000
DTSTAMP:20260426T004909
CREATED:20240525T135703Z
LAST-MODIFIED:20251023T160251Z
UID:10006043-1728320400-1759946400@www.knowlewest.co.uk
SUMMARY:Slimming World
DESCRIPTION:About this event: Slimming World is a weight loss plan like no other. Millions have reached their dream weight with our generous no-hunger eating plan. Add an activity programme that starts when the time’s right for you\, plus unbeatable support\, and you’ll soon discover the Slimming World difference.\n\n\n\nWhen: Mondays 10am\, 5pm and 6.30pm \nWhere: Sports Hall\, Filwood Community Centre\, Knowle\, Bristol\, BS4 1JP \nPrice: Ask for details\, telephone Sarah 07879 443888
URL:https://www.knowlewest.co.uk/whats-on/slimming-world-2/2024-10-07/
CATEGORIES:All Ages,Everyone is welcome,Wellbeing
ATTACH;FMTTYPE=:
END:VEVENT
BEGIN:VEVENT
DTSTART;TZID=UTC:20241009T100000
DTEND;TZID=UTC:20250521T120000
DTSTAMP:20260426T004909
CREATED:20220810T144257Z
LAST-MODIFIED:20251023T154136Z
UID:10000910-1728468000-1747828800@www.knowlewest.co.uk
SUMMARY:ESOL / English language for everyday course
DESCRIPTION:Free\, weekly course to help you practice your English skills in reading\, writing and speaking. Learn with other adults in a friendly group.\nContact Lucy Fieldhouse on (m) 07788 353 446
URL:https://www.knowlewest.co.uk/whats-on/esol-english-language-for-everyday-course/2024-10-09/
ATTACH;FMTTYPE=:
END:VEVENT
BEGIN:VEVENT
DTSTART;TZID=Europe/London:20241010T123000
DTEND;TZID=Europe/London:20250820T143000
DTSTAMP:20260426T004909
CREATED:20230720T173927Z
LAST-MODIFIED:20251023T155007Z
UID:10004512-1728563400-1755700200@www.knowlewest.co.uk
SUMMARY:Food Club
DESCRIPTION:Family Action has launched Food On Our Doorstep (FOOD) clubs in Bristol and the SW to provide families with good-quality food at a low cost\, while also reducing food waste.\nIt costs just £1 a year for your family to become a member. Once you’ve joined\, you can purchase a bag of tasty food items for just £3.50 every week (worth approximately £15).\nTo become a member you must live or work within 15 minutes of the club. \nInns Court Community Centre\, Marshall Walk\, Knowle\, BS4 1TR\nFriday 1.30-3pm \nTo find out more\, please email\nbr**************@***************rg.uk
URL:https://www.knowlewest.co.uk/whats-on/food-club-2/2024-10-10/
CATEGORIES:Families,Social Action,Wellbeing
ATTACH;FMTTYPE=:
END:VEVENT
BEGIN:VEVENT
DTSTART;TZID=Europe/London:20241010T190000
DTEND;TZID=Europe/London:20261011T200000
DTSTAMP:20260426T004909
CREATED:20240525T135704Z
LAST-MODIFIED:20251023T160439Z
UID:10006225-1728586800-1791748800@www.knowlewest.co.uk
SUMMARY:Knowle Boxing Club
DESCRIPTION:About this event: Knowle Boxing Club is for male and females\, adults and children from 9 years + \nWhen: Mondays 7pm – 8.30pm and Thursdays 7-8pm. \nWhere: Sports Hall\, Filwood Community Centre\, Barnstaple Road\, Knowle West\, Bristol\, BS4 1JP \nPrice: Ask for details \nMore information: Call: Bobby 0777 577 3686
URL:https://www.knowlewest.co.uk/whats-on/boxing-club-2/2024-10-10/
CATEGORIES:All Ages,Everyone is welcome,Wellbeing
ATTACH;FMTTYPE=:
END:VEVENT
BEGIN:VEVENT
DTSTART;TZID=Europe/London:20241014T170000
DTEND;TZID=Europe/London:20251015T180000
DTSTAMP:20260426T004909
CREATED:20240525T135703Z
LAST-MODIFIED:20251023T160251Z
UID:10006044-1728925200-1760551200@www.knowlewest.co.uk
SUMMARY:Slimming World
DESCRIPTION:About this event: Slimming World is a weight loss plan like no other. Millions have reached their dream weight with our generous no-hunger eating plan. Add an activity programme that starts when the time’s right for you\, plus unbeatable support\, and you’ll soon discover the Slimming World difference.\n\n\n\nWhen: Mondays 10am\, 5pm and 6.30pm \nWhere: Sports Hall\, Filwood Community Centre\, Knowle\, Bristol\, BS4 1JP \nPrice: Ask for details\, telephone Sarah 07879 443888
URL:https://www.knowlewest.co.uk/whats-on/slimming-world-2/2024-10-14/
CATEGORIES:All Ages,Everyone is welcome,Wellbeing
ATTACH;FMTTYPE=:
END:VEVENT
BEGIN:VEVENT
DTSTART;TZID=UTC:20241016T100000
DTEND;TZID=UTC:20250528T120000
DTSTAMP:20260426T004909
CREATED:20220810T144257Z
LAST-MODIFIED:20251023T154136Z
UID:10000911-1729072800-1748433600@www.knowlewest.co.uk
SUMMARY:ESOL / English language for everyday course
DESCRIPTION:Free\, weekly course to help you practice your English skills in reading\, writing and speaking. Learn with other adults in a friendly group.\nContact Lucy Fieldhouse on (m) 07788 353 446
URL:https://www.knowlewest.co.uk/whats-on/esol-english-language-for-everyday-course/2024-10-16/
ATTACH;FMTTYPE=:
END:VEVENT
BEGIN:VEVENT
DTSTART;TZID=Europe/London:20241017T123000
DTEND;TZID=Europe/London:20250827T143000
DTSTAMP:20260426T004910
CREATED:20230720T173927Z
LAST-MODIFIED:20251023T155007Z
UID:10004513-1729168200-1756305000@www.knowlewest.co.uk
SUMMARY:Food Club
DESCRIPTION:Family Action has launched Food On Our Doorstep (FOOD) clubs in Bristol and the SW to provide families with good-quality food at a low cost\, while also reducing food waste.\nIt costs just £1 a year for your family to become a member. Once you’ve joined\, you can purchase a bag of tasty food items for just £3.50 every week (worth approximately £15).\nTo become a member you must live or work within 15 minutes of the club. \nInns Court Community Centre\, Marshall Walk\, Knowle\, BS4 1TR\nFriday 1.30-3pm \nTo find out more\, please email\nbr**************@***************rg.uk
URL:https://www.knowlewest.co.uk/whats-on/food-club-2/2024-10-17/
CATEGORIES:Families,Social Action,Wellbeing
ATTACH;FMTTYPE=:
END:VEVENT
BEGIN:VEVENT
DTSTART;TZID=Europe/London:20241017T190000
DTEND;TZID=Europe/London:20261018T200000
DTSTAMP:20260426T004910
CREATED:20240525T135704Z
LAST-MODIFIED:20251023T160439Z
UID:10006226-1729191600-1792353600@www.knowlewest.co.uk
SUMMARY:Knowle Boxing Club
DESCRIPTION:About this event: Knowle Boxing Club is for male and females\, adults and children from 9 years + \nWhen: Mondays 7pm – 8.30pm and Thursdays 7-8pm. \nWhere: Sports Hall\, Filwood Community Centre\, Barnstaple Road\, Knowle West\, Bristol\, BS4 1JP \nPrice: Ask for details \nMore information: Call: Bobby 0777 577 3686
URL:https://www.knowlewest.co.uk/whats-on/boxing-club-2/2024-10-17/
CATEGORIES:All Ages,Everyone is welcome,Wellbeing
ATTACH;FMTTYPE=:
END:VEVENT
BEGIN:VEVENT
DTSTART;TZID=Europe/London:20241021T170000
DTEND;TZID=Europe/London:20251022T180000
DTSTAMP:20260426T004910
CREATED:20240525T135703Z
LAST-MODIFIED:20251023T160251Z
UID:10006045-1729530000-1761156000@www.knowlewest.co.uk
SUMMARY:Slimming World
DESCRIPTION:About this event: Slimming World is a weight loss plan like no other. Millions have reached their dream weight with our generous no-hunger eating plan. Add an activity programme that starts when the time’s right for you\, plus unbeatable support\, and you’ll soon discover the Slimming World difference.\n\n\n\nWhen: Mondays 10am\, 5pm and 6.30pm \nWhere: Sports Hall\, Filwood Community Centre\, Knowle\, Bristol\, BS4 1JP \nPrice: Ask for details\, telephone Sarah 07879 443888
URL:https://www.knowlewest.co.uk/whats-on/slimming-world-2/2024-10-21/
CATEGORIES:All Ages,Everyone is welcome,Wellbeing
ATTACH;FMTTYPE=:
END:VEVENT
BEGIN:VEVENT
DTSTART;TZID=UTC:20241023T100000
DTEND;TZID=UTC:20250604T120000
DTSTAMP:20260426T004910
CREATED:20220810T144257Z
LAST-MODIFIED:20251023T154136Z
UID:10000912-1729677600-1749038400@www.knowlewest.co.uk
SUMMARY:ESOL / English language for everyday course
DESCRIPTION:Free\, weekly course to help you practice your English skills in reading\, writing and speaking. Learn with other adults in a friendly group.\nContact Lucy Fieldhouse on (m) 07788 353 446
URL:https://www.knowlewest.co.uk/whats-on/esol-english-language-for-everyday-course/2024-10-23/
ATTACH;FMTTYPE=:
END:VEVENT
BEGIN:VEVENT
DTSTART;TZID=Europe/London:20241024T123000
DTEND;TZID=Europe/London:20250903T143000
DTSTAMP:20260426T004910
CREATED:20230720T173927Z
LAST-MODIFIED:20251023T155007Z
UID:10004514-1729773000-1756909800@www.knowlewest.co.uk
SUMMARY:Food Club
DESCRIPTION:Family Action has launched Food On Our Doorstep (FOOD) clubs in Bristol and the SW to provide families with good-quality food at a low cost\, while also reducing food waste.\nIt costs just £1 a year for your family to become a member. Once you’ve joined\, you can purchase a bag of tasty food items for just £3.50 every week (worth approximately £15).\nTo become a member you must live or work within 15 minutes of the club. \nInns Court Community Centre\, Marshall Walk\, Knowle\, BS4 1TR\nFriday 1.30-3pm \nTo find out more\, please email\nbr**************@***************rg.uk
URL:https://www.knowlewest.co.uk/whats-on/food-club-2/2024-10-24/
CATEGORIES:Families,Social Action,Wellbeing
ATTACH;FMTTYPE=:
END:VEVENT
BEGIN:VEVENT
DTSTART;TZID=Europe/London:20241024T190000
DTEND;TZID=Europe/London:20261025T190000
DTSTAMP:20260426T004910
CREATED:20240525T135704Z
LAST-MODIFIED:20251023T160439Z
UID:10006227-1729796400-1792954800@www.knowlewest.co.uk
SUMMARY:Knowle Boxing Club
DESCRIPTION:About this event: Knowle Boxing Club is for male and females\, adults and children from 9 years + \nWhen: Mondays 7pm – 8.30pm and Thursdays 7-8pm. \nWhere: Sports Hall\, Filwood Community Centre\, Barnstaple Road\, Knowle West\, Bristol\, BS4 1JP \nPrice: Ask for details \nMore information: Call: Bobby 0777 577 3686
URL:https://www.knowlewest.co.uk/whats-on/boxing-club-2/2024-10-24/
CATEGORIES:All Ages,Everyone is welcome,Wellbeing
ATTACH;FMTTYPE=:
END:VEVENT
BEGIN:VEVENT
DTSTART;TZID=Europe/London:20241028T170000
DTEND;TZID=Europe/London:20251029T180000
DTSTAMP:20260426T004910
CREATED:20240525T135703Z
LAST-MODIFIED:20251023T160251Z
UID:10006046-1730134800-1761760800@www.knowlewest.co.uk
SUMMARY:Slimming World
DESCRIPTION:About this event: Slimming World is a weight loss plan like no other. Millions have reached their dream weight with our generous no-hunger eating plan. Add an activity programme that starts when the time’s right for you\, plus unbeatable support\, and you’ll soon discover the Slimming World difference.\n\n\n\nWhen: Mondays 10am\, 5pm and 6.30pm \nWhere: Sports Hall\, Filwood Community Centre\, Knowle\, Bristol\, BS4 1JP \nPrice: Ask for details\, telephone Sarah 07879 443888
URL:https://www.knowlewest.co.uk/whats-on/slimming-world-2/2024-10-28/
CATEGORIES:All Ages,Everyone is welcome,Wellbeing
ATTACH;FMTTYPE=:
END:VEVENT
BEGIN:VEVENT
DTSTART;TZID=UTC:20241030T100000
DTEND;TZID=UTC:20250611T120000
DTSTAMP:20260426T004910
CREATED:20220810T144257Z
LAST-MODIFIED:20251023T154136Z
UID:10000913-1730282400-1749643200@www.knowlewest.co.uk
SUMMARY:ESOL / English language for everyday course
DESCRIPTION:Free\, weekly course to help you practice your English skills in reading\, writing and speaking. Learn with other adults in a friendly group.\nContact Lucy Fieldhouse on (m) 07788 353 446
URL:https://www.knowlewest.co.uk/whats-on/esol-english-language-for-everyday-course/2024-10-30/
ATTACH;FMTTYPE=:
END:VEVENT
BEGIN:VEVENT
DTSTART;TZID=Europe/London:20241031T123000
DTEND;TZID=Europe/London:20250910T143000
DTSTAMP:20260426T004910
CREATED:20230720T173927Z
LAST-MODIFIED:20251023T155007Z
UID:10004515-1730377800-1757514600@www.knowlewest.co.uk
SUMMARY:Food Club
DESCRIPTION:Family Action has launched Food On Our Doorstep (FOOD) clubs in Bristol and the SW to provide families with good-quality food at a low cost\, while also reducing food waste.\nIt costs just £1 a year for your family to become a member. Once you’ve joined\, you can purchase a bag of tasty food items for just £3.50 every week (worth approximately £15).\nTo become a member you must live or work within 15 minutes of the club. \nInns Court Community Centre\, Marshall Walk\, Knowle\, BS4 1TR\nFriday 1.30-3pm \nTo find out more\, please email\nbr**************@***************rg.uk
URL:https://www.knowlewest.co.uk/whats-on/food-club-2/2024-10-31/
CATEGORIES:Families,Social Action,Wellbeing
ATTACH;FMTTYPE=:
END:VEVENT
BEGIN:VEVENT
DTSTART;TZID=Europe/London:20241031T190000
DTEND;TZID=Europe/London:20261101T200000
DTSTAMP:20260426T004910
CREATED:20240525T135704Z
LAST-MODIFIED:20251023T160439Z
UID:10006228-1730401200-1793563200@www.knowlewest.co.uk
SUMMARY:Knowle Boxing Club
DESCRIPTION:About this event: Knowle Boxing Club is for male and females\, adults and children from 9 years + \nWhen: Mondays 7pm – 8.30pm and Thursdays 7-8pm. \nWhere: Sports Hall\, Filwood Community Centre\, Barnstaple Road\, Knowle West\, Bristol\, BS4 1JP \nPrice: Ask for details \nMore information: Call: Bobby 0777 577 3686
URL:https://www.knowlewest.co.uk/whats-on/boxing-club-2/2024-10-31/
CATEGORIES:All Ages,Everyone is welcome,Wellbeing
ATTACH;FMTTYPE=:
END:VEVENT
BEGIN:VEVENT
DTSTART;TZID=Europe/London:20241104T170000
DTEND;TZID=Europe/London:20251105T180000
DTSTAMP:20260426T004910
CREATED:20240525T135703Z
LAST-MODIFIED:20251023T160251Z
UID:10006047-1730739600-1762365600@www.knowlewest.co.uk
SUMMARY:Slimming World
DESCRIPTION:About this event: Slimming World is a weight loss plan like no other. Millions have reached their dream weight with our generous no-hunger eating plan. Add an activity programme that starts when the time’s right for you\, plus unbeatable support\, and you’ll soon discover the Slimming World difference.\n\n\n\nWhen: Mondays 10am\, 5pm and 6.30pm \nWhere: Sports Hall\, Filwood Community Centre\, Knowle\, Bristol\, BS4 1JP \nPrice: Ask for details\, telephone Sarah 07879 443888
URL:https://www.knowlewest.co.uk/whats-on/slimming-world-2/2024-11-04/
CATEGORIES:All Ages,Everyone is welcome,Wellbeing
ATTACH;FMTTYPE=:
END:VEVENT
BEGIN:VEVENT
DTSTART;TZID=UTC:20241106T100000
DTEND;TZID=UTC:20250618T120000
DTSTAMP:20260426T004910
CREATED:20220810T144257Z
LAST-MODIFIED:20251023T154136Z
UID:10000914-1730887200-1750248000@www.knowlewest.co.uk
SUMMARY:ESOL / English language for everyday course
DESCRIPTION:Free\, weekly course to help you practice your English skills in reading\, writing and speaking. Learn with other adults in a friendly group.\nContact Lucy Fieldhouse on (m) 07788 353 446
URL:https://www.knowlewest.co.uk/whats-on/esol-english-language-for-everyday-course/2024-11-06/
ATTACH;FMTTYPE=:
END:VEVENT
BEGIN:VEVENT
DTSTART;TZID=Europe/London:20241107T123000
DTEND;TZID=Europe/London:20250917T143000
DTSTAMP:20260426T004910
CREATED:20230720T173927Z
LAST-MODIFIED:20251023T155007Z
UID:10004516-1730982600-1758119400@www.knowlewest.co.uk
SUMMARY:Food Club
DESCRIPTION:Family Action has launched Food On Our Doorstep (FOOD) clubs in Bristol and the SW to provide families with good-quality food at a low cost\, while also reducing food waste.\nIt costs just £1 a year for your family to become a member. Once you’ve joined\, you can purchase a bag of tasty food items for just £3.50 every week (worth approximately £15).\nTo become a member you must live or work within 15 minutes of the club. \nInns Court Community Centre\, Marshall Walk\, Knowle\, BS4 1TR\nFriday 1.30-3pm \nTo find out more\, please email\nbr**************@***************rg.uk
URL:https://www.knowlewest.co.uk/whats-on/food-club-2/2024-11-07/
CATEGORIES:Families,Social Action,Wellbeing
ATTACH;FMTTYPE=:
END:VEVENT
BEGIN:VEVENT
DTSTART;TZID=Europe/London:20241107T190000
DTEND;TZID=Europe/London:20261108T200000
DTSTAMP:20260426T004910
CREATED:20240525T135704Z
LAST-MODIFIED:20251023T160439Z
UID:10006229-1731006000-1794168000@www.knowlewest.co.uk
SUMMARY:Knowle Boxing Club
DESCRIPTION:About this event: Knowle Boxing Club is for male and females\, adults and children from 9 years + \nWhen: Mondays 7pm – 8.30pm and Thursdays 7-8pm. \nWhere: Sports Hall\, Filwood Community Centre\, Barnstaple Road\, Knowle West\, Bristol\, BS4 1JP \nPrice: Ask for details \nMore information: Call: Bobby 0777 577 3686
URL:https://www.knowlewest.co.uk/whats-on/boxing-club-2/2024-11-07/
CATEGORIES:All Ages,Everyone is welcome,Wellbeing
ATTACH;FMTTYPE=:
END:VEVENT
END:VCALENDAR