BEGIN:VCALENDAR
VERSION:2.0
PRODID:-//Knowle West Community - ECPv6.15.17//NONSGML v1.0//EN
CALSCALE:GREGORIAN
METHOD:PUBLISH
X-WR-CALNAME:Knowle West Community
X-ORIGINAL-URL:https://www.knowlewest.co.uk
X-WR-CALDESC:Events for Knowle West Community
REFRESH-INTERVAL;VALUE=DURATION:PT1H
X-Robots-Tag:noindex
X-PUBLISHED-TTL:PT1H
BEGIN:VTIMEZONE
TZID:Europe/London
BEGIN:DAYLIGHT
TZOFFSETFROM:+0000
TZOFFSETTO:+0100
TZNAME:BST
DTSTART:20240331T010000
END:DAYLIGHT
BEGIN:STANDARD
TZOFFSETFROM:+0100
TZOFFSETTO:+0000
TZNAME:GMT
DTSTART:20241027T010000
END:STANDARD
BEGIN:DAYLIGHT
TZOFFSETFROM:+0000
TZOFFSETTO:+0100
TZNAME:BST
DTSTART:20250330T010000
END:DAYLIGHT
BEGIN:STANDARD
TZOFFSETFROM:+0100
TZOFFSETTO:+0000
TZNAME:GMT
DTSTART:20251026T010000
END:STANDARD
BEGIN:DAYLIGHT
TZOFFSETFROM:+0000
TZOFFSETTO:+0100
TZNAME:BST
DTSTART:20260329T010000
END:DAYLIGHT
BEGIN:STANDARD
TZOFFSETFROM:+0100
TZOFFSETTO:+0000
TZNAME:GMT
DTSTART:20261025T010000
END:STANDARD
BEGIN:DAYLIGHT
TZOFFSETFROM:+0000
TZOFFSETTO:+0100
TZNAME:BST
DTSTART:20270328T010000
END:DAYLIGHT
BEGIN:STANDARD
TZOFFSETFROM:+0100
TZOFFSETTO:+0000
TZNAME:GMT
DTSTART:20271031T010000
END:STANDARD
BEGIN:DAYLIGHT
TZOFFSETFROM:+0000
TZOFFSETTO:+0100
TZNAME:BST
DTSTART:20280326T010000
END:DAYLIGHT
BEGIN:STANDARD
TZOFFSETFROM:+0100
TZOFFSETTO:+0000
TZNAME:GMT
DTSTART:20281029T010000
END:STANDARD
END:VTIMEZONE
BEGIN:VTIMEZONE
TZID:UTC
BEGIN:STANDARD
TZOFFSETFROM:+0000
TZOFFSETTO:+0000
TZNAME:UTC
DTSTART:20240101T000000
END:STANDARD
END:VTIMEZONE
BEGIN:VEVENT
DTSTART;TZID=Europe/London:20250519T170000
DTEND;TZID=Europe/London:20260520T180000
DTSTAMP:20260421T041050
CREATED:20240525T135703Z
LAST-MODIFIED:20251023T160251Z
UID:10006075-1747674000-1779300000@www.knowlewest.co.uk
SUMMARY:Slimming World
DESCRIPTION:About this event: Slimming World is a weight loss plan like no other. Millions have reached their dream weight with our generous no-hunger eating plan. Add an activity programme that starts when the time’s right for you\, plus unbeatable support\, and you’ll soon discover the Slimming World difference.\n\n\n\nWhen: Mondays 10am\, 5pm and 6.30pm \nWhere: Sports Hall\, Filwood Community Centre\, Knowle\, Bristol\, BS4 1JP \nPrice: Ask for details\, telephone Sarah 07879 443888
URL:https://www.knowlewest.co.uk/whats-on/slimming-world-2/2025-05-19/
CATEGORIES:All Ages,Everyone is welcome,Wellbeing
ATTACH;FMTTYPE=:
END:VEVENT
BEGIN:VEVENT
DTSTART;TZID=Europe/London:20250522T190000
DTEND;TZID=Europe/London:20270523T200000
DTSTAMP:20260421T041050
CREATED:20240525T135704Z
LAST-MODIFIED:20251023T160439Z
UID:10006257-1747940400-1811102400@www.knowlewest.co.uk
SUMMARY:Knowle Boxing Club
DESCRIPTION:About this event: Knowle Boxing Club is for male and females\, adults and children from 9 years + \nWhen: Mondays 7pm – 8.30pm and Thursdays 7-8pm. \nWhere: Sports Hall\, Filwood Community Centre\, Barnstaple Road\, Knowle West\, Bristol\, BS4 1JP \nPrice: Ask for details \nMore information: Call: Bobby 0777 577 3686
URL:https://www.knowlewest.co.uk/whats-on/boxing-club-2/2025-05-22/
CATEGORIES:All Ages,Everyone is welcome,Wellbeing
ATTACH;FMTTYPE=:
END:VEVENT
BEGIN:VEVENT
DTSTART;TZID=Europe/London:20250526T170000
DTEND;TZID=Europe/London:20260527T180000
DTSTAMP:20260421T041050
CREATED:20240525T135703Z
LAST-MODIFIED:20251023T160251Z
UID:10010510-1748278800-1779904800@www.knowlewest.co.uk
SUMMARY:Slimming World
DESCRIPTION:About this event: Slimming World is a weight loss plan like no other. Millions have reached their dream weight with our generous no-hunger eating plan. Add an activity programme that starts when the time’s right for you\, plus unbeatable support\, and you’ll soon discover the Slimming World difference.\n\n\n\nWhen: Mondays 10am\, 5pm and 6.30pm \nWhere: Sports Hall\, Filwood Community Centre\, Knowle\, Bristol\, BS4 1JP \nPrice: Ask for details\, telephone Sarah 07879 443888
URL:https://www.knowlewest.co.uk/whats-on/slimming-world-2/2025-05-26/
CATEGORIES:All Ages,Everyone is welcome,Wellbeing
ATTACH;FMTTYPE=:
END:VEVENT
BEGIN:VEVENT
DTSTART;TZID=Europe/London:20250529T190000
DTEND;TZID=Europe/London:20270530T200000
DTSTAMP:20260421T041050
CREATED:20240525T135704Z
LAST-MODIFIED:20251023T160439Z
UID:10014680-1748545200-1811707200@www.knowlewest.co.uk
SUMMARY:Knowle Boxing Club
DESCRIPTION:About this event: Knowle Boxing Club is for male and females\, adults and children from 9 years + \nWhen: Mondays 7pm – 8.30pm and Thursdays 7-8pm. \nWhere: Sports Hall\, Filwood Community Centre\, Barnstaple Road\, Knowle West\, Bristol\, BS4 1JP \nPrice: Ask for details \nMore information: Call: Bobby 0777 577 3686
URL:https://www.knowlewest.co.uk/whats-on/boxing-club-2/2025-05-29/
CATEGORIES:All Ages,Everyone is welcome,Wellbeing
ATTACH;FMTTYPE=:
END:VEVENT
BEGIN:VEVENT
DTSTART;TZID=Europe/London:20250602T170000
DTEND;TZID=Europe/London:20260603T180000
DTSTAMP:20260421T041050
CREATED:20240525T135703Z
LAST-MODIFIED:20251023T160251Z
UID:10010511-1748883600-1780509600@www.knowlewest.co.uk
SUMMARY:Slimming World
DESCRIPTION:About this event: Slimming World is a weight loss plan like no other. Millions have reached their dream weight with our generous no-hunger eating plan. Add an activity programme that starts when the time’s right for you\, plus unbeatable support\, and you’ll soon discover the Slimming World difference.\n\n\n\nWhen: Mondays 10am\, 5pm and 6.30pm \nWhere: Sports Hall\, Filwood Community Centre\, Knowle\, Bristol\, BS4 1JP \nPrice: Ask for details\, telephone Sarah 07879 443888
URL:https://www.knowlewest.co.uk/whats-on/slimming-world-2/2025-06-02/
CATEGORIES:All Ages,Everyone is welcome,Wellbeing
ATTACH;FMTTYPE=:
END:VEVENT
BEGIN:VEVENT
DTSTART;TZID=Europe/London:20250605T190000
DTEND;TZID=Europe/London:20270606T200000
DTSTAMP:20260421T041051
CREATED:20240525T135704Z
LAST-MODIFIED:20251023T160439Z
UID:10014681-1749150000-1812312000@www.knowlewest.co.uk
SUMMARY:Knowle Boxing Club
DESCRIPTION:About this event: Knowle Boxing Club is for male and females\, adults and children from 9 years + \nWhen: Mondays 7pm – 8.30pm and Thursdays 7-8pm. \nWhere: Sports Hall\, Filwood Community Centre\, Barnstaple Road\, Knowle West\, Bristol\, BS4 1JP \nPrice: Ask for details \nMore information: Call: Bobby 0777 577 3686
URL:https://www.knowlewest.co.uk/whats-on/boxing-club-2/2025-06-05/
CATEGORIES:All Ages,Everyone is welcome,Wellbeing
ATTACH;FMTTYPE=:
END:VEVENT
BEGIN:VEVENT
DTSTART;TZID=Europe/London:20250609T170000
DTEND;TZID=Europe/London:20260610T180000
DTSTAMP:20260421T041051
CREATED:20240525T135703Z
LAST-MODIFIED:20251023T160251Z
UID:10010512-1749488400-1781114400@www.knowlewest.co.uk
SUMMARY:Slimming World
DESCRIPTION:About this event: Slimming World is a weight loss plan like no other. Millions have reached their dream weight with our generous no-hunger eating plan. Add an activity programme that starts when the time’s right for you\, plus unbeatable support\, and you’ll soon discover the Slimming World difference.\n\n\n\nWhen: Mondays 10am\, 5pm and 6.30pm \nWhere: Sports Hall\, Filwood Community Centre\, Knowle\, Bristol\, BS4 1JP \nPrice: Ask for details\, telephone Sarah 07879 443888
URL:https://www.knowlewest.co.uk/whats-on/slimming-world-2/2025-06-09/
CATEGORIES:All Ages,Everyone is welcome,Wellbeing
ATTACH;FMTTYPE=:
END:VEVENT
BEGIN:VEVENT
DTSTART;TZID=Europe/London:20250612T190000
DTEND;TZID=Europe/London:20270613T200000
DTSTAMP:20260421T041051
CREATED:20240525T135704Z
LAST-MODIFIED:20251023T160439Z
UID:10014682-1749754800-1812916800@www.knowlewest.co.uk
SUMMARY:Knowle Boxing Club
DESCRIPTION:About this event: Knowle Boxing Club is for male and females\, adults and children from 9 years + \nWhen: Mondays 7pm – 8.30pm and Thursdays 7-8pm. \nWhere: Sports Hall\, Filwood Community Centre\, Barnstaple Road\, Knowle West\, Bristol\, BS4 1JP \nPrice: Ask for details \nMore information: Call: Bobby 0777 577 3686
URL:https://www.knowlewest.co.uk/whats-on/boxing-club-2/2025-06-12/
CATEGORIES:All Ages,Everyone is welcome,Wellbeing
ATTACH;FMTTYPE=:
END:VEVENT
BEGIN:VEVENT
DTSTART;TZID=Europe/London:20250616T170000
DTEND;TZID=Europe/London:20260617T180000
DTSTAMP:20260421T041051
CREATED:20240525T135703Z
LAST-MODIFIED:20251023T160251Z
UID:10010513-1750093200-1781719200@www.knowlewest.co.uk
SUMMARY:Slimming World
DESCRIPTION:About this event: Slimming World is a weight loss plan like no other. Millions have reached their dream weight with our generous no-hunger eating plan. Add an activity programme that starts when the time’s right for you\, plus unbeatable support\, and you’ll soon discover the Slimming World difference.\n\n\n\nWhen: Mondays 10am\, 5pm and 6.30pm \nWhere: Sports Hall\, Filwood Community Centre\, Knowle\, Bristol\, BS4 1JP \nPrice: Ask for details\, telephone Sarah 07879 443888
URL:https://www.knowlewest.co.uk/whats-on/slimming-world-2/2025-06-16/
CATEGORIES:All Ages,Everyone is welcome,Wellbeing
ATTACH;FMTTYPE=:
END:VEVENT
BEGIN:VEVENT
DTSTART;TZID=Europe/London:20250619T190000
DTEND;TZID=Europe/London:20270620T200000
DTSTAMP:20260421T041051
CREATED:20240525T135704Z
LAST-MODIFIED:20251023T160439Z
UID:10014683-1750359600-1813521600@www.knowlewest.co.uk
SUMMARY:Knowle Boxing Club
DESCRIPTION:About this event: Knowle Boxing Club is for male and females\, adults and children from 9 years + \nWhen: Mondays 7pm – 8.30pm and Thursdays 7-8pm. \nWhere: Sports Hall\, Filwood Community Centre\, Barnstaple Road\, Knowle West\, Bristol\, BS4 1JP \nPrice: Ask for details \nMore information: Call: Bobby 0777 577 3686
URL:https://www.knowlewest.co.uk/whats-on/boxing-club-2/2025-06-19/
CATEGORIES:All Ages,Everyone is welcome,Wellbeing
ATTACH;FMTTYPE=:
END:VEVENT
BEGIN:VEVENT
DTSTART;TZID=Europe/London:20250623T170000
DTEND;TZID=Europe/London:20260624T180000
DTSTAMP:20260421T041051
CREATED:20240525T135703Z
LAST-MODIFIED:20251023T160251Z
UID:10010514-1750698000-1782324000@www.knowlewest.co.uk
SUMMARY:Slimming World
DESCRIPTION:About this event: Slimming World is a weight loss plan like no other. Millions have reached their dream weight with our generous no-hunger eating plan. Add an activity programme that starts when the time’s right for you\, plus unbeatable support\, and you’ll soon discover the Slimming World difference.\n\n\n\nWhen: Mondays 10am\, 5pm and 6.30pm \nWhere: Sports Hall\, Filwood Community Centre\, Knowle\, Bristol\, BS4 1JP \nPrice: Ask for details\, telephone Sarah 07879 443888
URL:https://www.knowlewest.co.uk/whats-on/slimming-world-2/2025-06-23/
CATEGORIES:All Ages,Everyone is welcome,Wellbeing
ATTACH;FMTTYPE=:
END:VEVENT
BEGIN:VEVENT
DTSTART;TZID=Europe/London:20250626T190000
DTEND;TZID=Europe/London:20270627T200000
DTSTAMP:20260421T041051
CREATED:20240525T135704Z
LAST-MODIFIED:20251023T160439Z
UID:10014684-1750964400-1814126400@www.knowlewest.co.uk
SUMMARY:Knowle Boxing Club
DESCRIPTION:About this event: Knowle Boxing Club is for male and females\, adults and children from 9 years + \nWhen: Mondays 7pm – 8.30pm and Thursdays 7-8pm. \nWhere: Sports Hall\, Filwood Community Centre\, Barnstaple Road\, Knowle West\, Bristol\, BS4 1JP \nPrice: Ask for details \nMore information: Call: Bobby 0777 577 3686
URL:https://www.knowlewest.co.uk/whats-on/boxing-club-2/2025-06-26/
CATEGORIES:All Ages,Everyone is welcome,Wellbeing
ATTACH;FMTTYPE=:
END:VEVENT
BEGIN:VEVENT
DTSTART;TZID=Europe/London:20250630T170000
DTEND;TZID=Europe/London:20260701T180000
DTSTAMP:20260421T041051
CREATED:20240525T135703Z
LAST-MODIFIED:20251023T160251Z
UID:10010515-1751302800-1782928800@www.knowlewest.co.uk
SUMMARY:Slimming World
DESCRIPTION:About this event: Slimming World is a weight loss plan like no other. Millions have reached their dream weight with our generous no-hunger eating plan. Add an activity programme that starts when the time’s right for you\, plus unbeatable support\, and you’ll soon discover the Slimming World difference.\n\n\n\nWhen: Mondays 10am\, 5pm and 6.30pm \nWhere: Sports Hall\, Filwood Community Centre\, Knowle\, Bristol\, BS4 1JP \nPrice: Ask for details\, telephone Sarah 07879 443888
URL:https://www.knowlewest.co.uk/whats-on/slimming-world-2/2025-06-30/
CATEGORIES:All Ages,Everyone is welcome,Wellbeing
ATTACH;FMTTYPE=:
END:VEVENT
BEGIN:VEVENT
DTSTART;TZID=Europe/London:20250703T190000
DTEND;TZID=Europe/London:20270704T200000
DTSTAMP:20260421T041051
CREATED:20240525T135704Z
LAST-MODIFIED:20251023T160439Z
UID:10014685-1751569200-1814731200@www.knowlewest.co.uk
SUMMARY:Knowle Boxing Club
DESCRIPTION:About this event: Knowle Boxing Club is for male and females\, adults and children from 9 years + \nWhen: Mondays 7pm – 8.30pm and Thursdays 7-8pm. \nWhere: Sports Hall\, Filwood Community Centre\, Barnstaple Road\, Knowle West\, Bristol\, BS4 1JP \nPrice: Ask for details \nMore information: Call: Bobby 0777 577 3686
URL:https://www.knowlewest.co.uk/whats-on/boxing-club-2/2025-07-03/
CATEGORIES:All Ages,Everyone is welcome,Wellbeing
ATTACH;FMTTYPE=:
END:VEVENT
BEGIN:VEVENT
DTSTART;TZID=Europe/London:20250707T170000
DTEND;TZID=Europe/London:20260708T180000
DTSTAMP:20260421T041051
CREATED:20240525T135703Z
LAST-MODIFIED:20251023T160251Z
UID:10010516-1751907600-1783533600@www.knowlewest.co.uk
SUMMARY:Slimming World
DESCRIPTION:About this event: Slimming World is a weight loss plan like no other. Millions have reached their dream weight with our generous no-hunger eating plan. Add an activity programme that starts when the time’s right for you\, plus unbeatable support\, and you’ll soon discover the Slimming World difference.\n\n\n\nWhen: Mondays 10am\, 5pm and 6.30pm \nWhere: Sports Hall\, Filwood Community Centre\, Knowle\, Bristol\, BS4 1JP \nPrice: Ask for details\, telephone Sarah 07879 443888
URL:https://www.knowlewest.co.uk/whats-on/slimming-world-2/2025-07-07/
CATEGORIES:All Ages,Everyone is welcome,Wellbeing
ATTACH;FMTTYPE=:
END:VEVENT
BEGIN:VEVENT
DTSTART;TZID=Europe/London:20250710T190000
DTEND;TZID=Europe/London:20270711T200000
DTSTAMP:20260421T041051
CREATED:20240525T135704Z
LAST-MODIFIED:20251023T160439Z
UID:10014686-1752174000-1815336000@www.knowlewest.co.uk
SUMMARY:Knowle Boxing Club
DESCRIPTION:About this event: Knowle Boxing Club is for male and females\, adults and children from 9 years + \nWhen: Mondays 7pm – 8.30pm and Thursdays 7-8pm. \nWhere: Sports Hall\, Filwood Community Centre\, Barnstaple Road\, Knowle West\, Bristol\, BS4 1JP \nPrice: Ask for details \nMore information: Call: Bobby 0777 577 3686
URL:https://www.knowlewest.co.uk/whats-on/boxing-club-2/2025-07-10/
CATEGORIES:All Ages,Everyone is welcome,Wellbeing
ATTACH;FMTTYPE=:
END:VEVENT
BEGIN:VEVENT
DTSTART;TZID=Europe/London:20250714T170000
DTEND;TZID=Europe/London:20260715T180000
DTSTAMP:20260421T041051
CREATED:20240525T135703Z
LAST-MODIFIED:20251023T160251Z
UID:10010517-1752512400-1784138400@www.knowlewest.co.uk
SUMMARY:Slimming World
DESCRIPTION:About this event: Slimming World is a weight loss plan like no other. Millions have reached their dream weight with our generous no-hunger eating plan. Add an activity programme that starts when the time’s right for you\, plus unbeatable support\, and you’ll soon discover the Slimming World difference.\n\n\n\nWhen: Mondays 10am\, 5pm and 6.30pm \nWhere: Sports Hall\, Filwood Community Centre\, Knowle\, Bristol\, BS4 1JP \nPrice: Ask for details\, telephone Sarah 07879 443888
URL:https://www.knowlewest.co.uk/whats-on/slimming-world-2/2025-07-14/
CATEGORIES:All Ages,Everyone is welcome,Wellbeing
ATTACH;FMTTYPE=:
END:VEVENT
BEGIN:VEVENT
DTSTART;TZID=Europe/London:20250717T190000
DTEND;TZID=Europe/London:20270718T200000
DTSTAMP:20260421T041051
CREATED:20240525T135704Z
LAST-MODIFIED:20251023T160439Z
UID:10014687-1752778800-1815940800@www.knowlewest.co.uk
SUMMARY:Knowle Boxing Club
DESCRIPTION:About this event: Knowle Boxing Club is for male and females\, adults and children from 9 years + \nWhen: Mondays 7pm – 8.30pm and Thursdays 7-8pm. \nWhere: Sports Hall\, Filwood Community Centre\, Barnstaple Road\, Knowle West\, Bristol\, BS4 1JP \nPrice: Ask for details \nMore information: Call: Bobby 0777 577 3686
URL:https://www.knowlewest.co.uk/whats-on/boxing-club-2/2025-07-17/
CATEGORIES:All Ages,Everyone is welcome,Wellbeing
ATTACH;FMTTYPE=:
END:VEVENT
BEGIN:VEVENT
DTSTART;TZID=Europe/London:20250721T170000
DTEND;TZID=Europe/London:20260722T180000
DTSTAMP:20260421T041051
CREATED:20240525T135703Z
LAST-MODIFIED:20251023T160251Z
UID:10010518-1753117200-1784743200@www.knowlewest.co.uk
SUMMARY:Slimming World
DESCRIPTION:About this event: Slimming World is a weight loss plan like no other. Millions have reached their dream weight with our generous no-hunger eating plan. Add an activity programme that starts when the time’s right for you\, plus unbeatable support\, and you’ll soon discover the Slimming World difference.\n\n\n\nWhen: Mondays 10am\, 5pm and 6.30pm \nWhere: Sports Hall\, Filwood Community Centre\, Knowle\, Bristol\, BS4 1JP \nPrice: Ask for details\, telephone Sarah 07879 443888
URL:https://www.knowlewest.co.uk/whats-on/slimming-world-2/2025-07-21/
CATEGORIES:All Ages,Everyone is welcome,Wellbeing
ATTACH;FMTTYPE=:
END:VEVENT
BEGIN:VEVENT
DTSTART;TZID=Europe/London:20250724T190000
DTEND;TZID=Europe/London:20270725T200000
DTSTAMP:20260421T041051
CREATED:20240525T135704Z
LAST-MODIFIED:20251023T160439Z
UID:10014688-1753383600-1816545600@www.knowlewest.co.uk
SUMMARY:Knowle Boxing Club
DESCRIPTION:About this event: Knowle Boxing Club is for male and females\, adults and children from 9 years + \nWhen: Mondays 7pm – 8.30pm and Thursdays 7-8pm. \nWhere: Sports Hall\, Filwood Community Centre\, Barnstaple Road\, Knowle West\, Bristol\, BS4 1JP \nPrice: Ask for details \nMore information: Call: Bobby 0777 577 3686
URL:https://www.knowlewest.co.uk/whats-on/boxing-club-2/2025-07-24/
CATEGORIES:All Ages,Everyone is welcome,Wellbeing
ATTACH;FMTTYPE=:
END:VEVENT
BEGIN:VEVENT
DTSTART;TZID=Europe/London:20250728T170000
DTEND;TZID=Europe/London:20260729T180000
DTSTAMP:20260421T041051
CREATED:20240525T135703Z
LAST-MODIFIED:20251023T160251Z
UID:10010519-1753722000-1785348000@www.knowlewest.co.uk
SUMMARY:Slimming World
DESCRIPTION:About this event: Slimming World is a weight loss plan like no other. Millions have reached their dream weight with our generous no-hunger eating plan. Add an activity programme that starts when the time’s right for you\, plus unbeatable support\, and you’ll soon discover the Slimming World difference.\n\n\n\nWhen: Mondays 10am\, 5pm and 6.30pm \nWhere: Sports Hall\, Filwood Community Centre\, Knowle\, Bristol\, BS4 1JP \nPrice: Ask for details\, telephone Sarah 07879 443888
URL:https://www.knowlewest.co.uk/whats-on/slimming-world-2/2025-07-28/
CATEGORIES:All Ages,Everyone is welcome,Wellbeing
ATTACH;FMTTYPE=:
END:VEVENT
BEGIN:VEVENT
DTSTART;TZID=Europe/London:20250731T190000
DTEND;TZID=Europe/London:20270801T200000
DTSTAMP:20260421T041051
CREATED:20240525T135704Z
LAST-MODIFIED:20251023T160439Z
UID:10014689-1753988400-1817150400@www.knowlewest.co.uk
SUMMARY:Knowle Boxing Club
DESCRIPTION:About this event: Knowle Boxing Club is for male and females\, adults and children from 9 years + \nWhen: Mondays 7pm – 8.30pm and Thursdays 7-8pm. \nWhere: Sports Hall\, Filwood Community Centre\, Barnstaple Road\, Knowle West\, Bristol\, BS4 1JP \nPrice: Ask for details \nMore information: Call: Bobby 0777 577 3686
URL:https://www.knowlewest.co.uk/whats-on/boxing-club-2/2025-07-31/
CATEGORIES:All Ages,Everyone is welcome,Wellbeing
ATTACH;FMTTYPE=:
END:VEVENT
BEGIN:VEVENT
DTSTART;TZID=Europe/London:20250807T190000
DTEND;TZID=Europe/London:20270808T200000
DTSTAMP:20260421T041051
CREATED:20240525T135704Z
LAST-MODIFIED:20251023T160439Z
UID:10014690-1754593200-1817755200@www.knowlewest.co.uk
SUMMARY:Knowle Boxing Club
DESCRIPTION:About this event: Knowle Boxing Club is for male and females\, adults and children from 9 years + \nWhen: Mondays 7pm – 8.30pm and Thursdays 7-8pm. \nWhere: Sports Hall\, Filwood Community Centre\, Barnstaple Road\, Knowle West\, Bristol\, BS4 1JP \nPrice: Ask for details \nMore information: Call: Bobby 0777 577 3686
URL:https://www.knowlewest.co.uk/whats-on/boxing-club-2/2025-08-07/
CATEGORIES:All Ages,Everyone is welcome,Wellbeing
ATTACH;FMTTYPE=:
END:VEVENT
BEGIN:VEVENT
DTSTART;TZID=Europe/London:20250814T190000
DTEND;TZID=Europe/London:20270815T200000
DTSTAMP:20260421T041051
CREATED:20240525T135704Z
LAST-MODIFIED:20251023T160439Z
UID:10014691-1755198000-1818360000@www.knowlewest.co.uk
SUMMARY:Knowle Boxing Club
DESCRIPTION:About this event: Knowle Boxing Club is for male and females\, adults and children from 9 years + \nWhen: Mondays 7pm – 8.30pm and Thursdays 7-8pm. \nWhere: Sports Hall\, Filwood Community Centre\, Barnstaple Road\, Knowle West\, Bristol\, BS4 1JP \nPrice: Ask for details \nMore information: Call: Bobby 0777 577 3686
URL:https://www.knowlewest.co.uk/whats-on/boxing-club-2/2025-08-14/
CATEGORIES:All Ages,Everyone is welcome,Wellbeing
ATTACH;FMTTYPE=:
END:VEVENT
BEGIN:VEVENT
DTSTART;TZID=Europe/London:20250821T190000
DTEND;TZID=Europe/London:20270822T200000
DTSTAMP:20260421T041051
CREATED:20240525T135704Z
LAST-MODIFIED:20251023T160439Z
UID:10014692-1755802800-1818964800@www.knowlewest.co.uk
SUMMARY:Knowle Boxing Club
DESCRIPTION:About this event: Knowle Boxing Club is for male and females\, adults and children from 9 years + \nWhen: Mondays 7pm – 8.30pm and Thursdays 7-8pm. \nWhere: Sports Hall\, Filwood Community Centre\, Barnstaple Road\, Knowle West\, Bristol\, BS4 1JP \nPrice: Ask for details \nMore information: Call: Bobby 0777 577 3686
URL:https://www.knowlewest.co.uk/whats-on/boxing-club-2/2025-08-21/
CATEGORIES:All Ages,Everyone is welcome,Wellbeing
ATTACH;FMTTYPE=:
END:VEVENT
BEGIN:VEVENT
DTSTART;TZID=Europe/London:20250828T190000
DTEND;TZID=Europe/London:20270829T200000
DTSTAMP:20260421T041051
CREATED:20240525T135704Z
LAST-MODIFIED:20251023T160439Z
UID:10014693-1756407600-1819569600@www.knowlewest.co.uk
SUMMARY:Knowle Boxing Club
DESCRIPTION:About this event: Knowle Boxing Club is for male and females\, adults and children from 9 years + \nWhen: Mondays 7pm – 8.30pm and Thursdays 7-8pm. \nWhere: Sports Hall\, Filwood Community Centre\, Barnstaple Road\, Knowle West\, Bristol\, BS4 1JP \nPrice: Ask for details \nMore information: Call: Bobby 0777 577 3686
URL:https://www.knowlewest.co.uk/whats-on/boxing-club-2/2025-08-28/
CATEGORIES:All Ages,Everyone is welcome,Wellbeing
ATTACH;FMTTYPE=:
END:VEVENT
BEGIN:VEVENT
DTSTART;TZID=Europe/London:20250904T190000
DTEND;TZID=Europe/London:20270905T200000
DTSTAMP:20260421T041051
CREATED:20240525T135704Z
LAST-MODIFIED:20251023T160439Z
UID:10014694-1757012400-1820174400@www.knowlewest.co.uk
SUMMARY:Knowle Boxing Club
DESCRIPTION:About this event: Knowle Boxing Club is for male and females\, adults and children from 9 years + \nWhen: Mondays 7pm – 8.30pm and Thursdays 7-8pm. \nWhere: Sports Hall\, Filwood Community Centre\, Barnstaple Road\, Knowle West\, Bristol\, BS4 1JP \nPrice: Ask for details \nMore information: Call: Bobby 0777 577 3686
URL:https://www.knowlewest.co.uk/whats-on/boxing-club-2/2025-09-04/
CATEGORIES:All Ages,Everyone is welcome,Wellbeing
ATTACH;FMTTYPE=:
END:VEVENT
BEGIN:VEVENT
DTSTART;TZID=UTC:20250910T100000
DTEND;TZID=UTC:20260422T120000
DTSTAMP:20260421T041051
CREATED:20220810T144257Z
LAST-MODIFIED:20251023T154136Z
UID:10014380-1757498400-1776859200@www.knowlewest.co.uk
SUMMARY:ESOL / English language for everyday course
DESCRIPTION:Free\, weekly course to help you practice your English skills in reading\, writing and speaking. Learn with other adults in a friendly group.\nContact Lucy Fieldhouse on (m) 07788 353 446
URL:https://www.knowlewest.co.uk/whats-on/esol-english-language-for-everyday-course/2025-09-10/
ATTACH;FMTTYPE=:
END:VEVENT
BEGIN:VEVENT
DTSTART;TZID=Europe/London:20250911T190000
DTEND;TZID=Europe/London:20270912T200000
DTSTAMP:20260421T041051
CREATED:20240525T135704Z
LAST-MODIFIED:20251023T160439Z
UID:10014695-1757617200-1820779200@www.knowlewest.co.uk
SUMMARY:Knowle Boxing Club
DESCRIPTION:About this event: Knowle Boxing Club is for male and females\, adults and children from 9 years + \nWhen: Mondays 7pm – 8.30pm and Thursdays 7-8pm. \nWhere: Sports Hall\, Filwood Community Centre\, Barnstaple Road\, Knowle West\, Bristol\, BS4 1JP \nPrice: Ask for details \nMore information: Call: Bobby 0777 577 3686
URL:https://www.knowlewest.co.uk/whats-on/boxing-club-2/2025-09-11/
CATEGORIES:All Ages,Everyone is welcome,Wellbeing
ATTACH;FMTTYPE=:
END:VEVENT
BEGIN:VEVENT
DTSTART;TZID=UTC:20250917T100000
DTEND;TZID=UTC:20260429T120000
DTSTAMP:20260421T041051
CREATED:20220810T144257Z
LAST-MODIFIED:20251023T154136Z
UID:10014381-1758103200-1777464000@www.knowlewest.co.uk
SUMMARY:ESOL / English language for everyday course
DESCRIPTION:Free\, weekly course to help you practice your English skills in reading\, writing and speaking. Learn with other adults in a friendly group.\nContact Lucy Fieldhouse on (m) 07788 353 446
URL:https://www.knowlewest.co.uk/whats-on/esol-english-language-for-everyday-course/2025-09-17/
ATTACH;FMTTYPE=:
END:VEVENT
END:VCALENDAR