BEGIN:VCALENDAR
VERSION:2.0
PRODID:-//Knowle West Community - ECPv6.15.17//NONSGML v1.0//EN
CALSCALE:GREGORIAN
METHOD:PUBLISH
X-WR-CALNAME:Knowle West Community
X-ORIGINAL-URL:https://www.knowlewest.co.uk
X-WR-CALDESC:Events for Knowle West Community
REFRESH-INTERVAL;VALUE=DURATION:PT1H
X-Robots-Tag:noindex
X-PUBLISHED-TTL:PT1H
BEGIN:VTIMEZONE
TZID:Europe/London
BEGIN:DAYLIGHT
TZOFFSETFROM:+0000
TZOFFSETTO:+0100
TZNAME:BST
DTSTART:20230326T010000
END:DAYLIGHT
BEGIN:STANDARD
TZOFFSETFROM:+0100
TZOFFSETTO:+0000
TZNAME:GMT
DTSTART:20231029T010000
END:STANDARD
BEGIN:DAYLIGHT
TZOFFSETFROM:+0000
TZOFFSETTO:+0100
TZNAME:BST
DTSTART:20240331T010000
END:DAYLIGHT
BEGIN:STANDARD
TZOFFSETFROM:+0100
TZOFFSETTO:+0000
TZNAME:GMT
DTSTART:20241027T010000
END:STANDARD
BEGIN:DAYLIGHT
TZOFFSETFROM:+0000
TZOFFSETTO:+0100
TZNAME:BST
DTSTART:20250330T010000
END:DAYLIGHT
BEGIN:STANDARD
TZOFFSETFROM:+0100
TZOFFSETTO:+0000
TZNAME:GMT
DTSTART:20251026T010000
END:STANDARD
BEGIN:DAYLIGHT
TZOFFSETFROM:+0000
TZOFFSETTO:+0100
TZNAME:BST
DTSTART:20260329T010000
END:DAYLIGHT
BEGIN:STANDARD
TZOFFSETFROM:+0100
TZOFFSETTO:+0000
TZNAME:GMT
DTSTART:20261025T010000
END:STANDARD
BEGIN:DAYLIGHT
TZOFFSETFROM:+0000
TZOFFSETTO:+0100
TZNAME:BST
DTSTART:20270328T010000
END:DAYLIGHT
BEGIN:STANDARD
TZOFFSETFROM:+0100
TZOFFSETTO:+0000
TZNAME:GMT
DTSTART:20271031T010000
END:STANDARD
END:VTIMEZONE
BEGIN:VEVENT
DTSTART;TZID=Europe/London:20240509T190000
DTEND;TZID=Europe/London:20260510T200000
DTSTAMP:20260425T193134
CREATED:20240525T135704Z
LAST-MODIFIED:20251023T160439Z
UID:10006203-1715281200-1778443200@www.knowlewest.co.uk
SUMMARY:Knowle Boxing Club
DESCRIPTION:About this event: Knowle Boxing Club is for male and females\, adults and children from 9 years + \nWhen: Mondays 7pm – 8.30pm and Thursdays 7-8pm. \nWhere: Sports Hall\, Filwood Community Centre\, Barnstaple Road\, Knowle West\, Bristol\, BS4 1JP \nPrice: Ask for details \nMore information: Call: Bobby 0777 577 3686
URL:https://www.knowlewest.co.uk/whats-on/boxing-club-2/2024-05-09/
CATEGORIES:All Ages,Everyone is welcome,Wellbeing
ATTACH;FMTTYPE=:
END:VEVENT
BEGIN:VEVENT
DTSTART;TZID=Europe/London:20240513T170000
DTEND;TZID=Europe/London:20250514T180000
DTSTAMP:20260425T193134
CREATED:20240525T135703Z
LAST-MODIFIED:20251023T160251Z
UID:10006022-1715619600-1747245600@www.knowlewest.co.uk
SUMMARY:Slimming World
DESCRIPTION:About this event: Slimming World is a weight loss plan like no other. Millions have reached their dream weight with our generous no-hunger eating plan. Add an activity programme that starts when the time’s right for you\, plus unbeatable support\, and you’ll soon discover the Slimming World difference.\n\n\n\nWhen: Mondays 10am\, 5pm and 6.30pm \nWhere: Sports Hall\, Filwood Community Centre\, Knowle\, Bristol\, BS4 1JP \nPrice: Ask for details\, telephone Sarah 07879 443888
URL:https://www.knowlewest.co.uk/whats-on/slimming-world-2/2024-05-13/
CATEGORIES:All Ages,Everyone is welcome,Wellbeing
ATTACH;FMTTYPE=:
END:VEVENT
BEGIN:VEVENT
DTSTART;TZID=Europe/London:20240516T190000
DTEND;TZID=Europe/London:20260517T200000
DTSTAMP:20260425T193134
CREATED:20240525T135704Z
LAST-MODIFIED:20251023T160439Z
UID:10006204-1715886000-1779048000@www.knowlewest.co.uk
SUMMARY:Knowle Boxing Club
DESCRIPTION:About this event: Knowle Boxing Club is for male and females\, adults and children from 9 years + \nWhen: Mondays 7pm – 8.30pm and Thursdays 7-8pm. \nWhere: Sports Hall\, Filwood Community Centre\, Barnstaple Road\, Knowle West\, Bristol\, BS4 1JP \nPrice: Ask for details \nMore information: Call: Bobby 0777 577 3686
URL:https://www.knowlewest.co.uk/whats-on/boxing-club-2/2024-05-16/
CATEGORIES:All Ages,Everyone is welcome,Wellbeing
ATTACH;FMTTYPE=:
END:VEVENT
BEGIN:VEVENT
DTSTART;TZID=Europe/London:20240520T170000
DTEND;TZID=Europe/London:20250521T180000
DTSTAMP:20260425T193134
CREATED:20240525T135703Z
LAST-MODIFIED:20251023T160251Z
UID:10006023-1716224400-1747850400@www.knowlewest.co.uk
SUMMARY:Slimming World
DESCRIPTION:About this event: Slimming World is a weight loss plan like no other. Millions have reached their dream weight with our generous no-hunger eating plan. Add an activity programme that starts when the time’s right for you\, plus unbeatable support\, and you’ll soon discover the Slimming World difference.\n\n\n\nWhen: Mondays 10am\, 5pm and 6.30pm \nWhere: Sports Hall\, Filwood Community Centre\, Knowle\, Bristol\, BS4 1JP \nPrice: Ask for details\, telephone Sarah 07879 443888
URL:https://www.knowlewest.co.uk/whats-on/slimming-world-2/2024-05-20/
CATEGORIES:All Ages,Everyone is welcome,Wellbeing
ATTACH;FMTTYPE=:
END:VEVENT
BEGIN:VEVENT
DTSTART;TZID=Europe/London:20240523T190000
DTEND;TZID=Europe/London:20260524T200000
DTSTAMP:20260425T193134
CREATED:20240525T135704Z
LAST-MODIFIED:20251023T160439Z
UID:10006205-1716490800-1779652800@www.knowlewest.co.uk
SUMMARY:Knowle Boxing Club
DESCRIPTION:About this event: Knowle Boxing Club is for male and females\, adults and children from 9 years + \nWhen: Mondays 7pm – 8.30pm and Thursdays 7-8pm. \nWhere: Sports Hall\, Filwood Community Centre\, Barnstaple Road\, Knowle West\, Bristol\, BS4 1JP \nPrice: Ask for details \nMore information: Call: Bobby 0777 577 3686
URL:https://www.knowlewest.co.uk/whats-on/boxing-club-2/2024-05-23/
CATEGORIES:All Ages,Everyone is welcome,Wellbeing
ATTACH;FMTTYPE=:
END:VEVENT
BEGIN:VEVENT
DTSTART;TZID=Europe/London:20240527T170000
DTEND;TZID=Europe/London:20250528T180000
DTSTAMP:20260425T193134
CREATED:20240525T135703Z
LAST-MODIFIED:20251023T160251Z
UID:10006024-1716829200-1748455200@www.knowlewest.co.uk
SUMMARY:Slimming World
DESCRIPTION:About this event: Slimming World is a weight loss plan like no other. Millions have reached their dream weight with our generous no-hunger eating plan. Add an activity programme that starts when the time’s right for you\, plus unbeatable support\, and you’ll soon discover the Slimming World difference.\n\n\n\nWhen: Mondays 10am\, 5pm and 6.30pm \nWhere: Sports Hall\, Filwood Community Centre\, Knowle\, Bristol\, BS4 1JP \nPrice: Ask for details\, telephone Sarah 07879 443888
URL:https://www.knowlewest.co.uk/whats-on/slimming-world-2/2024-05-27/
CATEGORIES:All Ages,Everyone is welcome,Wellbeing
ATTACH;FMTTYPE=:
END:VEVENT
BEGIN:VEVENT
DTSTART;TZID=Europe/London:20240530T190000
DTEND;TZID=Europe/London:20260531T200000
DTSTAMP:20260425T193134
CREATED:20240525T135704Z
LAST-MODIFIED:20251023T160439Z
UID:10006206-1717095600-1780257600@www.knowlewest.co.uk
SUMMARY:Knowle Boxing Club
DESCRIPTION:About this event: Knowle Boxing Club is for male and females\, adults and children from 9 years + \nWhen: Mondays 7pm – 8.30pm and Thursdays 7-8pm. \nWhere: Sports Hall\, Filwood Community Centre\, Barnstaple Road\, Knowle West\, Bristol\, BS4 1JP \nPrice: Ask for details \nMore information: Call: Bobby 0777 577 3686
URL:https://www.knowlewest.co.uk/whats-on/boxing-club-2/2024-05-30/
CATEGORIES:All Ages,Everyone is welcome,Wellbeing
ATTACH;FMTTYPE=:
END:VEVENT
BEGIN:VEVENT
DTSTART;TZID=Europe/London:20240603T170000
DTEND;TZID=Europe/London:20250604T180000
DTSTAMP:20260425T193134
CREATED:20240525T135703Z
LAST-MODIFIED:20251023T160251Z
UID:10006025-1717434000-1749060000@www.knowlewest.co.uk
SUMMARY:Slimming World
DESCRIPTION:About this event: Slimming World is a weight loss plan like no other. Millions have reached their dream weight with our generous no-hunger eating plan. Add an activity programme that starts when the time’s right for you\, plus unbeatable support\, and you’ll soon discover the Slimming World difference.\n\n\n\nWhen: Mondays 10am\, 5pm and 6.30pm \nWhere: Sports Hall\, Filwood Community Centre\, Knowle\, Bristol\, BS4 1JP \nPrice: Ask for details\, telephone Sarah 07879 443888
URL:https://www.knowlewest.co.uk/whats-on/slimming-world-2/2024-06-03/
CATEGORIES:All Ages,Everyone is welcome,Wellbeing
ATTACH;FMTTYPE=:
END:VEVENT
BEGIN:VEVENT
DTSTART;TZID=Europe/London:20240606T190000
DTEND;TZID=Europe/London:20260607T200000
DTSTAMP:20260425T193134
CREATED:20240525T135704Z
LAST-MODIFIED:20251023T160439Z
UID:10006207-1717700400-1780862400@www.knowlewest.co.uk
SUMMARY:Knowle Boxing Club
DESCRIPTION:About this event: Knowle Boxing Club is for male and females\, adults and children from 9 years + \nWhen: Mondays 7pm – 8.30pm and Thursdays 7-8pm. \nWhere: Sports Hall\, Filwood Community Centre\, Barnstaple Road\, Knowle West\, Bristol\, BS4 1JP \nPrice: Ask for details \nMore information: Call: Bobby 0777 577 3686
URL:https://www.knowlewest.co.uk/whats-on/boxing-club-2/2024-06-06/
CATEGORIES:All Ages,Everyone is welcome,Wellbeing
ATTACH;FMTTYPE=:
END:VEVENT
BEGIN:VEVENT
DTSTART;TZID=Europe/London:20240610T170000
DTEND;TZID=Europe/London:20250611T180000
DTSTAMP:20260425T193134
CREATED:20240525T135703Z
LAST-MODIFIED:20251023T160251Z
UID:10006026-1718038800-1749664800@www.knowlewest.co.uk
SUMMARY:Slimming World
DESCRIPTION:About this event: Slimming World is a weight loss plan like no other. Millions have reached their dream weight with our generous no-hunger eating plan. Add an activity programme that starts when the time’s right for you\, plus unbeatable support\, and you’ll soon discover the Slimming World difference.\n\n\n\nWhen: Mondays 10am\, 5pm and 6.30pm \nWhere: Sports Hall\, Filwood Community Centre\, Knowle\, Bristol\, BS4 1JP \nPrice: Ask for details\, telephone Sarah 07879 443888
URL:https://www.knowlewest.co.uk/whats-on/slimming-world-2/2024-06-10/
CATEGORIES:All Ages,Everyone is welcome,Wellbeing
ATTACH;FMTTYPE=:
END:VEVENT
BEGIN:VEVENT
DTSTART;TZID=Europe/London:20240613T190000
DTEND;TZID=Europe/London:20260614T200000
DTSTAMP:20260425T193134
CREATED:20240525T135704Z
LAST-MODIFIED:20251023T160439Z
UID:10006208-1718305200-1781467200@www.knowlewest.co.uk
SUMMARY:Knowle Boxing Club
DESCRIPTION:About this event: Knowle Boxing Club is for male and females\, adults and children from 9 years + \nWhen: Mondays 7pm – 8.30pm and Thursdays 7-8pm. \nWhere: Sports Hall\, Filwood Community Centre\, Barnstaple Road\, Knowle West\, Bristol\, BS4 1JP \nPrice: Ask for details \nMore information: Call: Bobby 0777 577 3686
URL:https://www.knowlewest.co.uk/whats-on/boxing-club-2/2024-06-13/
CATEGORIES:All Ages,Everyone is welcome,Wellbeing
ATTACH;FMTTYPE=:
END:VEVENT
BEGIN:VEVENT
DTSTART;TZID=Europe/London:20240617T170000
DTEND;TZID=Europe/London:20250618T180000
DTSTAMP:20260425T193134
CREATED:20240525T135703Z
LAST-MODIFIED:20251023T160251Z
UID:10006027-1718643600-1750269600@www.knowlewest.co.uk
SUMMARY:Slimming World
DESCRIPTION:About this event: Slimming World is a weight loss plan like no other. Millions have reached their dream weight with our generous no-hunger eating plan. Add an activity programme that starts when the time’s right for you\, plus unbeatable support\, and you’ll soon discover the Slimming World difference.\n\n\n\nWhen: Mondays 10am\, 5pm and 6.30pm \nWhere: Sports Hall\, Filwood Community Centre\, Knowle\, Bristol\, BS4 1JP \nPrice: Ask for details\, telephone Sarah 07879 443888
URL:https://www.knowlewest.co.uk/whats-on/slimming-world-2/2024-06-17/
CATEGORIES:All Ages,Everyone is welcome,Wellbeing
ATTACH;FMTTYPE=:
END:VEVENT
BEGIN:VEVENT
DTSTART;TZID=Europe/London:20240620T190000
DTEND;TZID=Europe/London:20260621T200000
DTSTAMP:20260425T193134
CREATED:20240525T135704Z
LAST-MODIFIED:20251023T160439Z
UID:10006209-1718910000-1782072000@www.knowlewest.co.uk
SUMMARY:Knowle Boxing Club
DESCRIPTION:About this event: Knowle Boxing Club is for male and females\, adults and children from 9 years + \nWhen: Mondays 7pm – 8.30pm and Thursdays 7-8pm. \nWhere: Sports Hall\, Filwood Community Centre\, Barnstaple Road\, Knowle West\, Bristol\, BS4 1JP \nPrice: Ask for details \nMore information: Call: Bobby 0777 577 3686
URL:https://www.knowlewest.co.uk/whats-on/boxing-club-2/2024-06-20/
CATEGORIES:All Ages,Everyone is welcome,Wellbeing
ATTACH;FMTTYPE=:
END:VEVENT
BEGIN:VEVENT
DTSTART;TZID=Europe/London:20240624T170000
DTEND;TZID=Europe/London:20250625T180000
DTSTAMP:20260425T193134
CREATED:20240525T135703Z
LAST-MODIFIED:20251023T160251Z
UID:10006028-1719248400-1750874400@www.knowlewest.co.uk
SUMMARY:Slimming World
DESCRIPTION:About this event: Slimming World is a weight loss plan like no other. Millions have reached their dream weight with our generous no-hunger eating plan. Add an activity programme that starts when the time’s right for you\, plus unbeatable support\, and you’ll soon discover the Slimming World difference.\n\n\n\nWhen: Mondays 10am\, 5pm and 6.30pm \nWhere: Sports Hall\, Filwood Community Centre\, Knowle\, Bristol\, BS4 1JP \nPrice: Ask for details\, telephone Sarah 07879 443888
URL:https://www.knowlewest.co.uk/whats-on/slimming-world-2/2024-06-24/
CATEGORIES:All Ages,Everyone is welcome,Wellbeing
ATTACH;FMTTYPE=:
END:VEVENT
BEGIN:VEVENT
DTSTART;TZID=Europe/London:20240627T190000
DTEND;TZID=Europe/London:20260628T200000
DTSTAMP:20260425T193134
CREATED:20240525T135704Z
LAST-MODIFIED:20251023T160439Z
UID:10006210-1719514800-1782676800@www.knowlewest.co.uk
SUMMARY:Knowle Boxing Club
DESCRIPTION:About this event: Knowle Boxing Club is for male and females\, adults and children from 9 years + \nWhen: Mondays 7pm – 8.30pm and Thursdays 7-8pm. \nWhere: Sports Hall\, Filwood Community Centre\, Barnstaple Road\, Knowle West\, Bristol\, BS4 1JP \nPrice: Ask for details \nMore information: Call: Bobby 0777 577 3686
URL:https://www.knowlewest.co.uk/whats-on/boxing-club-2/2024-06-27/
CATEGORIES:All Ages,Everyone is welcome,Wellbeing
ATTACH;FMTTYPE=:
END:VEVENT
BEGIN:VEVENT
DTSTART;TZID=Europe/London:20240701T170000
DTEND;TZID=Europe/London:20250702T180000
DTSTAMP:20260425T193134
CREATED:20240525T135703Z
LAST-MODIFIED:20251023T160251Z
UID:10006029-1719853200-1751479200@www.knowlewest.co.uk
SUMMARY:Slimming World
DESCRIPTION:About this event: Slimming World is a weight loss plan like no other. Millions have reached their dream weight with our generous no-hunger eating plan. Add an activity programme that starts when the time’s right for you\, plus unbeatable support\, and you’ll soon discover the Slimming World difference.\n\n\n\nWhen: Mondays 10am\, 5pm and 6.30pm \nWhere: Sports Hall\, Filwood Community Centre\, Knowle\, Bristol\, BS4 1JP \nPrice: Ask for details\, telephone Sarah 07879 443888
URL:https://www.knowlewest.co.uk/whats-on/slimming-world-2/2024-07-01/
CATEGORIES:All Ages,Everyone is welcome,Wellbeing
ATTACH;FMTTYPE=:
END:VEVENT
BEGIN:VEVENT
DTSTART;TZID=Europe/London:20240704T123000
DTEND;TZID=Europe/London:20250514T143000
DTSTAMP:20260425T193134
CREATED:20230720T173927Z
LAST-MODIFIED:20251023T155007Z
UID:10004498-1720096200-1747233000@www.knowlewest.co.uk
SUMMARY:Food Club
DESCRIPTION:Family Action has launched Food On Our Doorstep (FOOD) clubs in Bristol and the SW to provide families with good-quality food at a low cost\, while also reducing food waste.\nIt costs just £1 a year for your family to become a member. Once you’ve joined\, you can purchase a bag of tasty food items for just £3.50 every week (worth approximately £15).\nTo become a member you must live or work within 15 minutes of the club. \nInns Court Community Centre\, Marshall Walk\, Knowle\, BS4 1TR\nFriday 1.30-3pm \nTo find out more\, please email\nbr**************@***************rg.uk
URL:https://www.knowlewest.co.uk/whats-on/food-club-2/2024-07-04/
CATEGORIES:Families,Social Action,Wellbeing
ATTACH;FMTTYPE=:
END:VEVENT
BEGIN:VEVENT
DTSTART;TZID=Europe/London:20240704T190000
DTEND;TZID=Europe/London:20260705T200000
DTSTAMP:20260425T193134
CREATED:20240525T135704Z
LAST-MODIFIED:20251023T160439Z
UID:10006211-1720119600-1783281600@www.knowlewest.co.uk
SUMMARY:Knowle Boxing Club
DESCRIPTION:About this event: Knowle Boxing Club is for male and females\, adults and children from 9 years + \nWhen: Mondays 7pm – 8.30pm and Thursdays 7-8pm. \nWhere: Sports Hall\, Filwood Community Centre\, Barnstaple Road\, Knowle West\, Bristol\, BS4 1JP \nPrice: Ask for details \nMore information: Call: Bobby 0777 577 3686
URL:https://www.knowlewest.co.uk/whats-on/boxing-club-2/2024-07-04/
CATEGORIES:All Ages,Everyone is welcome,Wellbeing
ATTACH;FMTTYPE=:
END:VEVENT
BEGIN:VEVENT
DTSTART;TZID=Europe/London:20240708T170000
DTEND;TZID=Europe/London:20250709T180000
DTSTAMP:20260425T193134
CREATED:20240525T135703Z
LAST-MODIFIED:20251023T160251Z
UID:10006030-1720458000-1752084000@www.knowlewest.co.uk
SUMMARY:Slimming World
DESCRIPTION:About this event: Slimming World is a weight loss plan like no other. Millions have reached their dream weight with our generous no-hunger eating plan. Add an activity programme that starts when the time’s right for you\, plus unbeatable support\, and you’ll soon discover the Slimming World difference.\n\n\n\nWhen: Mondays 10am\, 5pm and 6.30pm \nWhere: Sports Hall\, Filwood Community Centre\, Knowle\, Bristol\, BS4 1JP \nPrice: Ask for details\, telephone Sarah 07879 443888
URL:https://www.knowlewest.co.uk/whats-on/slimming-world-2/2024-07-08/
CATEGORIES:All Ages,Everyone is welcome,Wellbeing
ATTACH;FMTTYPE=:
END:VEVENT
BEGIN:VEVENT
DTSTART;TZID=Europe/London:20240711T123000
DTEND;TZID=Europe/London:20250521T143000
DTSTAMP:20260425T193134
CREATED:20230720T173927Z
LAST-MODIFIED:20251023T155007Z
UID:10004499-1720701000-1747837800@www.knowlewest.co.uk
SUMMARY:Food Club
DESCRIPTION:Family Action has launched Food On Our Doorstep (FOOD) clubs in Bristol and the SW to provide families with good-quality food at a low cost\, while also reducing food waste.\nIt costs just £1 a year for your family to become a member. Once you’ve joined\, you can purchase a bag of tasty food items for just £3.50 every week (worth approximately £15).\nTo become a member you must live or work within 15 minutes of the club. \nInns Court Community Centre\, Marshall Walk\, Knowle\, BS4 1TR\nFriday 1.30-3pm \nTo find out more\, please email\nbr**************@***************rg.uk
URL:https://www.knowlewest.co.uk/whats-on/food-club-2/2024-07-11/
CATEGORIES:Families,Social Action,Wellbeing
ATTACH;FMTTYPE=:
END:VEVENT
BEGIN:VEVENT
DTSTART;TZID=Europe/London:20240711T190000
DTEND;TZID=Europe/London:20260712T200000
DTSTAMP:20260425T193134
CREATED:20240525T135704Z
LAST-MODIFIED:20251023T160439Z
UID:10006212-1720724400-1783886400@www.knowlewest.co.uk
SUMMARY:Knowle Boxing Club
DESCRIPTION:About this event: Knowle Boxing Club is for male and females\, adults and children from 9 years + \nWhen: Mondays 7pm – 8.30pm and Thursdays 7-8pm. \nWhere: Sports Hall\, Filwood Community Centre\, Barnstaple Road\, Knowle West\, Bristol\, BS4 1JP \nPrice: Ask for details \nMore information: Call: Bobby 0777 577 3686
URL:https://www.knowlewest.co.uk/whats-on/boxing-club-2/2024-07-11/
CATEGORIES:All Ages,Everyone is welcome,Wellbeing
ATTACH;FMTTYPE=:
END:VEVENT
BEGIN:VEVENT
DTSTART;TZID=Europe/London:20240715T170000
DTEND;TZID=Europe/London:20250716T180000
DTSTAMP:20260425T193134
CREATED:20240525T135703Z
LAST-MODIFIED:20251023T160251Z
UID:10006031-1721062800-1752688800@www.knowlewest.co.uk
SUMMARY:Slimming World
DESCRIPTION:About this event: Slimming World is a weight loss plan like no other. Millions have reached their dream weight with our generous no-hunger eating plan. Add an activity programme that starts when the time’s right for you\, plus unbeatable support\, and you’ll soon discover the Slimming World difference.\n\n\n\nWhen: Mondays 10am\, 5pm and 6.30pm \nWhere: Sports Hall\, Filwood Community Centre\, Knowle\, Bristol\, BS4 1JP \nPrice: Ask for details\, telephone Sarah 07879 443888
URL:https://www.knowlewest.co.uk/whats-on/slimming-world-2/2024-07-15/
CATEGORIES:All Ages,Everyone is welcome,Wellbeing
ATTACH;FMTTYPE=:
END:VEVENT
BEGIN:VEVENT
DTSTART;TZID=Europe/London:20240718T123000
DTEND;TZID=Europe/London:20250528T143000
DTSTAMP:20260425T193134
CREATED:20230720T173927Z
LAST-MODIFIED:20251023T155007Z
UID:10004500-1721305800-1748442600@www.knowlewest.co.uk
SUMMARY:Food Club
DESCRIPTION:Family Action has launched Food On Our Doorstep (FOOD) clubs in Bristol and the SW to provide families with good-quality food at a low cost\, while also reducing food waste.\nIt costs just £1 a year for your family to become a member. Once you’ve joined\, you can purchase a bag of tasty food items for just £3.50 every week (worth approximately £15).\nTo become a member you must live or work within 15 minutes of the club. \nInns Court Community Centre\, Marshall Walk\, Knowle\, BS4 1TR\nFriday 1.30-3pm \nTo find out more\, please email\nbr**************@***************rg.uk
URL:https://www.knowlewest.co.uk/whats-on/food-club-2/2024-07-18/
CATEGORIES:Families,Social Action,Wellbeing
ATTACH;FMTTYPE=:
END:VEVENT
BEGIN:VEVENT
DTSTART;TZID=Europe/London:20240718T190000
DTEND;TZID=Europe/London:20260719T200000
DTSTAMP:20260425T193134
CREATED:20240525T135704Z
LAST-MODIFIED:20251023T160439Z
UID:10006213-1721329200-1784491200@www.knowlewest.co.uk
SUMMARY:Knowle Boxing Club
DESCRIPTION:About this event: Knowle Boxing Club is for male and females\, adults and children from 9 years + \nWhen: Mondays 7pm – 8.30pm and Thursdays 7-8pm. \nWhere: Sports Hall\, Filwood Community Centre\, Barnstaple Road\, Knowle West\, Bristol\, BS4 1JP \nPrice: Ask for details \nMore information: Call: Bobby 0777 577 3686
URL:https://www.knowlewest.co.uk/whats-on/boxing-club-2/2024-07-18/
CATEGORIES:All Ages,Everyone is welcome,Wellbeing
ATTACH;FMTTYPE=:
END:VEVENT
BEGIN:VEVENT
DTSTART;TZID=Europe/London:20240722T170000
DTEND;TZID=Europe/London:20250723T180000
DTSTAMP:20260425T193134
CREATED:20240525T135703Z
LAST-MODIFIED:20251023T160251Z
UID:10006032-1721667600-1753293600@www.knowlewest.co.uk
SUMMARY:Slimming World
DESCRIPTION:About this event: Slimming World is a weight loss plan like no other. Millions have reached their dream weight with our generous no-hunger eating plan. Add an activity programme that starts when the time’s right for you\, plus unbeatable support\, and you’ll soon discover the Slimming World difference.\n\n\n\nWhen: Mondays 10am\, 5pm and 6.30pm \nWhere: Sports Hall\, Filwood Community Centre\, Knowle\, Bristol\, BS4 1JP \nPrice: Ask for details\, telephone Sarah 07879 443888
URL:https://www.knowlewest.co.uk/whats-on/slimming-world-2/2024-07-22/
CATEGORIES:All Ages,Everyone is welcome,Wellbeing
ATTACH;FMTTYPE=:
END:VEVENT
BEGIN:VEVENT
DTSTART;TZID=Europe/London:20240725T123000
DTEND;TZID=Europe/London:20250604T143000
DTSTAMP:20260425T193134
CREATED:20230720T173927Z
LAST-MODIFIED:20251023T155007Z
UID:10004501-1721910600-1749047400@www.knowlewest.co.uk
SUMMARY:Food Club
DESCRIPTION:Family Action has launched Food On Our Doorstep (FOOD) clubs in Bristol and the SW to provide families with good-quality food at a low cost\, while also reducing food waste.\nIt costs just £1 a year for your family to become a member. Once you’ve joined\, you can purchase a bag of tasty food items for just £3.50 every week (worth approximately £15).\nTo become a member you must live or work within 15 minutes of the club. \nInns Court Community Centre\, Marshall Walk\, Knowle\, BS4 1TR\nFriday 1.30-3pm \nTo find out more\, please email\nbr**************@***************rg.uk
URL:https://www.knowlewest.co.uk/whats-on/food-club-2/2024-07-25/
CATEGORIES:Families,Social Action,Wellbeing
ATTACH;FMTTYPE=:
END:VEVENT
BEGIN:VEVENT
DTSTART;TZID=Europe/London:20240725T190000
DTEND;TZID=Europe/London:20260726T200000
DTSTAMP:20260425T193134
CREATED:20240525T135704Z
LAST-MODIFIED:20251023T160439Z
UID:10006214-1721934000-1785096000@www.knowlewest.co.uk
SUMMARY:Knowle Boxing Club
DESCRIPTION:About this event: Knowle Boxing Club is for male and females\, adults and children from 9 years + \nWhen: Mondays 7pm – 8.30pm and Thursdays 7-8pm. \nWhere: Sports Hall\, Filwood Community Centre\, Barnstaple Road\, Knowle West\, Bristol\, BS4 1JP \nPrice: Ask for details \nMore information: Call: Bobby 0777 577 3686
URL:https://www.knowlewest.co.uk/whats-on/boxing-club-2/2024-07-25/
CATEGORIES:All Ages,Everyone is welcome,Wellbeing
ATTACH;FMTTYPE=:
END:VEVENT
BEGIN:VEVENT
DTSTART;TZID=Europe/London:20240729T170000
DTEND;TZID=Europe/London:20250730T180000
DTSTAMP:20260425T193134
CREATED:20240525T135703Z
LAST-MODIFIED:20251023T160251Z
UID:10006033-1722272400-1753898400@www.knowlewest.co.uk
SUMMARY:Slimming World
DESCRIPTION:About this event: Slimming World is a weight loss plan like no other. Millions have reached their dream weight with our generous no-hunger eating plan. Add an activity programme that starts when the time’s right for you\, plus unbeatable support\, and you’ll soon discover the Slimming World difference.\n\n\n\nWhen: Mondays 10am\, 5pm and 6.30pm \nWhere: Sports Hall\, Filwood Community Centre\, Knowle\, Bristol\, BS4 1JP \nPrice: Ask for details\, telephone Sarah 07879 443888
URL:https://www.knowlewest.co.uk/whats-on/slimming-world-2/2024-07-29/
CATEGORIES:All Ages,Everyone is welcome,Wellbeing
ATTACH;FMTTYPE=:
END:VEVENT
BEGIN:VEVENT
DTSTART;TZID=Europe/London:20240801T123000
DTEND;TZID=Europe/London:20250611T143000
DTSTAMP:20260425T193134
CREATED:20230720T173927Z
LAST-MODIFIED:20251023T155007Z
UID:10004502-1722515400-1749652200@www.knowlewest.co.uk
SUMMARY:Food Club
DESCRIPTION:Family Action has launched Food On Our Doorstep (FOOD) clubs in Bristol and the SW to provide families with good-quality food at a low cost\, while also reducing food waste.\nIt costs just £1 a year for your family to become a member. Once you’ve joined\, you can purchase a bag of tasty food items for just £3.50 every week (worth approximately £15).\nTo become a member you must live or work within 15 minutes of the club. \nInns Court Community Centre\, Marshall Walk\, Knowle\, BS4 1TR\nFriday 1.30-3pm \nTo find out more\, please email\nbr**************@***************rg.uk
URL:https://www.knowlewest.co.uk/whats-on/food-club-2/2024-08-01/
CATEGORIES:Families,Social Action,Wellbeing
ATTACH;FMTTYPE=:
END:VEVENT
BEGIN:VEVENT
DTSTART;TZID=Europe/London:20240801T190000
DTEND;TZID=Europe/London:20260802T200000
DTSTAMP:20260425T193134
CREATED:20240525T135704Z
LAST-MODIFIED:20251023T160439Z
UID:10006215-1722538800-1785700800@www.knowlewest.co.uk
SUMMARY:Knowle Boxing Club
DESCRIPTION:About this event: Knowle Boxing Club is for male and females\, adults and children from 9 years + \nWhen: Mondays 7pm – 8.30pm and Thursdays 7-8pm. \nWhere: Sports Hall\, Filwood Community Centre\, Barnstaple Road\, Knowle West\, Bristol\, BS4 1JP \nPrice: Ask for details \nMore information: Call: Bobby 0777 577 3686
URL:https://www.knowlewest.co.uk/whats-on/boxing-club-2/2024-08-01/
CATEGORIES:All Ages,Everyone is welcome,Wellbeing
ATTACH;FMTTYPE=:
END:VEVENT
END:VCALENDAR