BEGIN:VCALENDAR
VERSION:2.0
PRODID:-//Knowle West Community - ECPv6.15.17//NONSGML v1.0//EN
CALSCALE:GREGORIAN
METHOD:PUBLISH
X-ORIGINAL-URL:https://www.knowlewest.co.uk
X-WR-CALDESC:Events for Knowle West Community
REFRESH-INTERVAL;VALUE=DURATION:PT1H
X-Robots-Tag:noindex
X-PUBLISHED-TTL:PT1H
BEGIN:VTIMEZONE
TZID:UTC
BEGIN:STANDARD
TZOFFSETFROM:+0000
TZOFFSETTO:+0000
TZNAME:UTC
DTSTART:20250101T000000
END:STANDARD
END:VTIMEZONE
BEGIN:VTIMEZONE
TZID:Europe/London
BEGIN:DAYLIGHT
TZOFFSETFROM:+0000
TZOFFSETTO:+0100
TZNAME:BST
DTSTART:20250330T010000
END:DAYLIGHT
BEGIN:STANDARD
TZOFFSETFROM:+0100
TZOFFSETTO:+0000
TZNAME:GMT
DTSTART:20251026T010000
END:STANDARD
BEGIN:DAYLIGHT
TZOFFSETFROM:+0000
TZOFFSETTO:+0100
TZNAME:BST
DTSTART:20260329T010000
END:DAYLIGHT
BEGIN:STANDARD
TZOFFSETFROM:+0100
TZOFFSETTO:+0000
TZNAME:GMT
DTSTART:20261025T010000
END:STANDARD
BEGIN:DAYLIGHT
TZOFFSETFROM:+0000
TZOFFSETTO:+0100
TZNAME:BST
DTSTART:20270328T010000
END:DAYLIGHT
BEGIN:STANDARD
TZOFFSETFROM:+0100
TZOFFSETTO:+0000
TZNAME:GMT
DTSTART:20271031T010000
END:STANDARD
BEGIN:DAYLIGHT
TZOFFSETFROM:+0000
TZOFFSETTO:+0100
TZNAME:BST
DTSTART:20280326T010000
END:DAYLIGHT
BEGIN:STANDARD
TZOFFSETFROM:+0100
TZOFFSETTO:+0000
TZNAME:GMT
DTSTART:20281029T010000
END:STANDARD
BEGIN:DAYLIGHT
TZOFFSETFROM:+0000
TZOFFSETTO:+0100
TZNAME:BST
DTSTART:20290325T010000
END:DAYLIGHT
BEGIN:STANDARD
TZOFFSETFROM:+0100
TZOFFSETTO:+0000
TZNAME:GMT
DTSTART:20291028T010000
END:STANDARD
END:VTIMEZONE
BEGIN:VEVENT
DTSTART;TZID=UTC:20260526T133000
DTEND;TZID=UTC:20260526T153000
DTSTAMP:20260426T032647
CREATED:20260105T151614Z
LAST-MODIFIED:20260105T151614Z
UID:10015383-1779802200-1779809400@www.knowlewest.co.uk
SUMMARY:Circus Skills Classes
DESCRIPTION:Come and have fun learning some new skills\, get some gentle exercise and meet some new friends! Our top teachers from Circomedia will guide you through the world of juggling\, hula hooping\, diablo and more. Suitable for all abilities.
URL:https://www.knowlewest.co.uk/whats-on/circus-skills-classes/2026-05-26/
LOCATION:Knowle West Healthy Living Centre\, Downton Road\, Bristol\, BS4 1WH\, United Kingdom
CATEGORIES:Active,Adults,Day Time,Learning,Over 50s
ATTACH;FMTTYPE=image/png:https://www.knowlewest.co.uk/wp-content/uploads/2026/01/Circus-Skills-Jan-2026-flier.png
END:VEVENT
BEGIN:VEVENT
DTSTART;TZID=UTC:20260526T133000
DTEND;TZID=UTC:20260526T153000
DTSTAMP:20260426T032647
CREATED:20260415T143246Z
LAST-MODIFIED:20260415T143246Z
UID:10015748-1779802200-1779809400@www.knowlewest.co.uk
SUMMARY:Circus Skills Classes
DESCRIPTION:We have another 8 weeks of Circus Skills for over 50s starting on Tuesday 19th May! Come and join the fun! Learn a bit of juggling\, master spinning the diablo\, try out spinning plates and much more! Our expert teachers from Circomedia will guide you through each session and can tailor the activities to all abilities. First session is FREE for all new members.
URL:https://www.knowlewest.co.uk/whats-on/circus-skills-classes-2/2026-05-26/
LOCATION:Knowle West Healthy Living Centre\, Downton Road\, Bristol\, BS4 1WH\, United Kingdom
CATEGORIES:Active,Adults
ATTACH;FMTTYPE=image/png:https://www.knowlewest.co.uk/wp-content/uploads/2026/04/Circus-skills-May-2026-flier.png
END:VEVENT
BEGIN:VEVENT
DTSTART;TZID=UTC:20260527T100000
DTEND;TZID=UTC:20270106T120000
DTSTAMP:20260426T032647
CREATED:20220810T144257Z
LAST-MODIFIED:20251023T154136Z
UID:10014417-1779876000-1799236800@www.knowlewest.co.uk
SUMMARY:ESOL / English language for everyday course
DESCRIPTION:Free\, weekly course to help you practice your English skills in reading\, writing and speaking. Learn with other adults in a friendly group.\nContact Lucy Fieldhouse on (m) 07788 353 446
URL:https://www.knowlewest.co.uk/whats-on/esol-english-language-for-everyday-course/2026-05-27/
ATTACH;FMTTYPE=:
END:VEVENT
BEGIN:VEVENT
DTSTART;TZID=UTC:20260527T130000
DTEND;TZID=UTC:20300805T160000
DTSTAMP:20260426T032647
CREATED:20251015T220331Z
LAST-MODIFIED:20251015T220331Z
UID:10013914-1779886800-1912176000@www.knowlewest.co.uk
SUMMARY:Filwood Chase History Society
DESCRIPTION:We have rooms full of maps\,books\,models of Knowle West and Bristol buildings\,photos\,old Bristol Post newspapers\, and much much more.Only open Wed\, from 1 pm 4pm upper floor of Filwood Library.
URL:https://www.knowlewest.co.uk/whats-on/filwood-chase-history-society-2/2026-05-27/
LOCATION:Filwood Library\, Filwood Broadway\, Bristol
CATEGORIES:All Ages,Arts & Culture,Community,Education,Everyone is welcome,Free Activity
ATTACH;FMTTYPE=image/jpeg:https://www.knowlewest.co.uk/wp-content/uploads/2025/10/481776309_1167568398705501_5909634068162759101_n-scaled.jpg
END:VEVENT
BEGIN:VEVENT
DTSTART;TZID=UTC:20260527T133000
DTEND;TZID=UTC:20260527T153000
DTSTAMP:20260426T032647
CREATED:20241218T122103Z
LAST-MODIFIED:20241218T122103Z
UID:10009593-1779888600-1779895800@www.knowlewest.co.uk
SUMMARY:Changes Bristol Peer Support Groups for Mental Health & Well-being (Age 18+) Wednesdays 1.30pm - 3.30pm
DESCRIPTION:Space for connecting with other people in the community to receive support and share (if you want to) whatever is going on for you that is impacting on your mental health and well-being in an inclusive non-judgemental space.\nOur aim is to normalise conversations around mental health and try and reduce stigma.\nFree hot drinks and biscuits available and a warm welcome.\nNo referral\, or diagnosis of any mental health condition necessary\, just turn up and see what it is like to be part of our wonderfully supportive community.\n(Adults only – 18+)
URL:https://www.knowlewest.co.uk/whats-on/changes-bristol-peer-support-groups-for-mental-health-well-being-age-18-wednesdays-1-30pm-3-30pm/2026-05-27/
LOCATION:Redcatch Community Centre
ORGANIZER;CN="Changes Bristol":MAILTO:info@changesbristol.org.uk
END:VEVENT
BEGIN:VEVENT
DTSTART;TZID=Europe/London:20260528T190000
DTEND;TZID=Europe/London:20280528T200000
DTSTAMP:20260426T032647
CREATED:20240525T135704Z
LAST-MODIFIED:20251023T160439Z
UID:10014732-1779994800-1843156800@www.knowlewest.co.uk
SUMMARY:Knowle Boxing Club
DESCRIPTION:About this event: Knowle Boxing Club is for male and females\, adults and children from 9 years + \nWhen: Mondays 7pm – 8.30pm and Thursdays 7-8pm. \nWhere: Sports Hall\, Filwood Community Centre\, Barnstaple Road\, Knowle West\, Bristol\, BS4 1JP \nPrice: Ask for details \nMore information: Call: Bobby 0777 577 3686
URL:https://www.knowlewest.co.uk/whats-on/boxing-club-2/2026-05-28/
CATEGORIES:All Ages,Everyone is welcome,Wellbeing
ATTACH;FMTTYPE=:
END:VEVENT
BEGIN:VEVENT
DTSTART;TZID=UTC:20260530T000000
DTEND;TZID=UTC:20300812T235959
DTSTAMP:20260426T032647
CREATED:20251015T215645Z
LAST-MODIFIED:20251023T091543Z
UID:10010748-1780099200-1912809599@www.knowlewest.co.uk
SUMMARY:Redcatch Community Garden
DESCRIPTION:Selling a range of vegetables\, plants and eggs as well as compost cards\, and flowers. \nOpen Daily 9.30am – 4pm (Winter) or until 4:30pm (Summer) \nPlease check our socials for daily changes – https://www.facebook.com/redcatchcommunitygarden/ \nre*********************@*****ok.com \nBringing local people together to learn\, socialise\, share skills and support physical and mental health and wellbeing.Join us for. . .\n\n\n\n\nLocal\, delicious coffee from Extract Coffee Roasters\n\n\n​Sustainably sourced and homegrown produce\n\n\nPlant shop\n\n\nPop-up food events\n\n\nAll ages workshops\n\n\nVolunteering opportunities\n\n\nArt therapy and wellbeing sessions\n\n\nEvent space hire (weddings\, parties)\n\n\n\n\n  \n 
URL:https://www.knowlewest.co.uk/whats-on/redcatch-community-garden-2-2/2026-05-30/
CATEGORIES:Adults,Families
ATTACH;FMTTYPE=application/pdf:https://www.knowlewest.co.uk/wp-content/uploads/2020/10/rcg-1.pdf
END:VEVENT
BEGIN:VEVENT
DTSTART;TZID=UTC:20260601T103000
DTEND;TZID=UTC:20260601T113000
DTSTAMP:20260426T032647
CREATED:20241113T141839Z
LAST-MODIFIED:20241113T141839Z
UID:10009068-1780309800-1780313400@www.knowlewest.co.uk
SUMMARY:Inns Court Walking group
DESCRIPTION:Mondays 10.30am.\nJoin us for a short walk\, 30-40 minutes\, around Inns Court followed by a cuppa.\nIdeal for those wanting to improve their mobility\, get a bit fitter or meet new people.\nWe meet by the playground on Inns Court Drive\, just come along\, we will be there rain or shine \nFor more details contact in**********************@***il.com
URL:https://www.knowlewest.co.uk/whats-on/inns-court-walking-group/2026-06-01/
LOCATION:Inns Court Community & Family Centre\, 1 Marshall Walk\, Bristol\, BS4 1TR\, United Kingdom
ATTACH;FMTTYPE=image/png:https://www.knowlewest.co.uk/wp-content/uploads/2024/11/Inns-Court-Walking-Group-1-1.png
ORGANIZER;CN="Inns Court Residents Group":MAILTO:innscourt.residentgroup@gmail.com
END:VEVENT
BEGIN:VEVENT
DTSTART;TZID=UTC:20260601T130000
DTEND;TZID=UTC:20260601T150000
DTSTAMP:20260426T032647
CREATED:20251007T145754Z
LAST-MODIFIED:20251007T145754Z
UID:10010274-1780318800-1780326000@www.knowlewest.co.uk
SUMMARY:Barney’s Toddler Group
DESCRIPTION:Toddler Group\nHuge variety of toys\, sensory play\, live toddler music session\, bubbles\, friends and refreshments. Children aged 0-4. Free entry and refreshments with option to make a donate.
URL:https://www.knowlewest.co.uk/whats-on/barneys-toddler-group/2026-06-01/
LOCATION:St Barnabus Church\, Daventry Road\, BS4 1DQ\, BS4 1DQ\, United Kingdom
ATTACH;FMTTYPE=image/png:https://www.knowlewest.co.uk/wp-content/uploads/2025/10/Toddler-Group-Banner-A4.png
END:VEVENT
BEGIN:VEVENT
DTSTART;TZID=UTC:20260602T093000
DTEND;TZID=UTC:20260602T110000
DTSTAMP:20260426T032647
CREATED:20240918T133935Z
LAST-MODIFIED:20240918T133935Z
UID:10007817-1780392600-1780398000@www.knowlewest.co.uk
SUMMARY:Oasis Community Hub Food Pantry
DESCRIPTION:Open to all the community serving you with affordable surplus fruit\, veg\, chilled\, frozen and store cupboard items weekly.\nWith the knowledge of our team\, we can also help you with meal ideas\, how to prepare and cook various foods and how to store. \nA yearly membership fee of £1 will occur upon joining aswell as a weekly fee of £4 for the food you take home. \nOur home is within the Oasis Community Hub at Oasis Connaught on Melvin Square. BS41NH
URL:https://www.knowlewest.co.uk/whats-on/oasis-community-hub-food-pantry/2026-06-02/
ATTACH;FMTTYPE=image/png:https://www.knowlewest.co.uk/wp-content/uploads/2024/09/Pantry.png
END:VEVENT
BEGIN:VEVENT
DTSTART;TZID=UTC:20260602T130000
DTEND;TZID=UTC:20260602T160000
DTSTAMP:20260426T032647
CREATED:20220317T144036Z
LAST-MODIFIED:20230109T113711Z
UID:10015493-1780405200-1780416000@www.knowlewest.co.uk
SUMMARY:Filwood Chase History Society
DESCRIPTION:Would you like to find out about local history? \nCome along and view our collection of scale models of local buildings (demolished or hidden from view!) old\, local maps and photographs of people and events in the area – past and present. \nWe also have history books\, finds from local digs with reports on where found eg Celtic/Roman/Medieval and locally collected fossils. \nCome and meet us and ask questions – as well as tell us of your local history news and memories. \nYou can find us at Filwood Library every Wednesday from 1-4pm. \nFor more information call 0117 908 0507 or email the Chair of Filwood Chase History Society\, Jim Smith\, at \nji*********@******co.uk \n 
URL:https://www.knowlewest.co.uk/whats-on/filwood-chase-history-society/2026-06-02/
END:VEVENT
BEGIN:VEVENT
DTSTART;TZID=UTC:20260602T133000
DTEND;TZID=UTC:20260602T153000
DTSTAMP:20260426T032647
CREATED:20260105T151614Z
LAST-MODIFIED:20260105T151614Z
UID:10015384-1780407000-1780414200@www.knowlewest.co.uk
SUMMARY:Circus Skills Classes
DESCRIPTION:Come and have fun learning some new skills\, get some gentle exercise and meet some new friends! Our top teachers from Circomedia will guide you through the world of juggling\, hula hooping\, diablo and more. Suitable for all abilities.
URL:https://www.knowlewest.co.uk/whats-on/circus-skills-classes/2026-06-02/
LOCATION:Knowle West Healthy Living Centre\, Downton Road\, Bristol\, BS4 1WH\, United Kingdom
CATEGORIES:Active,Adults,Day Time,Learning,Over 50s
ATTACH;FMTTYPE=image/png:https://www.knowlewest.co.uk/wp-content/uploads/2026/01/Circus-Skills-Jan-2026-flier.png
END:VEVENT
BEGIN:VEVENT
DTSTART;TZID=UTC:20260602T133000
DTEND;TZID=UTC:20260602T153000
DTSTAMP:20260426T032647
CREATED:20260415T143246Z
LAST-MODIFIED:20260415T143246Z
UID:10015749-1780407000-1780414200@www.knowlewest.co.uk
SUMMARY:Circus Skills Classes
DESCRIPTION:We have another 8 weeks of Circus Skills for over 50s starting on Tuesday 19th May! Come and join the fun! Learn a bit of juggling\, master spinning the diablo\, try out spinning plates and much more! Our expert teachers from Circomedia will guide you through each session and can tailor the activities to all abilities. First session is FREE for all new members.
URL:https://www.knowlewest.co.uk/whats-on/circus-skills-classes-2/2026-06-02/
LOCATION:Knowle West Healthy Living Centre\, Downton Road\, Bristol\, BS4 1WH\, United Kingdom
CATEGORIES:Active,Adults
ATTACH;FMTTYPE=image/png:https://www.knowlewest.co.uk/wp-content/uploads/2026/04/Circus-skills-May-2026-flier.png
END:VEVENT
BEGIN:VEVENT
DTSTART;TZID=UTC:20260603T100000
DTEND;TZID=UTC:20270113T120000
DTSTAMP:20260426T032647
CREATED:20220810T144257Z
LAST-MODIFIED:20251023T154136Z
UID:10014418-1780480800-1799841600@www.knowlewest.co.uk
SUMMARY:ESOL / English language for everyday course
DESCRIPTION:Free\, weekly course to help you practice your English skills in reading\, writing and speaking. Learn with other adults in a friendly group.\nContact Lucy Fieldhouse on (m) 07788 353 446
URL:https://www.knowlewest.co.uk/whats-on/esol-english-language-for-everyday-course/2026-06-03/
ATTACH;FMTTYPE=:
END:VEVENT
BEGIN:VEVENT
DTSTART;TZID=UTC:20260603T130000
DTEND;TZID=UTC:20300812T160000
DTSTAMP:20260426T032647
CREATED:20251015T220331Z
LAST-MODIFIED:20251015T220331Z
UID:10013915-1780491600-1912780800@www.knowlewest.co.uk
SUMMARY:Filwood Chase History Society
DESCRIPTION:We have rooms full of maps\,books\,models of Knowle West and Bristol buildings\,photos\,old Bristol Post newspapers\, and much much more.Only open Wed\, from 1 pm 4pm upper floor of Filwood Library.
URL:https://www.knowlewest.co.uk/whats-on/filwood-chase-history-society-2/2026-06-03/
LOCATION:Filwood Library\, Filwood Broadway\, Bristol
CATEGORIES:All Ages,Arts & Culture,Community,Education,Everyone is welcome,Free Activity
ATTACH;FMTTYPE=image/jpeg:https://www.knowlewest.co.uk/wp-content/uploads/2025/10/481776309_1167568398705501_5909634068162759101_n-scaled.jpg
END:VEVENT
BEGIN:VEVENT
DTSTART;TZID=UTC:20260603T133000
DTEND;TZID=UTC:20260603T153000
DTSTAMP:20260426T032647
CREATED:20241218T122103Z
LAST-MODIFIED:20241218T122103Z
UID:10009594-1780493400-1780500600@www.knowlewest.co.uk
SUMMARY:Changes Bristol Peer Support Groups for Mental Health & Well-being (Age 18+) Wednesdays 1.30pm - 3.30pm
DESCRIPTION:Space for connecting with other people in the community to receive support and share (if you want to) whatever is going on for you that is impacting on your mental health and well-being in an inclusive non-judgemental space.\nOur aim is to normalise conversations around mental health and try and reduce stigma.\nFree hot drinks and biscuits available and a warm welcome.\nNo referral\, or diagnosis of any mental health condition necessary\, just turn up and see what it is like to be part of our wonderfully supportive community.\n(Adults only – 18+)
URL:https://www.knowlewest.co.uk/whats-on/changes-bristol-peer-support-groups-for-mental-health-well-being-age-18-wednesdays-1-30pm-3-30pm/2026-06-03/
LOCATION:Redcatch Community Centre
ORGANIZER;CN="Changes Bristol":MAILTO:info@changesbristol.org.uk
END:VEVENT
BEGIN:VEVENT
DTSTART;TZID=Europe/London:20260604T190000
DTEND;TZID=Europe/London:20280604T200000
DTSTAMP:20260426T032647
CREATED:20240525T135704Z
LAST-MODIFIED:20251023T160439Z
UID:10014733-1780599600-1843761600@www.knowlewest.co.uk
SUMMARY:Knowle Boxing Club
DESCRIPTION:About this event: Knowle Boxing Club is for male and females\, adults and children from 9 years + \nWhen: Mondays 7pm – 8.30pm and Thursdays 7-8pm. \nWhere: Sports Hall\, Filwood Community Centre\, Barnstaple Road\, Knowle West\, Bristol\, BS4 1JP \nPrice: Ask for details \nMore information: Call: Bobby 0777 577 3686
URL:https://www.knowlewest.co.uk/whats-on/boxing-club-2/2026-06-04/
CATEGORIES:All Ages,Everyone is welcome,Wellbeing
ATTACH;FMTTYPE=:
END:VEVENT
BEGIN:VEVENT
DTSTART;TZID=UTC:20260606T000000
DTEND;TZID=UTC:20300819T235959
DTSTAMP:20260426T032647
CREATED:20251015T215645Z
LAST-MODIFIED:20251023T091543Z
UID:10010755-1780704000-1913414399@www.knowlewest.co.uk
SUMMARY:Redcatch Community Garden
DESCRIPTION:Selling a range of vegetables\, plants and eggs as well as compost cards\, and flowers. \nOpen Daily 9.30am – 4pm (Winter) or until 4:30pm (Summer) \nPlease check our socials for daily changes – https://www.facebook.com/redcatchcommunitygarden/ \nre*********************@*****ok.com \nBringing local people together to learn\, socialise\, share skills and support physical and mental health and wellbeing.Join us for. . .\n\n\n\n\nLocal\, delicious coffee from Extract Coffee Roasters\n\n\n​Sustainably sourced and homegrown produce\n\n\nPlant shop\n\n\nPop-up food events\n\n\nAll ages workshops\n\n\nVolunteering opportunities\n\n\nArt therapy and wellbeing sessions\n\n\nEvent space hire (weddings\, parties)\n\n\n\n\n  \n 
URL:https://www.knowlewest.co.uk/whats-on/redcatch-community-garden-2-2/2026-06-06/
CATEGORIES:Adults,Families
ATTACH;FMTTYPE=application/pdf:https://www.knowlewest.co.uk/wp-content/uploads/2020/10/rcg-1.pdf
END:VEVENT
BEGIN:VEVENT
DTSTART;TZID=UTC:20260606T093000
DTEND;TZID=UTC:20260606T163000
DTSTAMP:20260426T032647
CREATED:20260304T135355Z
LAST-MODIFIED:20260304T135355Z
UID:10015740-1780738200-1780763400@www.knowlewest.co.uk
SUMMARY:REMIX FITNESS FESTIVAL WITH MR MOTIVATOR
DESCRIPTION:GRAB YOUR LYCRA!\nRemix Fitness Festival is back at The Park Centre on Saturday 6th June – and yes\, Mr Motivator is coming to Bristol!\nJoin Revive Fitness’ powerhouse founders Amanda Pickstock\, Katy Harris and their team of fitness experts – for a full day of movement\, music and feel-good vibes. From Dance Party with Mr M to Zumba\, Clubbercise\, Rockbox\, Assassin\, Strut and many more – there’s something for every age and ability including chair-based sessions. Welcome to the most inclusive fitness festival in Bristol.\nOpen to all ages from 16 – 96!\n50% of tickets are already gone and they’re expecting a sell out.\n£45 full day | £40 early bird tickets before 31st March.\nLycra optional. Good vibes essential.\nSpread the word – Mr Motivator’s in town!\nBOOK NOW: Scan the QR code or go to website for more info: bit.ly/Remix2026
URL:https://www.knowlewest.co.uk/whats-on/remix-fitness-festival-with-mr-motivator/
LOCATION:The Park Centre\, Daventry Road\, Bristol\, BS4 1DQ\, United Kingdom
CATEGORIES:All Ages,Health,Over 50s,Over 55s,Wellbeing
ATTACH;FMTTYPE=image/png:https://www.knowlewest.co.uk/wp-content/uploads/2026/03/REMIX2026-MR-MOTIVATOR-POSTER.png
END:VEVENT
BEGIN:VEVENT
DTSTART;TZID=UTC:20260608T103000
DTEND;TZID=UTC:20260608T113000
DTSTAMP:20260426T032647
CREATED:20241113T141839Z
LAST-MODIFIED:20241113T141839Z
UID:10009069-1780914600-1780918200@www.knowlewest.co.uk
SUMMARY:Inns Court Walking group
DESCRIPTION:Mondays 10.30am.\nJoin us for a short walk\, 30-40 minutes\, around Inns Court followed by a cuppa.\nIdeal for those wanting to improve their mobility\, get a bit fitter or meet new people.\nWe meet by the playground on Inns Court Drive\, just come along\, we will be there rain or shine \nFor more details contact in**********************@***il.com
URL:https://www.knowlewest.co.uk/whats-on/inns-court-walking-group/2026-06-08/
LOCATION:Inns Court Community & Family Centre\, 1 Marshall Walk\, Bristol\, BS4 1TR\, United Kingdom
ATTACH;FMTTYPE=image/png:https://www.knowlewest.co.uk/wp-content/uploads/2024/11/Inns-Court-Walking-Group-1-1.png
ORGANIZER;CN="Inns Court Residents Group":MAILTO:innscourt.residentgroup@gmail.com
END:VEVENT
BEGIN:VEVENT
DTSTART;TZID=UTC:20260608T130000
DTEND;TZID=UTC:20260608T150000
DTSTAMP:20260426T032647
CREATED:20251007T145754Z
LAST-MODIFIED:20251007T145754Z
UID:10010275-1780923600-1780930800@www.knowlewest.co.uk
SUMMARY:Barney’s Toddler Group
DESCRIPTION:Toddler Group\nHuge variety of toys\, sensory play\, live toddler music session\, bubbles\, friends and refreshments. Children aged 0-4. Free entry and refreshments with option to make a donate.
URL:https://www.knowlewest.co.uk/whats-on/barneys-toddler-group/2026-06-08/
LOCATION:St Barnabus Church\, Daventry Road\, BS4 1DQ\, BS4 1DQ\, United Kingdom
ATTACH;FMTTYPE=image/png:https://www.knowlewest.co.uk/wp-content/uploads/2025/10/Toddler-Group-Banner-A4.png
END:VEVENT
BEGIN:VEVENT
DTSTART;TZID=UTC:20260609T093000
DTEND;TZID=UTC:20260609T110000
DTSTAMP:20260426T032647
CREATED:20240918T133935Z
LAST-MODIFIED:20240918T133935Z
UID:10007818-1780997400-1781002800@www.knowlewest.co.uk
SUMMARY:Oasis Community Hub Food Pantry
DESCRIPTION:Open to all the community serving you with affordable surplus fruit\, veg\, chilled\, frozen and store cupboard items weekly.\nWith the knowledge of our team\, we can also help you with meal ideas\, how to prepare and cook various foods and how to store. \nA yearly membership fee of £1 will occur upon joining aswell as a weekly fee of £4 for the food you take home. \nOur home is within the Oasis Community Hub at Oasis Connaught on Melvin Square. BS41NH
URL:https://www.knowlewest.co.uk/whats-on/oasis-community-hub-food-pantry/2026-06-09/
ATTACH;FMTTYPE=image/png:https://www.knowlewest.co.uk/wp-content/uploads/2024/09/Pantry.png
END:VEVENT
BEGIN:VEVENT
DTSTART;TZID=Europe/London:20260609T110000
DTEND;TZID=Europe/London:20260609T120000
DTSTAMP:20260426T032647
CREATED:20241106T112246Z
LAST-MODIFIED:20241106T112247Z
UID:10008923-1781002800-1781006400@www.knowlewest.co.uk
SUMMARY:Goldies Sing & Smile UK
DESCRIPTION:A good old singalong\, we are not a choir. £3 donation. 2nd Tuesday each month 11am-12pm with Emma Smallwood at Inns Court Community & Family Centre\, free parking available.  \nNeed help to get there\, call Sprint Community Transport 01179 048215. \nwww.golden-oldies.org.uk\, 01761 470 006 \nPatron: Sir Cliff Richard
URL:https://www.knowlewest.co.uk/whats-on/goldies-sing-smile-uk-2/2026-06-09/
CATEGORIES:All Ages,Everyone is welcome,Music,Wellbeing
ATTACH;FMTTYPE=image/jpeg:https://www.knowlewest.co.uk/wp-content/uploads/2023/08/Golden-Oldies.jpg
END:VEVENT
BEGIN:VEVENT
DTSTART;TZID=UTC:20260609T130000
DTEND;TZID=UTC:20260609T160000
DTSTAMP:20260426T032647
CREATED:20220317T144036Z
LAST-MODIFIED:20230109T113711Z
UID:10015494-1781010000-1781020800@www.knowlewest.co.uk
SUMMARY:Filwood Chase History Society
DESCRIPTION:Would you like to find out about local history? \nCome along and view our collection of scale models of local buildings (demolished or hidden from view!) old\, local maps and photographs of people and events in the area – past and present. \nWe also have history books\, finds from local digs with reports on where found eg Celtic/Roman/Medieval and locally collected fossils. \nCome and meet us and ask questions – as well as tell us of your local history news and memories. \nYou can find us at Filwood Library every Wednesday from 1-4pm. \nFor more information call 0117 908 0507 or email the Chair of Filwood Chase History Society\, Jim Smith\, at \nji*********@******co.uk \n 
URL:https://www.knowlewest.co.uk/whats-on/filwood-chase-history-society/2026-06-09/
END:VEVENT
BEGIN:VEVENT
DTSTART;TZID=UTC:20260609T133000
DTEND;TZID=UTC:20260609T153000
DTSTAMP:20260426T032647
CREATED:20260105T151614Z
LAST-MODIFIED:20260105T151614Z
UID:10015385-1781011800-1781019000@www.knowlewest.co.uk
SUMMARY:Circus Skills Classes
DESCRIPTION:Come and have fun learning some new skills\, get some gentle exercise and meet some new friends! Our top teachers from Circomedia will guide you through the world of juggling\, hula hooping\, diablo and more. Suitable for all abilities.
URL:https://www.knowlewest.co.uk/whats-on/circus-skills-classes/2026-06-09/
LOCATION:Knowle West Healthy Living Centre\, Downton Road\, Bristol\, BS4 1WH\, United Kingdom
CATEGORIES:Active,Adults,Day Time,Learning,Over 50s
ATTACH;FMTTYPE=image/png:https://www.knowlewest.co.uk/wp-content/uploads/2026/01/Circus-Skills-Jan-2026-flier.png
END:VEVENT
BEGIN:VEVENT
DTSTART;TZID=UTC:20260609T133000
DTEND;TZID=UTC:20260609T153000
DTSTAMP:20260426T032647
CREATED:20260415T143246Z
LAST-MODIFIED:20260415T143246Z
UID:10015750-1781011800-1781019000@www.knowlewest.co.uk
SUMMARY:Circus Skills Classes
DESCRIPTION:We have another 8 weeks of Circus Skills for over 50s starting on Tuesday 19th May! Come and join the fun! Learn a bit of juggling\, master spinning the diablo\, try out spinning plates and much more! Our expert teachers from Circomedia will guide you through each session and can tailor the activities to all abilities. First session is FREE for all new members.
URL:https://www.knowlewest.co.uk/whats-on/circus-skills-classes-2/2026-06-09/
LOCATION:Knowle West Healthy Living Centre\, Downton Road\, Bristol\, BS4 1WH\, United Kingdom
CATEGORIES:Active,Adults
ATTACH;FMTTYPE=image/png:https://www.knowlewest.co.uk/wp-content/uploads/2026/04/Circus-skills-May-2026-flier.png
END:VEVENT
BEGIN:VEVENT
DTSTART;TZID=UTC:20260610T100000
DTEND;TZID=UTC:20270120T120000
DTSTAMP:20260426T032647
CREATED:20220810T144257Z
LAST-MODIFIED:20251023T154136Z
UID:10014419-1781085600-1800446400@www.knowlewest.co.uk
SUMMARY:ESOL / English language for everyday course
DESCRIPTION:Free\, weekly course to help you practice your English skills in reading\, writing and speaking. Learn with other adults in a friendly group.\nContact Lucy Fieldhouse on (m) 07788 353 446
URL:https://www.knowlewest.co.uk/whats-on/esol-english-language-for-everyday-course/2026-06-10/
ATTACH;FMTTYPE=:
END:VEVENT
BEGIN:VEVENT
DTSTART;TZID=UTC:20260610T130000
DTEND;TZID=UTC:20300819T160000
DTSTAMP:20260426T032647
CREATED:20251015T220331Z
LAST-MODIFIED:20251015T220331Z
UID:10013916-1781096400-1913385600@www.knowlewest.co.uk
SUMMARY:Filwood Chase History Society
DESCRIPTION:We have rooms full of maps\,books\,models of Knowle West and Bristol buildings\,photos\,old Bristol Post newspapers\, and much much more.Only open Wed\, from 1 pm 4pm upper floor of Filwood Library.
URL:https://www.knowlewest.co.uk/whats-on/filwood-chase-history-society-2/2026-06-10/
LOCATION:Filwood Library\, Filwood Broadway\, Bristol
CATEGORIES:All Ages,Arts & Culture,Community,Education,Everyone is welcome,Free Activity
ATTACH;FMTTYPE=image/jpeg:https://www.knowlewest.co.uk/wp-content/uploads/2025/10/481776309_1167568398705501_5909634068162759101_n-scaled.jpg
END:VEVENT
BEGIN:VEVENT
DTSTART;TZID=UTC:20260610T133000
DTEND;TZID=UTC:20260610T153000
DTSTAMP:20260426T032647
CREATED:20241218T122103Z
LAST-MODIFIED:20241218T122103Z
UID:10009595-1781098200-1781105400@www.knowlewest.co.uk
SUMMARY:Changes Bristol Peer Support Groups for Mental Health & Well-being (Age 18+) Wednesdays 1.30pm - 3.30pm
DESCRIPTION:Space for connecting with other people in the community to receive support and share (if you want to) whatever is going on for you that is impacting on your mental health and well-being in an inclusive non-judgemental space.\nOur aim is to normalise conversations around mental health and try and reduce stigma.\nFree hot drinks and biscuits available and a warm welcome.\nNo referral\, or diagnosis of any mental health condition necessary\, just turn up and see what it is like to be part of our wonderfully supportive community.\n(Adults only – 18+)
URL:https://www.knowlewest.co.uk/whats-on/changes-bristol-peer-support-groups-for-mental-health-well-being-age-18-wednesdays-1-30pm-3-30pm/2026-06-10/
LOCATION:Redcatch Community Centre
ORGANIZER;CN="Changes Bristol":MAILTO:info@changesbristol.org.uk
END:VEVENT
BEGIN:VEVENT
DTSTART;TZID=Europe/London:20260611T190000
DTEND;TZID=Europe/London:20280611T200000
DTSTAMP:20260426T032647
CREATED:20240525T135704Z
LAST-MODIFIED:20251023T160439Z
UID:10014734-1781204400-1844366400@www.knowlewest.co.uk
SUMMARY:Knowle Boxing Club
DESCRIPTION:About this event: Knowle Boxing Club is for male and females\, adults and children from 9 years + \nWhen: Mondays 7pm – 8.30pm and Thursdays 7-8pm. \nWhere: Sports Hall\, Filwood Community Centre\, Barnstaple Road\, Knowle West\, Bristol\, BS4 1JP \nPrice: Ask for details \nMore information: Call: Bobby 0777 577 3686
URL:https://www.knowlewest.co.uk/whats-on/boxing-club-2/2026-06-11/
CATEGORIES:All Ages,Everyone is welcome,Wellbeing
ATTACH;FMTTYPE=:
END:VEVENT
END:VCALENDAR