BEGIN:VCALENDAR
VERSION:2.0
PRODID:-//Knowle West Community - ECPv6.15.17//NONSGML v1.0//EN
CALSCALE:GREGORIAN
METHOD:PUBLISH
X-ORIGINAL-URL:https://www.knowlewest.co.uk
X-WR-CALDESC:Events for Knowle West Community
REFRESH-INTERVAL;VALUE=DURATION:PT1H
X-Robots-Tag:noindex
X-PUBLISHED-TTL:PT1H
BEGIN:VTIMEZONE
TZID:Europe/London
BEGIN:DAYLIGHT
TZOFFSETFROM:+0000
TZOFFSETTO:+0100
TZNAME:BST
DTSTART:20250330T010000
END:DAYLIGHT
BEGIN:STANDARD
TZOFFSETFROM:+0100
TZOFFSETTO:+0000
TZNAME:GMT
DTSTART:20251026T010000
END:STANDARD
BEGIN:DAYLIGHT
TZOFFSETFROM:+0000
TZOFFSETTO:+0100
TZNAME:BST
DTSTART:20260329T010000
END:DAYLIGHT
BEGIN:STANDARD
TZOFFSETFROM:+0100
TZOFFSETTO:+0000
TZNAME:GMT
DTSTART:20261025T010000
END:STANDARD
BEGIN:DAYLIGHT
TZOFFSETFROM:+0000
TZOFFSETTO:+0100
TZNAME:BST
DTSTART:20270328T010000
END:DAYLIGHT
BEGIN:STANDARD
TZOFFSETFROM:+0100
TZOFFSETTO:+0000
TZNAME:GMT
DTSTART:20271031T010000
END:STANDARD
BEGIN:DAYLIGHT
TZOFFSETFROM:+0000
TZOFFSETTO:+0100
TZNAME:BST
DTSTART:20280326T010000
END:DAYLIGHT
BEGIN:STANDARD
TZOFFSETFROM:+0100
TZOFFSETTO:+0000
TZNAME:GMT
DTSTART:20281029T010000
END:STANDARD
BEGIN:DAYLIGHT
TZOFFSETFROM:+0000
TZOFFSETTO:+0100
TZNAME:BST
DTSTART:20290325T010000
END:DAYLIGHT
BEGIN:STANDARD
TZOFFSETFROM:+0100
TZOFFSETTO:+0000
TZNAME:GMT
DTSTART:20291028T010000
END:STANDARD
END:VTIMEZONE
BEGIN:VTIMEZONE
TZID:UTC
BEGIN:STANDARD
TZOFFSETFROM:+0000
TZOFFSETTO:+0000
TZNAME:UTC
DTSTART:20250101T000000
END:STANDARD
END:VTIMEZONE
BEGIN:VEVENT
DTSTART;TZID=Europe/London:20260312T190000
DTEND;TZID=Europe/London:20280312T200000
DTSTAMP:20260425T193448
CREATED:20240525T135704Z
LAST-MODIFIED:20251023T160439Z
UID:10014721-1773342000-1836504000@www.knowlewest.co.uk
SUMMARY:Knowle Boxing Club
DESCRIPTION:About this event: Knowle Boxing Club is for male and females\, adults and children from 9 years + \nWhen: Mondays 7pm – 8.30pm and Thursdays 7-8pm. \nWhere: Sports Hall\, Filwood Community Centre\, Barnstaple Road\, Knowle West\, Bristol\, BS4 1JP \nPrice: Ask for details \nMore information: Call: Bobby 0777 577 3686
URL:https://www.knowlewest.co.uk/whats-on/boxing-club-2/2026-03-12/
CATEGORIES:All Ages,Everyone is welcome,Wellbeing
ATTACH;FMTTYPE=:
END:VEVENT
BEGIN:VEVENT
DTSTART;TZID=UTC:20260314T000000
DTEND;TZID=UTC:20300527T235959
DTSTAMP:20260425T193448
CREATED:20251015T215645Z
LAST-MODIFIED:20251023T091543Z
UID:10010671-1773446400-1906156799@www.knowlewest.co.uk
SUMMARY:Redcatch Community Garden
DESCRIPTION:Selling a range of vegetables\, plants and eggs as well as compost cards\, and flowers. \nOpen Daily 9.30am – 4pm (Winter) or until 4:30pm (Summer) \nPlease check our socials for daily changes – https://www.facebook.com/redcatchcommunitygarden/ \nre*********************@*****ok.com \nBringing local people together to learn\, socialise\, share skills and support physical and mental health and wellbeing.Join us for. . .\n\n\n\n\nLocal\, delicious coffee from Extract Coffee Roasters\n\n\n​Sustainably sourced and homegrown produce\n\n\nPlant shop\n\n\nPop-up food events\n\n\nAll ages workshops\n\n\nVolunteering opportunities\n\n\nArt therapy and wellbeing sessions\n\n\nEvent space hire (weddings\, parties)\n\n\n\n\n  \n 
URL:https://www.knowlewest.co.uk/whats-on/redcatch-community-garden-2-2/2026-03-14/
CATEGORIES:Adults,Families
ATTACH;FMTTYPE=application/pdf:https://www.knowlewest.co.uk/wp-content/uploads/2020/10/rcg-1.pdf
END:VEVENT
BEGIN:VEVENT
DTSTART;TZID=UTC:20260318T100000
DTEND;TZID=UTC:20261028T120000
DTSTAMP:20260425T193448
CREATED:20220810T144257Z
LAST-MODIFIED:20251023T154136Z
UID:10014407-1773828000-1793188800@www.knowlewest.co.uk
SUMMARY:ESOL / English language for everyday course
DESCRIPTION:Free\, weekly course to help you practice your English skills in reading\, writing and speaking. Learn with other adults in a friendly group.\nContact Lucy Fieldhouse on (m) 07788 353 446
URL:https://www.knowlewest.co.uk/whats-on/esol-english-language-for-everyday-course/2026-03-18/
ATTACH;FMTTYPE=:
END:VEVENT
BEGIN:VEVENT
DTSTART;TZID=UTC:20260318T130000
DTEND;TZID=UTC:20300527T160000
DTSTAMP:20260425T193448
CREATED:20251015T220331Z
LAST-MODIFIED:20251015T220331Z
UID:10013904-1773838800-1906128000@www.knowlewest.co.uk
SUMMARY:Filwood Chase History Society
DESCRIPTION:We have rooms full of maps\,books\,models of Knowle West and Bristol buildings\,photos\,old Bristol Post newspapers\, and much much more.Only open Wed\, from 1 pm 4pm upper floor of Filwood Library.
URL:https://www.knowlewest.co.uk/whats-on/filwood-chase-history-society-2/2026-03-18/
LOCATION:Filwood Library\, Filwood Broadway\, Bristol
CATEGORIES:All Ages,Arts & Culture,Community,Education,Everyone is welcome,Free Activity
ATTACH;FMTTYPE=image/jpeg:https://www.knowlewest.co.uk/wp-content/uploads/2025/10/481776309_1167568398705501_5909634068162759101_n-scaled.jpg
END:VEVENT
BEGIN:VEVENT
DTSTART;TZID=Europe/London:20260319T190000
DTEND;TZID=Europe/London:20280319T200000
DTSTAMP:20260425T193449
CREATED:20240525T135704Z
LAST-MODIFIED:20251023T160439Z
UID:10014722-1773946800-1837108800@www.knowlewest.co.uk
SUMMARY:Knowle Boxing Club
DESCRIPTION:About this event: Knowle Boxing Club is for male and females\, adults and children from 9 years + \nWhen: Mondays 7pm – 8.30pm and Thursdays 7-8pm. \nWhere: Sports Hall\, Filwood Community Centre\, Barnstaple Road\, Knowle West\, Bristol\, BS4 1JP \nPrice: Ask for details \nMore information: Call: Bobby 0777 577 3686
URL:https://www.knowlewest.co.uk/whats-on/boxing-club-2/2026-03-19/
CATEGORIES:All Ages,Everyone is welcome,Wellbeing
ATTACH;FMTTYPE=:
END:VEVENT
BEGIN:VEVENT
DTSTART;TZID=UTC:20260321T000000
DTEND;TZID=UTC:20300603T235959
DTSTAMP:20260425T193449
CREATED:20251015T215645Z
LAST-MODIFIED:20251023T091543Z
UID:10010678-1774051200-1906761599@www.knowlewest.co.uk
SUMMARY:Redcatch Community Garden
DESCRIPTION:Selling a range of vegetables\, plants and eggs as well as compost cards\, and flowers. \nOpen Daily 9.30am – 4pm (Winter) or until 4:30pm (Summer) \nPlease check our socials for daily changes – https://www.facebook.com/redcatchcommunitygarden/ \nre*********************@*****ok.com \nBringing local people together to learn\, socialise\, share skills and support physical and mental health and wellbeing.Join us for. . .\n\n\n\n\nLocal\, delicious coffee from Extract Coffee Roasters\n\n\n​Sustainably sourced and homegrown produce\n\n\nPlant shop\n\n\nPop-up food events\n\n\nAll ages workshops\n\n\nVolunteering opportunities\n\n\nArt therapy and wellbeing sessions\n\n\nEvent space hire (weddings\, parties)\n\n\n\n\n  \n 
URL:https://www.knowlewest.co.uk/whats-on/redcatch-community-garden-2-2/2026-03-21/
CATEGORIES:Adults,Families
ATTACH;FMTTYPE=application/pdf:https://www.knowlewest.co.uk/wp-content/uploads/2020/10/rcg-1.pdf
END:VEVENT
BEGIN:VEVENT
DTSTART;TZID=UTC:20260325T100000
DTEND;TZID=UTC:20261104T120000
DTSTAMP:20260425T193449
CREATED:20220810T144257Z
LAST-MODIFIED:20251023T154136Z
UID:10014408-1774432800-1793793600@www.knowlewest.co.uk
SUMMARY:ESOL / English language for everyday course
DESCRIPTION:Free\, weekly course to help you practice your English skills in reading\, writing and speaking. Learn with other adults in a friendly group.\nContact Lucy Fieldhouse on (m) 07788 353 446
URL:https://www.knowlewest.co.uk/whats-on/esol-english-language-for-everyday-course/2026-03-25/
ATTACH;FMTTYPE=:
END:VEVENT
BEGIN:VEVENT
DTSTART;TZID=UTC:20260325T130000
DTEND;TZID=UTC:20300603T160000
DTSTAMP:20260425T193449
CREATED:20251015T220331Z
LAST-MODIFIED:20251015T220331Z
UID:10013905-1774443600-1906732800@www.knowlewest.co.uk
SUMMARY:Filwood Chase History Society
DESCRIPTION:We have rooms full of maps\,books\,models of Knowle West and Bristol buildings\,photos\,old Bristol Post newspapers\, and much much more.Only open Wed\, from 1 pm 4pm upper floor of Filwood Library.
URL:https://www.knowlewest.co.uk/whats-on/filwood-chase-history-society-2/2026-03-25/
LOCATION:Filwood Library\, Filwood Broadway\, Bristol
CATEGORIES:All Ages,Arts & Culture,Community,Education,Everyone is welcome,Free Activity
ATTACH;FMTTYPE=image/jpeg:https://www.knowlewest.co.uk/wp-content/uploads/2025/10/481776309_1167568398705501_5909634068162759101_n-scaled.jpg
END:VEVENT
BEGIN:VEVENT
DTSTART;TZID=Europe/London:20260326T190000
DTEND;TZID=Europe/London:20280326T200000
DTSTAMP:20260425T193449
CREATED:20240525T135704Z
LAST-MODIFIED:20251023T160439Z
UID:10014723-1774551600-1837713600@www.knowlewest.co.uk
SUMMARY:Knowle Boxing Club
DESCRIPTION:About this event: Knowle Boxing Club is for male and females\, adults and children from 9 years + \nWhen: Mondays 7pm – 8.30pm and Thursdays 7-8pm. \nWhere: Sports Hall\, Filwood Community Centre\, Barnstaple Road\, Knowle West\, Bristol\, BS4 1JP \nPrice: Ask for details \nMore information: Call: Bobby 0777 577 3686
URL:https://www.knowlewest.co.uk/whats-on/boxing-club-2/2026-03-26/
CATEGORIES:All Ages,Everyone is welcome,Wellbeing
ATTACH;FMTTYPE=:
END:VEVENT
BEGIN:VEVENT
DTSTART;TZID=UTC:20260328T000000
DTEND;TZID=UTC:20300610T235959
DTSTAMP:20260425T193449
CREATED:20251015T215645Z
LAST-MODIFIED:20251023T091543Z
UID:10010685-1774656000-1907366399@www.knowlewest.co.uk
SUMMARY:Redcatch Community Garden
DESCRIPTION:Selling a range of vegetables\, plants and eggs as well as compost cards\, and flowers. \nOpen Daily 9.30am – 4pm (Winter) or until 4:30pm (Summer) \nPlease check our socials for daily changes – https://www.facebook.com/redcatchcommunitygarden/ \nre*********************@*****ok.com \nBringing local people together to learn\, socialise\, share skills and support physical and mental health and wellbeing.Join us for. . .\n\n\n\n\nLocal\, delicious coffee from Extract Coffee Roasters\n\n\n​Sustainably sourced and homegrown produce\n\n\nPlant shop\n\n\nPop-up food events\n\n\nAll ages workshops\n\n\nVolunteering opportunities\n\n\nArt therapy and wellbeing sessions\n\n\nEvent space hire (weddings\, parties)\n\n\n\n\n  \n 
URL:https://www.knowlewest.co.uk/whats-on/redcatch-community-garden-2-2/2026-03-28/
CATEGORIES:Adults,Families
ATTACH;FMTTYPE=application/pdf:https://www.knowlewest.co.uk/wp-content/uploads/2020/10/rcg-1.pdf
END:VEVENT
BEGIN:VEVENT
DTSTART;TZID=UTC:20260401T100000
DTEND;TZID=UTC:20261111T120000
DTSTAMP:20260425T193449
CREATED:20220810T144257Z
LAST-MODIFIED:20251023T154136Z
UID:10014409-1775037600-1794398400@www.knowlewest.co.uk
SUMMARY:ESOL / English language for everyday course
DESCRIPTION:Free\, weekly course to help you practice your English skills in reading\, writing and speaking. Learn with other adults in a friendly group.\nContact Lucy Fieldhouse on (m) 07788 353 446
URL:https://www.knowlewest.co.uk/whats-on/esol-english-language-for-everyday-course/2026-04-01/
ATTACH;FMTTYPE=:
END:VEVENT
BEGIN:VEVENT
DTSTART;TZID=UTC:20260401T130000
DTEND;TZID=UTC:20300610T160000
DTSTAMP:20260425T193449
CREATED:20251015T220331Z
LAST-MODIFIED:20251015T220331Z
UID:10013906-1775048400-1907337600@www.knowlewest.co.uk
SUMMARY:Filwood Chase History Society
DESCRIPTION:We have rooms full of maps\,books\,models of Knowle West and Bristol buildings\,photos\,old Bristol Post newspapers\, and much much more.Only open Wed\, from 1 pm 4pm upper floor of Filwood Library.
URL:https://www.knowlewest.co.uk/whats-on/filwood-chase-history-society-2/2026-04-01/
LOCATION:Filwood Library\, Filwood Broadway\, Bristol
CATEGORIES:All Ages,Arts & Culture,Community,Education,Everyone is welcome,Free Activity
ATTACH;FMTTYPE=image/jpeg:https://www.knowlewest.co.uk/wp-content/uploads/2025/10/481776309_1167568398705501_5909634068162759101_n-scaled.jpg
END:VEVENT
BEGIN:VEVENT
DTSTART;TZID=Europe/London:20260402T190000
DTEND;TZID=Europe/London:20280402T200000
DTSTAMP:20260425T193449
CREATED:20240525T135704Z
LAST-MODIFIED:20251023T160439Z
UID:10014724-1775156400-1838318400@www.knowlewest.co.uk
SUMMARY:Knowle Boxing Club
DESCRIPTION:About this event: Knowle Boxing Club is for male and females\, adults and children from 9 years + \nWhen: Mondays 7pm – 8.30pm and Thursdays 7-8pm. \nWhere: Sports Hall\, Filwood Community Centre\, Barnstaple Road\, Knowle West\, Bristol\, BS4 1JP \nPrice: Ask for details \nMore information: Call: Bobby 0777 577 3686
URL:https://www.knowlewest.co.uk/whats-on/boxing-club-2/2026-04-02/
CATEGORIES:All Ages,Everyone is welcome,Wellbeing
ATTACH;FMTTYPE=:
END:VEVENT
BEGIN:VEVENT
DTSTART;TZID=UTC:20260404T000000
DTEND;TZID=UTC:20300617T235959
DTSTAMP:20260425T193449
CREATED:20251015T215645Z
LAST-MODIFIED:20251023T091543Z
UID:10010692-1775260800-1907971199@www.knowlewest.co.uk
SUMMARY:Redcatch Community Garden
DESCRIPTION:Selling a range of vegetables\, plants and eggs as well as compost cards\, and flowers. \nOpen Daily 9.30am – 4pm (Winter) or until 4:30pm (Summer) \nPlease check our socials for daily changes – https://www.facebook.com/redcatchcommunitygarden/ \nre*********************@*****ok.com \nBringing local people together to learn\, socialise\, share skills and support physical and mental health and wellbeing.Join us for. . .\n\n\n\n\nLocal\, delicious coffee from Extract Coffee Roasters\n\n\n​Sustainably sourced and homegrown produce\n\n\nPlant shop\n\n\nPop-up food events\n\n\nAll ages workshops\n\n\nVolunteering opportunities\n\n\nArt therapy and wellbeing sessions\n\n\nEvent space hire (weddings\, parties)\n\n\n\n\n  \n 
URL:https://www.knowlewest.co.uk/whats-on/redcatch-community-garden-2-2/2026-04-04/
CATEGORIES:Adults,Families
ATTACH;FMTTYPE=application/pdf:https://www.knowlewest.co.uk/wp-content/uploads/2020/10/rcg-1.pdf
END:VEVENT
BEGIN:VEVENT
DTSTART;TZID=UTC:20260408T100000
DTEND;TZID=UTC:20261118T120000
DTSTAMP:20260425T193449
CREATED:20220810T144257Z
LAST-MODIFIED:20251023T154136Z
UID:10014410-1775642400-1795003200@www.knowlewest.co.uk
SUMMARY:ESOL / English language for everyday course
DESCRIPTION:Free\, weekly course to help you practice your English skills in reading\, writing and speaking. Learn with other adults in a friendly group.\nContact Lucy Fieldhouse on (m) 07788 353 446
URL:https://www.knowlewest.co.uk/whats-on/esol-english-language-for-everyday-course/2026-04-08/
ATTACH;FMTTYPE=:
END:VEVENT
BEGIN:VEVENT
DTSTART;TZID=UTC:20260408T130000
DTEND;TZID=UTC:20300617T160000
DTSTAMP:20260425T193449
CREATED:20251015T220331Z
LAST-MODIFIED:20251015T220331Z
UID:10013907-1775653200-1907942400@www.knowlewest.co.uk
SUMMARY:Filwood Chase History Society
DESCRIPTION:We have rooms full of maps\,books\,models of Knowle West and Bristol buildings\,photos\,old Bristol Post newspapers\, and much much more.Only open Wed\, from 1 pm 4pm upper floor of Filwood Library.
URL:https://www.knowlewest.co.uk/whats-on/filwood-chase-history-society-2/2026-04-08/
LOCATION:Filwood Library\, Filwood Broadway\, Bristol
CATEGORIES:All Ages,Arts & Culture,Community,Education,Everyone is welcome,Free Activity
ATTACH;FMTTYPE=image/jpeg:https://www.knowlewest.co.uk/wp-content/uploads/2025/10/481776309_1167568398705501_5909634068162759101_n-scaled.jpg
END:VEVENT
BEGIN:VEVENT
DTSTART;TZID=Europe/London:20260409T190000
DTEND;TZID=Europe/London:20280409T200000
DTSTAMP:20260425T193449
CREATED:20240525T135704Z
LAST-MODIFIED:20251023T160439Z
UID:10014725-1775761200-1838923200@www.knowlewest.co.uk
SUMMARY:Knowle Boxing Club
DESCRIPTION:About this event: Knowle Boxing Club is for male and females\, adults and children from 9 years + \nWhen: Mondays 7pm – 8.30pm and Thursdays 7-8pm. \nWhere: Sports Hall\, Filwood Community Centre\, Barnstaple Road\, Knowle West\, Bristol\, BS4 1JP \nPrice: Ask for details \nMore information: Call: Bobby 0777 577 3686
URL:https://www.knowlewest.co.uk/whats-on/boxing-club-2/2026-04-09/
CATEGORIES:All Ages,Everyone is welcome,Wellbeing
ATTACH;FMTTYPE=:
END:VEVENT
BEGIN:VEVENT
DTSTART;TZID=UTC:20260411T000000
DTEND;TZID=UTC:20300624T235959
DTSTAMP:20260425T193449
CREATED:20251015T215645Z
LAST-MODIFIED:20251023T091543Z
UID:10010699-1775865600-1908575999@www.knowlewest.co.uk
SUMMARY:Redcatch Community Garden
DESCRIPTION:Selling a range of vegetables\, plants and eggs as well as compost cards\, and flowers. \nOpen Daily 9.30am – 4pm (Winter) or until 4:30pm (Summer) \nPlease check our socials for daily changes – https://www.facebook.com/redcatchcommunitygarden/ \nre*********************@*****ok.com \nBringing local people together to learn\, socialise\, share skills and support physical and mental health and wellbeing.Join us for. . .\n\n\n\n\nLocal\, delicious coffee from Extract Coffee Roasters\n\n\n​Sustainably sourced and homegrown produce\n\n\nPlant shop\n\n\nPop-up food events\n\n\nAll ages workshops\n\n\nVolunteering opportunities\n\n\nArt therapy and wellbeing sessions\n\n\nEvent space hire (weddings\, parties)\n\n\n\n\n  \n 
URL:https://www.knowlewest.co.uk/whats-on/redcatch-community-garden-2-2/2026-04-11/
CATEGORIES:Adults,Families
ATTACH;FMTTYPE=application/pdf:https://www.knowlewest.co.uk/wp-content/uploads/2020/10/rcg-1.pdf
END:VEVENT
BEGIN:VEVENT
DTSTART;TZID=UTC:20260415T100000
DTEND;TZID=UTC:20261125T120000
DTSTAMP:20260425T193449
CREATED:20220810T144257Z
LAST-MODIFIED:20251023T154136Z
UID:10014411-1776247200-1795608000@www.knowlewest.co.uk
SUMMARY:ESOL / English language for everyday course
DESCRIPTION:Free\, weekly course to help you practice your English skills in reading\, writing and speaking. Learn with other adults in a friendly group.\nContact Lucy Fieldhouse on (m) 07788 353 446
URL:https://www.knowlewest.co.uk/whats-on/esol-english-language-for-everyday-course/2026-04-15/
ATTACH;FMTTYPE=:
END:VEVENT
BEGIN:VEVENT
DTSTART;TZID=UTC:20260415T130000
DTEND;TZID=UTC:20300624T160000
DTSTAMP:20260425T193449
CREATED:20251015T220331Z
LAST-MODIFIED:20251015T220331Z
UID:10013908-1776258000-1908547200@www.knowlewest.co.uk
SUMMARY:Filwood Chase History Society
DESCRIPTION:We have rooms full of maps\,books\,models of Knowle West and Bristol buildings\,photos\,old Bristol Post newspapers\, and much much more.Only open Wed\, from 1 pm 4pm upper floor of Filwood Library.
URL:https://www.knowlewest.co.uk/whats-on/filwood-chase-history-society-2/2026-04-15/
LOCATION:Filwood Library\, Filwood Broadway\, Bristol
CATEGORIES:All Ages,Arts & Culture,Community,Education,Everyone is welcome,Free Activity
ATTACH;FMTTYPE=image/jpeg:https://www.knowlewest.co.uk/wp-content/uploads/2025/10/481776309_1167568398705501_5909634068162759101_n-scaled.jpg
END:VEVENT
BEGIN:VEVENT
DTSTART;TZID=Europe/London:20260416T190000
DTEND;TZID=Europe/London:20280416T200000
DTSTAMP:20260425T193449
CREATED:20240525T135704Z
LAST-MODIFIED:20251023T160439Z
UID:10014726-1776366000-1839528000@www.knowlewest.co.uk
SUMMARY:Knowle Boxing Club
DESCRIPTION:About this event: Knowle Boxing Club is for male and females\, adults and children from 9 years + \nWhen: Mondays 7pm – 8.30pm and Thursdays 7-8pm. \nWhere: Sports Hall\, Filwood Community Centre\, Barnstaple Road\, Knowle West\, Bristol\, BS4 1JP \nPrice: Ask for details \nMore information: Call: Bobby 0777 577 3686
URL:https://www.knowlewest.co.uk/whats-on/boxing-club-2/2026-04-16/
CATEGORIES:All Ages,Everyone is welcome,Wellbeing
ATTACH;FMTTYPE=:
END:VEVENT
BEGIN:VEVENT
DTSTART;TZID=UTC:20260418T000000
DTEND;TZID=UTC:20300701T235959
DTSTAMP:20260425T193449
CREATED:20251015T215645Z
LAST-MODIFIED:20251023T091543Z
UID:10010706-1776470400-1909180799@www.knowlewest.co.uk
SUMMARY:Redcatch Community Garden
DESCRIPTION:Selling a range of vegetables\, plants and eggs as well as compost cards\, and flowers. \nOpen Daily 9.30am – 4pm (Winter) or until 4:30pm (Summer) \nPlease check our socials for daily changes – https://www.facebook.com/redcatchcommunitygarden/ \nre*********************@*****ok.com \nBringing local people together to learn\, socialise\, share skills and support physical and mental health and wellbeing.Join us for. . .\n\n\n\n\nLocal\, delicious coffee from Extract Coffee Roasters\n\n\n​Sustainably sourced and homegrown produce\n\n\nPlant shop\n\n\nPop-up food events\n\n\nAll ages workshops\n\n\nVolunteering opportunities\n\n\nArt therapy and wellbeing sessions\n\n\nEvent space hire (weddings\, parties)\n\n\n\n\n  \n 
URL:https://www.knowlewest.co.uk/whats-on/redcatch-community-garden-2-2/2026-04-18/
CATEGORIES:Adults,Families
ATTACH;FMTTYPE=application/pdf:https://www.knowlewest.co.uk/wp-content/uploads/2020/10/rcg-1.pdf
END:VEVENT
BEGIN:VEVENT
DTSTART;TZID=UTC:20260422T100000
DTEND;TZID=UTC:20261202T120000
DTSTAMP:20260425T193449
CREATED:20220810T144257Z
LAST-MODIFIED:20251023T154136Z
UID:10014412-1776852000-1796212800@www.knowlewest.co.uk
SUMMARY:ESOL / English language for everyday course
DESCRIPTION:Free\, weekly course to help you practice your English skills in reading\, writing and speaking. Learn with other adults in a friendly group.\nContact Lucy Fieldhouse on (m) 07788 353 446
URL:https://www.knowlewest.co.uk/whats-on/esol-english-language-for-everyday-course/2026-04-22/
ATTACH;FMTTYPE=:
END:VEVENT
BEGIN:VEVENT
DTSTART;TZID=UTC:20260422T130000
DTEND;TZID=UTC:20300701T160000
DTSTAMP:20260425T193449
CREATED:20251015T220331Z
LAST-MODIFIED:20251015T220331Z
UID:10013909-1776862800-1909152000@www.knowlewest.co.uk
SUMMARY:Filwood Chase History Society
DESCRIPTION:We have rooms full of maps\,books\,models of Knowle West and Bristol buildings\,photos\,old Bristol Post newspapers\, and much much more.Only open Wed\, from 1 pm 4pm upper floor of Filwood Library.
URL:https://www.knowlewest.co.uk/whats-on/filwood-chase-history-society-2/2026-04-22/
LOCATION:Filwood Library\, Filwood Broadway\, Bristol
CATEGORIES:All Ages,Arts & Culture,Community,Education,Everyone is welcome,Free Activity
ATTACH;FMTTYPE=image/jpeg:https://www.knowlewest.co.uk/wp-content/uploads/2025/10/481776309_1167568398705501_5909634068162759101_n-scaled.jpg
END:VEVENT
BEGIN:VEVENT
DTSTART;TZID=Europe/London:20260423T190000
DTEND;TZID=Europe/London:20280423T200000
DTSTAMP:20260425T193449
CREATED:20240525T135704Z
LAST-MODIFIED:20251023T160439Z
UID:10014727-1776970800-1840132800@www.knowlewest.co.uk
SUMMARY:Knowle Boxing Club
DESCRIPTION:About this event: Knowle Boxing Club is for male and females\, adults and children from 9 years + \nWhen: Mondays 7pm – 8.30pm and Thursdays 7-8pm. \nWhere: Sports Hall\, Filwood Community Centre\, Barnstaple Road\, Knowle West\, Bristol\, BS4 1JP \nPrice: Ask for details \nMore information: Call: Bobby 0777 577 3686
URL:https://www.knowlewest.co.uk/whats-on/boxing-club-2/2026-04-23/
CATEGORIES:All Ages,Everyone is welcome,Wellbeing
ATTACH;FMTTYPE=:
END:VEVENT
BEGIN:VEVENT
DTSTART;TZID=UTC:20260425T000000
DTEND;TZID=UTC:20300708T235959
DTSTAMP:20260425T193449
CREATED:20251015T215645Z
LAST-MODIFIED:20251023T091543Z
UID:10010713-1777075200-1909785599@www.knowlewest.co.uk
SUMMARY:Redcatch Community Garden
DESCRIPTION:Selling a range of vegetables\, plants and eggs as well as compost cards\, and flowers. \nOpen Daily 9.30am – 4pm (Winter) or until 4:30pm (Summer) \nPlease check our socials for daily changes – https://www.facebook.com/redcatchcommunitygarden/ \nre*********************@*****ok.com \nBringing local people together to learn\, socialise\, share skills and support physical and mental health and wellbeing.Join us for. . .\n\n\n\n\nLocal\, delicious coffee from Extract Coffee Roasters\n\n\n​Sustainably sourced and homegrown produce\n\n\nPlant shop\n\n\nPop-up food events\n\n\nAll ages workshops\n\n\nVolunteering opportunities\n\n\nArt therapy and wellbeing sessions\n\n\nEvent space hire (weddings\, parties)\n\n\n\n\n  \n 
URL:https://www.knowlewest.co.uk/whats-on/redcatch-community-garden-2-2/2026-04-25/
CATEGORIES:Adults,Families
ATTACH;FMTTYPE=application/pdf:https://www.knowlewest.co.uk/wp-content/uploads/2020/10/rcg-1.pdf
END:VEVENT
BEGIN:VEVENT
DTSTART;TZID=UTC:20260427T103000
DTEND;TZID=UTC:20260427T113000
DTSTAMP:20260425T193449
CREATED:20241113T141839Z
LAST-MODIFIED:20241113T141839Z
UID:10009063-1777285800-1777289400@www.knowlewest.co.uk
SUMMARY:Inns Court Walking group
DESCRIPTION:Mondays 10.30am.\nJoin us for a short walk\, 30-40 minutes\, around Inns Court followed by a cuppa.\nIdeal for those wanting to improve their mobility\, get a bit fitter or meet new people.\nWe meet by the playground on Inns Court Drive\, just come along\, we will be there rain or shine \nFor more details contact in**********************@***il.com
URL:https://www.knowlewest.co.uk/whats-on/inns-court-walking-group/2026-04-27/
LOCATION:Inns Court Community & Family Centre\, 1 Marshall Walk\, Bristol\, BS4 1TR\, United Kingdom
ATTACH;FMTTYPE=image/png:https://www.knowlewest.co.uk/wp-content/uploads/2024/11/Inns-Court-Walking-Group-1-1.png
ORGANIZER;CN="Inns Court Residents Group":MAILTO:innscourt.residentgroup@gmail.com
END:VEVENT
BEGIN:VEVENT
DTSTART;TZID=UTC:20260427T130000
DTEND;TZID=UTC:20260427T150000
DTSTAMP:20260425T193449
CREATED:20251007T145754Z
LAST-MODIFIED:20251007T145754Z
UID:10010269-1777294800-1777302000@www.knowlewest.co.uk
SUMMARY:Barney’s Toddler Group
DESCRIPTION:Toddler Group\nHuge variety of toys\, sensory play\, live toddler music session\, bubbles\, friends and refreshments. Children aged 0-4. Free entry and refreshments with option to make a donate.
URL:https://www.knowlewest.co.uk/whats-on/barneys-toddler-group/2026-04-27/
LOCATION:St Barnabus Church\, Daventry Road\, BS4 1DQ\, BS4 1DQ\, United Kingdom
ATTACH;FMTTYPE=image/png:https://www.knowlewest.co.uk/wp-content/uploads/2025/10/Toddler-Group-Banner-A4.png
END:VEVENT
BEGIN:VEVENT
DTSTART;TZID=UTC:20260428T093000
DTEND;TZID=UTC:20260428T110000
DTSTAMP:20260425T193449
CREATED:20240918T133935Z
LAST-MODIFIED:20240918T133935Z
UID:10007812-1777368600-1777374000@www.knowlewest.co.uk
SUMMARY:Oasis Community Hub Food Pantry
DESCRIPTION:Open to all the community serving you with affordable surplus fruit\, veg\, chilled\, frozen and store cupboard items weekly.\nWith the knowledge of our team\, we can also help you with meal ideas\, how to prepare and cook various foods and how to store. \nA yearly membership fee of £1 will occur upon joining aswell as a weekly fee of £4 for the food you take home. \nOur home is within the Oasis Community Hub at Oasis Connaught on Melvin Square. BS41NH
URL:https://www.knowlewest.co.uk/whats-on/oasis-community-hub-food-pantry/2026-04-28/
ATTACH;FMTTYPE=image/png:https://www.knowlewest.co.uk/wp-content/uploads/2024/09/Pantry.png
END:VEVENT
BEGIN:VEVENT
DTSTART;TZID=UTC:20260428T130000
DTEND;TZID=UTC:20260428T160000
DTSTAMP:20260425T193449
CREATED:20220317T144036Z
LAST-MODIFIED:20230109T113711Z
UID:10015488-1777381200-1777392000@www.knowlewest.co.uk
SUMMARY:Filwood Chase History Society
DESCRIPTION:Would you like to find out about local history? \nCome along and view our collection of scale models of local buildings (demolished or hidden from view!) old\, local maps and photographs of people and events in the area – past and present. \nWe also have history books\, finds from local digs with reports on where found eg Celtic/Roman/Medieval and locally collected fossils. \nCome and meet us and ask questions – as well as tell us of your local history news and memories. \nYou can find us at Filwood Library every Wednesday from 1-4pm. \nFor more information call 0117 908 0507 or email the Chair of Filwood Chase History Society\, Jim Smith\, at \nji*********@******co.uk \n 
URL:https://www.knowlewest.co.uk/whats-on/filwood-chase-history-society/2026-04-28/
END:VEVENT
END:VCALENDAR