BEGIN:VCALENDAR
VERSION:2.0
PRODID:-//Knowle West Community - ECPv6.15.17//NONSGML v1.0//EN
CALSCALE:GREGORIAN
METHOD:PUBLISH
X-ORIGINAL-URL:https://www.knowlewest.co.uk
X-WR-CALDESC:Events for Knowle West Community
REFRESH-INTERVAL;VALUE=DURATION:PT1H
X-Robots-Tag:noindex
X-PUBLISHED-TTL:PT1H
BEGIN:VTIMEZONE
TZID:UTC
BEGIN:STANDARD
TZOFFSETFROM:+0000
TZOFFSETTO:+0000
TZNAME:UTC
DTSTART:20240101T000000
END:STANDARD
END:VTIMEZONE
BEGIN:VEVENT
DTSTART;TZID=UTC:20250507T100000
DTEND;TZID=UTC:20250507T140000
DTSTAMP:20260422T113818
CREATED:20250414T134851Z
LAST-MODIFIED:20250415T092439Z
UID:10010200-1746612000-1746626400@www.knowlewest.co.uk
SUMMARY:Respite Day Centre Open Day
DESCRIPTION:Autumn Years Respite Centre Open Day on Wednesday 7 May at Hartcliffe City Farm offers anyone interested in attending the centre the opportunity to meet the Autumn Years support team and to see how the centre will operate in the future. The Open Day runs from 10am to 2pm. \nThe centre\, is a place where people can feel safe\, supported\, and truly valued. This centre is more than just a facility — it’s a community hub designed to enhance wellbeing\, provide meaningful engagement\, and offer much-needed respite for families and carers. \nThe centre will open on the 14 May and will run on every Wednesday throughout the year and will offer a safe and compassionate environment for anyone living with dementia or living in isolation
URL:https://www.knowlewest.co.uk/whats-on/respite-day-centre-open-day/
LOCATION:Hartcliffe City Farm\, Lampton Avenue\, Hartcliffe\, Bristol\, BS13 0QH\, United Kingdom
CATEGORIES:Carers,Health,Wellbeing
ATTACH;FMTTYPE=image/png:https://www.knowlewest.co.uk/wp-content/uploads/2025/04/image003.png
ORGANIZER;CN="Autumn Years Community Care":MAILTO:info@autumnyearscommunitycare.com
END:VEVENT
END:VCALENDAR