BEGIN:VCALENDAR
VERSION:2.0
PRODID:-//Knowle West Community - ECPv6.15.17//NONSGML v1.0//EN
CALSCALE:GREGORIAN
METHOD:PUBLISH
X-ORIGINAL-URL:https://www.knowlewest.co.uk
X-WR-CALDESC:Events for Knowle West Community
REFRESH-INTERVAL;VALUE=DURATION:PT1H
X-Robots-Tag:noindex
X-PUBLISHED-TTL:PT1H
BEGIN:VTIMEZONE
TZID:Europe/London
BEGIN:DAYLIGHT
TZOFFSETFROM:+0000
TZOFFSETTO:+0100
TZNAME:BST
DTSTART:20240331T010000
END:DAYLIGHT
BEGIN:STANDARD
TZOFFSETFROM:+0100
TZOFFSETTO:+0000
TZNAME:GMT
DTSTART:20241027T010000
END:STANDARD
BEGIN:DAYLIGHT
TZOFFSETFROM:+0000
TZOFFSETTO:+0100
TZNAME:BST
DTSTART:20250330T010000
END:DAYLIGHT
BEGIN:STANDARD
TZOFFSETFROM:+0100
TZOFFSETTO:+0000
TZNAME:GMT
DTSTART:20251026T010000
END:STANDARD
BEGIN:DAYLIGHT
TZOFFSETFROM:+0000
TZOFFSETTO:+0100
TZNAME:BST
DTSTART:20260329T010000
END:DAYLIGHT
BEGIN:STANDARD
TZOFFSETFROM:+0100
TZOFFSETTO:+0000
TZNAME:GMT
DTSTART:20261025T010000
END:STANDARD
BEGIN:DAYLIGHT
TZOFFSETFROM:+0000
TZOFFSETTO:+0100
TZNAME:BST
DTSTART:20270328T010000
END:DAYLIGHT
BEGIN:STANDARD
TZOFFSETFROM:+0100
TZOFFSETTO:+0000
TZNAME:GMT
DTSTART:20271031T010000
END:STANDARD
END:VTIMEZONE
BEGIN:VTIMEZONE
TZID:UTC
BEGIN:STANDARD
TZOFFSETFROM:+0000
TZOFFSETTO:+0000
TZNAME:UTC
DTSTART:20240101T000000
END:STANDARD
END:VTIMEZONE
BEGIN:VEVENT
DTSTART;TZID=Europe/London:20260414T110000
DTEND;TZID=Europe/London:20260414T120000
DTSTAMP:20260422T182211
CREATED:20241106T112246Z
LAST-MODIFIED:20241106T112247Z
UID:10008921-1776164400-1776168000@www.knowlewest.co.uk
SUMMARY:Goldies Sing & Smile UK
DESCRIPTION:A good old singalong\, we are not a choir. £3 donation. 2nd Tuesday each month 11am-12pm with Emma Smallwood at Inns Court Community & Family Centre\, free parking available.  \nNeed help to get there\, call Sprint Community Transport 01179 048215. \nwww.golden-oldies.org.uk\, 01761 470 006 \nPatron: Sir Cliff Richard
URL:https://www.knowlewest.co.uk/whats-on/goldies-sing-smile-uk-2/2026-04-14/
CATEGORIES:All Ages,Everyone is welcome,Music,Wellbeing
ATTACH;FMTTYPE=image/jpeg:https://www.knowlewest.co.uk/wp-content/uploads/2023/08/Golden-Oldies.jpg
END:VEVENT
BEGIN:VEVENT
DTSTART;TZID=Europe/London:20260310T110000
DTEND;TZID=Europe/London:20260310T120000
DTSTAMP:20260422T182211
CREATED:20241106T112246Z
LAST-MODIFIED:20241106T112247Z
UID:10008920-1773140400-1773144000@www.knowlewest.co.uk
SUMMARY:Goldies Sing & Smile UK
DESCRIPTION:A good old singalong\, we are not a choir. £3 donation. 2nd Tuesday each month 11am-12pm with Emma Smallwood at Inns Court Community & Family Centre\, free parking available.  \nNeed help to get there\, call Sprint Community Transport 01179 048215. \nwww.golden-oldies.org.uk\, 01761 470 006 \nPatron: Sir Cliff Richard
URL:https://www.knowlewest.co.uk/whats-on/goldies-sing-smile-uk-2/2026-03-10/
CATEGORIES:All Ages,Everyone is welcome,Music,Wellbeing
ATTACH;FMTTYPE=image/jpeg:https://www.knowlewest.co.uk/wp-content/uploads/2023/08/Golden-Oldies.jpg
END:VEVENT
BEGIN:VEVENT
DTSTART;TZID=Europe/London:20260210T110000
DTEND;TZID=Europe/London:20260210T120000
DTSTAMP:20260422T182211
CREATED:20241106T112246Z
LAST-MODIFIED:20241106T112247Z
UID:10008919-1770721200-1770724800@www.knowlewest.co.uk
SUMMARY:Goldies Sing & Smile UK
DESCRIPTION:A good old singalong\, we are not a choir. £3 donation. 2nd Tuesday each month 11am-12pm with Emma Smallwood at Inns Court Community & Family Centre\, free parking available.  \nNeed help to get there\, call Sprint Community Transport 01179 048215. \nwww.golden-oldies.org.uk\, 01761 470 006 \nPatron: Sir Cliff Richard
URL:https://www.knowlewest.co.uk/whats-on/goldies-sing-smile-uk-2/2026-02-10/
CATEGORIES:All Ages,Everyone is welcome,Music,Wellbeing
ATTACH;FMTTYPE=image/jpeg:https://www.knowlewest.co.uk/wp-content/uploads/2023/08/Golden-Oldies.jpg
END:VEVENT
BEGIN:VEVENT
DTSTART;TZID=Europe/London:20260113T110000
DTEND;TZID=Europe/London:20260113T120000
DTSTAMP:20260422T182211
CREATED:20241106T112246Z
LAST-MODIFIED:20241106T112247Z
UID:10008918-1768302000-1768305600@www.knowlewest.co.uk
SUMMARY:Goldies Sing & Smile UK
DESCRIPTION:A good old singalong\, we are not a choir. £3 donation. 2nd Tuesday each month 11am-12pm with Emma Smallwood at Inns Court Community & Family Centre\, free parking available.  \nNeed help to get there\, call Sprint Community Transport 01179 048215. \nwww.golden-oldies.org.uk\, 01761 470 006 \nPatron: Sir Cliff Richard
URL:https://www.knowlewest.co.uk/whats-on/goldies-sing-smile-uk-2/2026-01-13/
CATEGORIES:All Ages,Everyone is welcome,Music,Wellbeing
ATTACH;FMTTYPE=image/jpeg:https://www.knowlewest.co.uk/wp-content/uploads/2023/08/Golden-Oldies.jpg
END:VEVENT
BEGIN:VEVENT
DTSTART;TZID=Europe/London:20251209T110000
DTEND;TZID=Europe/London:20251209T120000
DTSTAMP:20260422T182211
CREATED:20241106T112246Z
LAST-MODIFIED:20241106T112247Z
UID:10008917-1765278000-1765281600@www.knowlewest.co.uk
SUMMARY:Goldies Sing & Smile UK
DESCRIPTION:A good old singalong\, we are not a choir. £3 donation. 2nd Tuesday each month 11am-12pm with Emma Smallwood at Inns Court Community & Family Centre\, free parking available.  \nNeed help to get there\, call Sprint Community Transport 01179 048215. \nwww.golden-oldies.org.uk\, 01761 470 006 \nPatron: Sir Cliff Richard
URL:https://www.knowlewest.co.uk/whats-on/goldies-sing-smile-uk-2/2025-12-09/
CATEGORIES:All Ages,Everyone is welcome,Music,Wellbeing
ATTACH;FMTTYPE=image/jpeg:https://www.knowlewest.co.uk/wp-content/uploads/2023/08/Golden-Oldies.jpg
END:VEVENT
BEGIN:VEVENT
DTSTART;TZID=Europe/London:20251111T110000
DTEND;TZID=Europe/London:20251111T120000
DTSTAMP:20260422T182211
CREATED:20241106T112246Z
LAST-MODIFIED:20241106T112247Z
UID:10008916-1762858800-1762862400@www.knowlewest.co.uk
SUMMARY:Goldies Sing & Smile UK
DESCRIPTION:A good old singalong\, we are not a choir. £3 donation. 2nd Tuesday each month 11am-12pm with Emma Smallwood at Inns Court Community & Family Centre\, free parking available.  \nNeed help to get there\, call Sprint Community Transport 01179 048215. \nwww.golden-oldies.org.uk\, 01761 470 006 \nPatron: Sir Cliff Richard
URL:https://www.knowlewest.co.uk/whats-on/goldies-sing-smile-uk-2/2025-11-11/
CATEGORIES:All Ages,Everyone is welcome,Music,Wellbeing
ATTACH;FMTTYPE=image/jpeg:https://www.knowlewest.co.uk/wp-content/uploads/2023/08/Golden-Oldies.jpg
END:VEVENT
BEGIN:VEVENT
DTSTART;TZID=UTC:20251025T130000
DTEND;TZID=UTC:20251025T160000
DTSTAMP:20260422T182211
CREATED:20251013T072535Z
LAST-MODIFIED:20251015T192628Z
UID:10010506-1761397200-1761408000@www.knowlewest.co.uk
SUMMARY:Community Fun Day
DESCRIPTION:Community Fun Day with free outdoor and indoor games\, crafts\, bouncy castle and delicious food.
URL:https://www.knowlewest.co.uk/whats-on/community-fun-day-2/
LOCATION:St Barnabus Church\, Daventry Road\, BS4 1DQ\, BS4 1DQ\, United Kingdom
CATEGORIES:Accessibility,All Ages,Arts & Culture,Children,Community,Day Time,Everyone is welcome,Families,Food,Free Activity,Social,Weekend
ATTACH;FMTTYPE=image/jpeg:https://www.knowlewest.co.uk/wp-content/uploads/2025/10/IMG_8918.jpeg
END:VEVENT
BEGIN:VEVENT
DTSTART;TZID=Europe/London:20251014T110000
DTEND;TZID=Europe/London:20251014T120000
DTSTAMP:20260422T182211
CREATED:20241106T112246Z
LAST-MODIFIED:20241106T112247Z
UID:10008915-1760439600-1760443200@www.knowlewest.co.uk
SUMMARY:Goldies Sing & Smile UK
DESCRIPTION:A good old singalong\, we are not a choir. £3 donation. 2nd Tuesday each month 11am-12pm with Emma Smallwood at Inns Court Community & Family Centre\, free parking available.  \nNeed help to get there\, call Sprint Community Transport 01179 048215. \nwww.golden-oldies.org.uk\, 01761 470 006 \nPatron: Sir Cliff Richard
URL:https://www.knowlewest.co.uk/whats-on/goldies-sing-smile-uk-2/2025-10-14/
CATEGORIES:All Ages,Everyone is welcome,Music,Wellbeing
ATTACH;FMTTYPE=image/jpeg:https://www.knowlewest.co.uk/wp-content/uploads/2023/08/Golden-Oldies.jpg
END:VEVENT
BEGIN:VEVENT
DTSTART;TZID=UTC:20250923T170000
DTEND;TZID=UTC:20250923T190000
DTSTAMP:20260422T182211
CREATED:20250915T121139Z
LAST-MODIFIED:20250915T121824Z
UID:10010237-1758646800-1758654000@www.knowlewest.co.uk
SUMMARY:Free meal at Filwood Community Kitchen
DESCRIPTION:Free meal at Filwood Community Kitchen\, all welcome \nTuesday 23rd September\, 5-7pm \nFilwood Community Centre\, 15-19 Filwood Broadway\, BS4 1JL \nFor any questions or dietary & access needs\, call 01179149216 or email in**@***************rg.uk
URL:https://www.knowlewest.co.uk/whats-on/free-meal-at-filwood-community-kitchen/
LOCATION:Filwood Community Centre\, Filwood Broadway\, Bristol\, BS4 1JP
CATEGORIES:All Ages,Community,Food,Social
END:VEVENT
BEGIN:VEVENT
DTSTART;TZID=UTC:20250921T110000
DTEND;TZID=UTC:20250921T124500
DTSTAMP:20260422T182211
CREATED:20250915T120202Z
LAST-MODIFIED:20250915T120202Z
UID:10010236-1758452400-1758458700@www.knowlewest.co.uk
SUMMARY:Roller Disco! 
DESCRIPTION:Roller Disco!  \nSunday 21 September\, Christ the King School\nFamily Sessions: 11am\, 12.45pm\, 2.45pm\nAdults Only: 4.30pm \nChildren £3\, adults £5\, spectators go free. Free tickets for those who need it.  \nBook tickets: https://tinyurl.com/FCC-roller-skating-Sept\nFor more info call/text/WhatsApp 07518 739186 or email su***@***************rg.uk
URL:https://www.knowlewest.co.uk/whats-on/roller-disco-2/
LOCATION:Christ the King School\, Hartcliffe Road\, BS4 1HD\, United Kingdom
CATEGORIES:Active,All Ages,Community,Everyone is welcome
ATTACH;FMTTYPE=image/png:https://www.knowlewest.co.uk/wp-content/uploads/2025/09/Rollerdisco-Sept-Digital-flyer.png
END:VEVENT
BEGIN:VEVENT
DTSTART;TZID=Europe/London:20250909T110000
DTEND;TZID=Europe/London:20250909T120000
DTSTAMP:20260422T182211
CREATED:20241106T112246Z
LAST-MODIFIED:20241106T112247Z
UID:10008914-1757415600-1757419200@www.knowlewest.co.uk
SUMMARY:Goldies Sing & Smile UK
DESCRIPTION:A good old singalong\, we are not a choir. £3 donation. 2nd Tuesday each month 11am-12pm with Emma Smallwood at Inns Court Community & Family Centre\, free parking available.  \nNeed help to get there\, call Sprint Community Transport 01179 048215. \nwww.golden-oldies.org.uk\, 01761 470 006 \nPatron: Sir Cliff Richard
URL:https://www.knowlewest.co.uk/whats-on/goldies-sing-smile-uk-2/2025-09-09/
CATEGORIES:All Ages,Everyone is welcome,Music,Wellbeing
ATTACH;FMTTYPE=image/jpeg:https://www.knowlewest.co.uk/wp-content/uploads/2023/08/Golden-Oldies.jpg
END:VEVENT
BEGIN:VEVENT
DTSTART;TZID=Europe/London:20250812T110000
DTEND;TZID=Europe/London:20250812T120000
DTSTAMP:20260422T182211
CREATED:20241106T112246Z
LAST-MODIFIED:20241106T112247Z
UID:10008913-1754996400-1755000000@www.knowlewest.co.uk
SUMMARY:Goldies Sing & Smile UK
DESCRIPTION:A good old singalong\, we are not a choir. £3 donation. 2nd Tuesday each month 11am-12pm with Emma Smallwood at Inns Court Community & Family Centre\, free parking available.  \nNeed help to get there\, call Sprint Community Transport 01179 048215. \nwww.golden-oldies.org.uk\, 01761 470 006 \nPatron: Sir Cliff Richard
URL:https://www.knowlewest.co.uk/whats-on/goldies-sing-smile-uk-2/2025-08-12/
CATEGORIES:All Ages,Everyone is welcome,Music,Wellbeing
ATTACH;FMTTYPE=image/jpeg:https://www.knowlewest.co.uk/wp-content/uploads/2023/08/Golden-Oldies.jpg
END:VEVENT
BEGIN:VEVENT
DTSTART;TZID=Europe/London:20250708T110000
DTEND;TZID=Europe/London:20250708T120000
DTSTAMP:20260422T182211
CREATED:20241106T112246Z
LAST-MODIFIED:20241106T112247Z
UID:10008912-1751972400-1751976000@www.knowlewest.co.uk
SUMMARY:Goldies Sing & Smile UK
DESCRIPTION:A good old singalong\, we are not a choir. £3 donation. 2nd Tuesday each month 11am-12pm with Emma Smallwood at Inns Court Community & Family Centre\, free parking available.  \nNeed help to get there\, call Sprint Community Transport 01179 048215. \nwww.golden-oldies.org.uk\, 01761 470 006 \nPatron: Sir Cliff Richard
URL:https://www.knowlewest.co.uk/whats-on/goldies-sing-smile-uk-2/2025-07-08/
CATEGORIES:All Ages,Everyone is welcome,Music,Wellbeing
ATTACH;FMTTYPE=image/jpeg:https://www.knowlewest.co.uk/wp-content/uploads/2023/08/Golden-Oldies.jpg
END:VEVENT
BEGIN:VEVENT
DTSTART;TZID=Europe/London:20250610T110000
DTEND;TZID=Europe/London:20250610T120000
DTSTAMP:20260422T182211
CREATED:20241106T112246Z
LAST-MODIFIED:20241106T112247Z
UID:10008911-1749553200-1749556800@www.knowlewest.co.uk
SUMMARY:Goldies Sing & Smile UK
DESCRIPTION:A good old singalong\, we are not a choir. £3 donation. 2nd Tuesday each month 11am-12pm with Emma Smallwood at Inns Court Community & Family Centre\, free parking available.  \nNeed help to get there\, call Sprint Community Transport 01179 048215. \nwww.golden-oldies.org.uk\, 01761 470 006 \nPatron: Sir Cliff Richard
URL:https://www.knowlewest.co.uk/whats-on/goldies-sing-smile-uk-2/2025-06-10/
CATEGORIES:All Ages,Everyone is welcome,Music,Wellbeing
ATTACH;FMTTYPE=image/jpeg:https://www.knowlewest.co.uk/wp-content/uploads/2023/08/Golden-Oldies.jpg
END:VEVENT
BEGIN:VEVENT
DTSTART;TZID=Europe/London:20250525T103000
DTEND;TZID=Europe/London:20250525T123000
DTSTAMP:20260422T182211
CREATED:20230823T121049Z
LAST-MODIFIED:20230823T121049Z
UID:10001751-1748169000-1748176200@www.knowlewest.co.uk
SUMMARY:Sunday Worship\, Salvation Army
DESCRIPTION:
URL:https://www.knowlewest.co.uk/whats-on/sunday-worship-salvation-army/2025-05-25/
CATEGORIES:All Ages,Everyone is welcome
ATTACH;FMTTYPE=:
END:VEVENT
BEGIN:VEVENT
DTSTART;TZID=Europe/London:20250525T103000
DTEND;TZID=Europe/London:20250525T123000
DTSTAMP:20260422T182211
CREATED:20230724T155325Z
LAST-MODIFIED:20230724T160247Z
UID:10001565-1748169000-1748176200@www.knowlewest.co.uk
SUMMARY:Messy Church
DESCRIPTION:Dates vary – checkout our Facebook page for more info – Bristol South Salvation Army\nWhat is Messy Church?\n\n\nIt’s church\, but not as you know it. Every month thousands of people of all ages come together to discover Jesus\, including those who’ve never been to church before. In over 30 countries around the world\, we eat\, play and worship together. Expect activities\, songs and prayers and an entirely new way to express your faith.\n\n\n“Messy Church is an all-age fresh expression of church that offers counter-cultural transformation of family life through families coming together to be\, to make\, to eat and to celebrate God.”
URL:https://www.knowlewest.co.uk/whats-on/messy-church/2025-05-25/
CATEGORIES:All Ages,Everyone is welcome
ATTACH;FMTTYPE=:
END:VEVENT
BEGIN:VEVENT
DTSTART;TZID=Europe/London:20250525T040000
DTEND;TZID=Europe/London:20250525T170000
DTSTAMP:20260422T182211
CREATED:20240525T135705Z
LAST-MODIFIED:20240525T135705Z
UID:10006621-1748145600-1748192400@www.knowlewest.co.uk
SUMMARY:Karate Club (5+)
DESCRIPTION:About this event: Shukokai karate for Ages 5+ \nWhen: Wednesday 6-7 pm and Sunday 4-5pm. \nWhere: Sports Hall\, Filwood Community Centre\, Barnstaple Road\, Knowle West\, Bristol\, BS4 1JP \nPrice: Ask for details \nMore information: Email in**@***************rg.uk or call Val 0749 592 9659
URL:https://www.knowlewest.co.uk/whats-on/karate-club-5/2025-05-25/
CATEGORIES:All Ages,Everyone is welcome,Wellbeing
ATTACH;FMTTYPE=:
END:VEVENT
BEGIN:VEVENT
DTSTART;TZID=UTC:20250523T133000
DTEND;TZID=UTC:20250523T150000
DTSTAMP:20260422T182211
CREATED:20230111T095001Z
LAST-MODIFIED:20251015T213418Z
UID:10001136-1748007000-1748012400@www.knowlewest.co.uk
SUMMARY:Food Club
DESCRIPTION:Family Action has launched Food On Our Doorstep (FOOD) clubs in Bristol and the SW to provide families with good-quality food at a low cost\, while also reducing food waste.\nIt costs just £1 a year for your family to become a member. Once you’ve joined\, you can purchase a bag of tasty food items for just £3.50 every week (worth approximately £15).\nTo become a member you must live or work within 15 minutes of the club. \nInns Court Community Centre\, Marshall Walk\, Knowle\, BS4 1TR\nFriday 1.30-3pm \nTo find out more\, please email\nbr**************@***************rg.uk
URL:https://www.knowlewest.co.uk/whats-on/food-club/2025-05-23/
CATEGORIES:All Ages,Day Time,Families,Social Action,Wellbeing
ATTACH;FMTTYPE=:
END:VEVENT
BEGIN:VEVENT
DTSTART;TZID=Europe/London:20250523T100000
DTEND;TZID=Europe/London:20250523T120000
DTSTAMP:20260422T182211
CREATED:20230824T180817Z
LAST-MODIFIED:20230824T180817Z
UID:10006895-1747994400-1748001600@www.knowlewest.co.uk
SUMMARY:Guitar Club
DESCRIPTION:At Filwood Community Centre\, Barnstaple Road\, Knowle West\, Bristol\, BS4 1JP \nFriday 11am-midday: Jam\, chat and chill for guitarists of all levels. \nCall Patrick (Pat) 0747 047 2742
URL:https://www.knowlewest.co.uk/whats-on/guitar-club/2025-05-23/
CATEGORIES:All Ages,Everyone is welcome,Music
END:VEVENT
BEGIN:VEVENT
DTSTART;TZID=Europe/London:20250521T191500
DTEND;TZID=Europe/London:20250521T201500
DTSTAMP:20260422T182211
CREATED:20230724T152347Z
LAST-MODIFIED:20230724T153448Z
UID:10005281-1747854900-1747858500@www.knowlewest.co.uk
SUMMARY:Band Practice\, Salvation Army
DESCRIPTION:If you can play a brass instrument you are welcome to join us.\nSee flyer for details.
URL:https://www.knowlewest.co.uk/whats-on/band-practice-salvation-army/2025-05-21/
CATEGORIES:All Ages,Evening,Everyone is welcome,Music
ATTACH;FMTTYPE=:
END:VEVENT
BEGIN:VEVENT
DTSTART;TZID=Europe/London:20250521T180000
DTEND;TZID=Europe/London:20250521T190000
DTSTAMP:20260422T182211
CREATED:20230824T164605Z
LAST-MODIFIED:20230824T180414Z
UID:10006439-1747850400-1747854000@www.knowlewest.co.uk
SUMMARY:Everybody Dance Now
DESCRIPTION:About this event: A dance and craft workshops for all ages.​ The workshops are for people of all ages\, backgrounds and abilities\, and we are aiming to create a fun\, mixed social group\, in the true spirit of carnivals around the world.​\n\n\nWhen: Wednesday 6-7 pm. Term Time only.  \nWhere: Sports Hall\, Filwood Community Centre\, Barnstaple Road\, Knowle West\, Bristol\, BS4 1JP \nPrice: Free \nMore information: Email su***@***************rg.uk
URL:https://www.knowlewest.co.uk/whats-on/everybody-dance-now/2025-05-21/
CATEGORIES:All Ages,Everyone is welcome,Wellbeing
ATTACH;FMTTYPE=:
END:VEVENT
BEGIN:VEVENT
DTSTART;TZID=Europe/London:20250521T160000
DTEND;TZID=Europe/London:20250521T190000
DTSTAMP:20260422T182211
CREATED:20230824T164933Z
LAST-MODIFIED:20230824T191315Z
UID:10006530-1747843200-1747854000@www.knowlewest.co.uk
SUMMARY:Karate Club (5+)
DESCRIPTION:About this event: Shukokai karate for Ages 5+ \nWhen: Wednesday 6-7 pm and Sunday 4-5pm. \nWhere: Sports Hall\, Filwood Community Centre\, Barnstaple Road\, Knowle West\, Bristol\, BS4 1JP \nPrice: Ask for details \nMore information: Email in**@***************rg.uk or call Val 0749 592 9659
URL:https://www.knowlewest.co.uk/whats-on/karate-club-5/2025-05-21/
CATEGORIES:All Ages,Evening,Everyone is welcome,Wellbeing
ATTACH;FMTTYPE=:
END:VEVENT
BEGIN:VEVENT
DTSTART;TZID=Europe/London:20250521T110000
DTEND;TZID=Europe/London:20250521T120000
DTSTAMP:20260422T182211
CREATED:20230831T093504Z
LAST-MODIFIED:20230831T102412Z
UID:10003426-1747825200-1747828800@www.knowlewest.co.uk
SUMMARY:Move Together Strength & Balance
DESCRIPTION:A fun\, social session that uses gentle seated and standing exercises to strengthen the body and mind. \n£4 per session.
URL:https://www.knowlewest.co.uk/whats-on/move-together-strength-balance/2025-05-21/
CATEGORIES:All Ages,Everyone is welcome,Wellbeing
ATTACH;FMTTYPE=:
END:VEVENT
BEGIN:VEVENT
DTSTART;TZID=Europe/London:20250520T103000
DTEND;TZID=Europe/London:20250520T121500
DTSTAMP:20260422T182211
CREATED:20230810T160947Z
LAST-MODIFIED:20230810T160947Z
UID:10001680-1747737000-1747743300@www.knowlewest.co.uk
SUMMARY:Singing for the Brain
DESCRIPTION:Tuesday mornings\, 10.30-12.15pm at Bristol Community Links South Centre in Inns Court. It’s a great activity for people affected by dementia and is a really good way to meet others who are also affected.
URL:https://www.knowlewest.co.uk/whats-on/singing-for-the-brain/2025-05-20/
CATEGORIES:All Ages,Everyone is welcome,Wellbeing
END:VEVENT
BEGIN:VEVENT
DTSTART;TZID=Europe/London:20250520T090000
DTEND;TZID=Europe/London:20250520T113000
DTSTAMP:20260422T182211
CREATED:20230720T222755Z
LAST-MODIFIED:20251015T212448Z
UID:10004993-1747731600-1747740600@www.knowlewest.co.uk
SUMMARY:The Novers - Welcome Space
DESCRIPTION:Drop-in\, eat\, connect. FREE cuppa & light bite. Tuesdays 9-11:30am. Low cost café menu also available. \nThis club was built by the community for the community and what it stands for\, to provide for the great community of Knowle\, Bristol. This club has been running for 60+ Years now and is still standing tall. \nThe Club is a Community Centre and a Social Club where all are welcome. (Membership fee applicable for the social club) \nLots of activities\, events and entertainment. Follow us on Facebook or pop in for more details.
URL:https://www.knowlewest.co.uk/whats-on/the-novers-welcome-space/2025-05-20/
CATEGORIES:All Ages,Day Time,Evening,Everyone is welcome,Families,Food,Free Activity
ATTACH;FMTTYPE=:
END:VEVENT
BEGIN:VEVENT
DTSTART;TZID=Europe/London:20250519T120000
DTEND;TZID=Europe/London:20250519T140000
DTSTAMP:20260422T182211
CREATED:20230720T215230Z
LAST-MODIFIED:20251015T212815Z
UID:10004640-1747656000-1747663200@www.knowlewest.co.uk
SUMMARY:Knowle Methodist Church - Welcome Space
DESCRIPTION:Our Welcome Space is open 11am-2pm every Monday except for Bank Holidays. Come for company\, activities\, a cup of tea and a chat\, and delicious home made soup at lunchtime. Pay-as-you-feel basis. \n\n\n\n  \nLots more on offer\, see website for full details:  \nPrayer and a time of quiet Wednesday 10.30am – 12 drop in.  \nToddlers group Thursday during term time 9.45 – 11am.   \nSaturday mornings for tea and coffee drop in 10.30 am – 12.  \nSmall groups so we can enjoy conversation and learning together. Monday mornings\, Monday evenings and Tuesday mornings\, and on zoom on Thursday afternoons.   \nWives Group meets twice a month on Tuesday afternoons at 2.30pm with a variety of speakers and activities and of course a cup of tea! Do come and join this lively group of mostly older women from the local community.  \nChurch Choir meets on Thursday evenings at 8pm and welcomes new members of all ages.  \n50/50 social group which meets on the first Sunday of the month at 7.30pm. All welcome.  \n  \nOTHER GROUPS WHICH USE OUR PREMISES:  \nThe Redeemed Christian Church of God – meets in the Church Hall on Sunday afternoons.   \nQigong Tai Chi\, Monday 17.30-18.30  \nU3A (University of the Third Age)\, 2nd Tuesday of each month 10.00 -12.00  \nThe Great Day Choir\, Tuesday morning 10.00 -11:30   \nArnos Vocale Choir\, Tuesday 19.30-21.00  \nU3A Choir\, second Wednesday of each month 10.00-12.00  \nKnowle Women’s Institute\, first Wednesday of each month 13.00-16.00  \nGurt Lush Choir\, Thursday 17.30-19.30  \nThe Singing Tree\, Friday 10.00-11.00\, music and singing for pre-school children  \n   
URL:https://www.knowlewest.co.uk/whats-on/knowle-methodist-church-welcome-space/2025-05-19/
CATEGORIES:All Ages,Day Time,Everyone is welcome,Food,Free Activity
ATTACH;FMTTYPE=:
END:VEVENT
BEGIN:VEVENT
DTSTART;TZID=Europe/London:20250519T110000
DTEND;TZID=Europe/London:20250519T130000
DTSTAMP:20260422T182211
CREATED:20230724T150558Z
LAST-MODIFIED:20230724T151130Z
UID:10005185-1747652400-1747659600@www.knowlewest.co.uk
SUMMARY:Salvation Army - Welcome Space
DESCRIPTION:See flyer attached for details. Amendment – opening times are now 11am – 1pm \nOur weekly standard schedule is pictured. Follow us on Facebook for more events and activities – Bristol South Salvation Army \n 
URL:https://www.knowlewest.co.uk/whats-on/salvation-army/2025-05-19/
CATEGORIES:All Ages,Day Time,Evening,Everyone is welcome,Free Activity,South Bristol parents,Weekend,Young People
ATTACH;FMTTYPE=:
END:VEVENT
BEGIN:VEVENT
DTSTART;TZID=Europe/London:20250519T100000
DTEND;TZID=Europe/London:20250519T180000
DTSTAMP:20260422T182211
CREATED:20230824T163358Z
LAST-MODIFIED:20230824T181111Z
UID:10005985-1747648800-1747677600@www.knowlewest.co.uk
SUMMARY:Slimming World
DESCRIPTION:About this event: Slimming World is a weight loss plan like no other. Millions have reached their dream weight with our generous no-hunger eating plan. Add an activity programme that starts when the time’s right for you\, plus unbeatable support\, and you’ll soon discover the Slimming World difference.\n\n\n\nWhen: Mondays 10am\, 5pm and 6.30pm \nWhere: Sports Hall\, Filwood Community Centre\, Knowle\, Bristol\, BS4 1JP \nPrice: Ask for details\, telephone Sarah 07879 443888
URL:https://www.knowlewest.co.uk/whats-on/slimming-world/2025-05-19/
CATEGORIES:All Ages,Food,Wellbeing
ATTACH;FMTTYPE=:
END:VEVENT
BEGIN:VEVENT
DTSTART;TZID=Europe/London:20250518T103000
DTEND;TZID=Europe/London:20250518T123000
DTSTAMP:20260422T182211
CREATED:20230823T121049Z
LAST-MODIFIED:20230823T121049Z
UID:10001750-1747564200-1747571400@www.knowlewest.co.uk
SUMMARY:Sunday Worship\, Salvation Army
DESCRIPTION:
URL:https://www.knowlewest.co.uk/whats-on/sunday-worship-salvation-army/2025-05-18/
CATEGORIES:All Ages,Everyone is welcome
ATTACH;FMTTYPE=:
END:VEVENT
BEGIN:VEVENT
DTSTART;TZID=Europe/London:20250518T103000
DTEND;TZID=Europe/London:20250518T123000
DTSTAMP:20260422T182211
CREATED:20230724T155325Z
LAST-MODIFIED:20230724T160247Z
UID:10001564-1747564200-1747571400@www.knowlewest.co.uk
SUMMARY:Messy Church
DESCRIPTION:Dates vary – checkout our Facebook page for more info – Bristol South Salvation Army\nWhat is Messy Church?\n\n\nIt’s church\, but not as you know it. Every month thousands of people of all ages come together to discover Jesus\, including those who’ve never been to church before. In over 30 countries around the world\, we eat\, play and worship together. Expect activities\, songs and prayers and an entirely new way to express your faith.\n\n\n“Messy Church is an all-age fresh expression of church that offers counter-cultural transformation of family life through families coming together to be\, to make\, to eat and to celebrate God.”
URL:https://www.knowlewest.co.uk/whats-on/messy-church/2025-05-18/
CATEGORIES:All Ages,Everyone is welcome
ATTACH;FMTTYPE=:
END:VEVENT
END:VCALENDAR